BEGIN:VCALENDAR
VERSION:2.0
PRODID:-//wp-events-plugin.com//7.2.3.1//EN
BEGIN:VEVENT
UID:2571@x8ti.com
DTSTART;TZID=Africa/Cairo:20261214T090000
DTEND;TZID=Africa/Cairo:20261218T130000
DTSTAMP:20260201T175131Z
URL:https://x8ti.com/event/virtual-collaboration-and-digital-leadership-tr
 aining-course-5/
SUMMARY:Virtual Collaboration and Digital Leadership Training Course
DESCRIPTION:Introduction\nLeadership in today’s digital age requires not 
 only a mastery of traditional leadership skills but also proficiency in vi
 rtual collaboration tools and strategies. With the rise of remote and hybr
 id work models\, leaders must adapt to managing teams across multiple digi
 tal platforms\, ensuring productivity\, communication\, and engagement. Th
 is 5-day Virtual Collaboration and Digital Leadership Training Course by X
 celerate Training Institute will equip leaders with the necessary skills a
 nd knowledge to navigate the digital workspace\, using advanced collaborat
 ion tools\, communication strategies\, and leadership principles tailored 
 to virtual environments. By the end of this course\, participants will hav
 e the skills to drive team success\, enhance collaboration\, and lead with
  confidence in a digital-first world.\nLearning Objectives\nBy the end of 
 this Xcelerate Training Institute course\, participants will:\n\n 	Underst
 and the dynamics and challenges of virtual collaboration in remote and hyb
 rid teams.\n 	Learn proven digital leadership strategies for managing virt
 ual teams effectively.\n 	Master the use of collaboration tools to increas
 e team productivity and communication.\n 	Develop skills for building trus
 t\, engagement\, and cohesion in remote teams.\n 	Gain the confidence to l
 ead digital teams\, ensuring high performance and engagement.\n\nTraining 
 Methodologies\nThis Xcelerate Training Institute Training Course will util
 ize a blend of interactive learning techniques:\n\n 	Tool Demonstrations: 
 Hands-on sessions where participants will explore and practice using virtu
 al collaboration tools such as Slack\, Microsoft Teams\, and Zoom.\n 	Lead
 ership Case Studies: In-depth analysis of leadership challenges in virtual
  teams\, with real-world examples of successful remote leadership strategi
 es.\n 	Practical Exercises: Group activities designed to apply digital lea
 dership techniques and solve common challenges in managing remote teams.\n
  	Peer Learning: Group discussions and feedback sessions to foster collabo
 rative learning and idea exchange.\n 	Role-playing Activities: Simulating 
 real-life scenarios where participants practice leading digital teams and 
 making key leadership decisions.\n\nBenefits for You\n\n 	Develop digital 
 leadership competencies that are essential for today’s remote and hybrid
  workplaces.\n 	Strengthen your team-building and communication skills in 
 virtual settings\, enabling you to manage diverse\, dispersed teams.\n 	Bu
 ild confidence in using virtual collaboration tools to enhance productivit
 y\, performance\, and team dynamics.\n 	Increase your ability to engage an
 d motivate remote teams through clear communication\, trust-building\, and
  effective leadership strategies.\n 	Enhance your career prospects by mast
 ering digital leadership in a rapidly evolving workplace environment.\n\nB
 enefits for Your Organization\n\n 	Increase team productivity and engageme
 nt by implementing efficient digital collaboration strategies.\n 	Strength
 en communication and reduce misunderstandings in remote work environments\
 , leading to smoother team operations.\n 	Foster trust and cohesion within
  teams\, ensuring better collaboration and problem-solving.\n 	Streamline 
 management processes\, improve project timelines\, and enhance overall org
 anizational efficiency.\n 	Empower teams to be more self-sufficient\, reso
 urceful\, and agile in a digital-first workplace.\n\nTarget Audience\nThis
  Xcelerate Training Institute Training Course is ideal for:\n\n 	Managers 
 and Team Leaders seeking to improve their ability to lead remote and hybri
 d teams effectively.\n 	HR Professionals and Organizational Development Sp
 ecialists who are responsible for supporting the transition to remote or h
 ybrid work models.\n 	Professionals transitioning to remote or hybrid role
 s and looking to develop leadership skills suitable for virtual environmen
 ts.\n 	Business Owners or Entrepreneurs who are managing virtual teams and
  looking to enhance team performance.\n\nCourse Outlines\nFundamentals of 
 Virtual Collaboration\n\n 	Introduction to Virtual Collaboration: Understa
 nding the key concepts of remote and hybrid work\, including the challenge
 s and opportunities.\n 	The Virtual Collaboration Landscape: Overview of t
 ools and technologies that enable virtual collaboration—communication pl
 atforms\, file sharing\, and project management tools.\n 	Building a Digit
 al Mindset: How to shift from traditional leadership approaches to leading
  in virtual and hybrid environments.\n 	Best Practices for Virtual Teams: 
 Strategies for successful team communication\, engagement\, and productivi
 ty.\n 	Interactive Workshop: Participants will explore virtual collaborati
 on tools like Microsoft Teams\, Slack\, and Zoom\, and learn how to set up
  and use these tools effectively for team communication.\n\nTools for Remo
 te Team Management\n\n 	Collaboration Tools Overview: A deep dive into the
  tools used to manage remote teams\, including project management software
  (Asana\, Trello)\, communication tools (Slack\, Microsoft Teams)\, and pr
 oductivity platforms (Google Workspace).\n 	Choosing the Right Tools: How 
 to select the most effective tools based on team needs and project complex
 ity.\n 	Scheduling and Managing Remote Meetings: Best practices for managi
 ng virtual meetings\, including how to keep meetings productive\, engaging
 \, and efficient.\n 	Tool Integration: How to integrate tools into your ex
 isting workflows to streamline collaboration and ensure seamless team comm
 unication.\n 	Hands-On Exercise: Participants will set up a remote project
 \, assign tasks\, and schedule meetings using collaboration tools.\n\nDigi
 tal Leadership Principles\n\n 	The Role of a Digital Leader: Key principle
 s of digital leadership\, including agility\, transparency\, and emotional
  intelligence in a virtual setting.\n 	Leadership Styles for Remote Teams:
  How to adapt leadership styles to remote and hybrid teams\, balancing aut
 onomy and support.\n 	Building Engagement and Trust: Strategies for keepin
 g remote teams engaged and building trust without face-to-face interaction
 s.\n 	Decision Making in Digital Leadership: How digital tools can help le
 aders make data-driven decisions and provide real-time feedback to their t
 eams.\n 	Group Discussion: Leadership challenges in virtual environments
 —how do you lead when your team is scattered across different locations 
 and time zones?\n\nEnhancing Team Communication in Virtual Settings\n\n 	C
 ommunication Tools and Techniques: How to use digital communication tools 
 effectively to ensure clear\, consistent communication across teams.\n 	Ov
 ercoming Communication Barriers: Strategies to prevent misunderstandings a
 nd miscommunication in remote teams.\n 	Creating a Culture of Open Communi
 cation: How to encourage feedback\, open dialogue\, and a sense of communi
 ty among remote workers.\n 	Managing Virtual Conflict: Techniques for hand
 ling disputes and challenges that arise in virtual teams\, and how to reso
 lve conflicts constructively.\n 	Practical Exercise: Participants will sim
 ulate a virtual team meeting to practice clear communication\, conflict re
 solution\, and feedback techniques.\n\nBuilding Trust in Remote Teams &amp
 \; Leading Digital Teams\n\n 	The Importance of Trust in Virtual Teams: Ho
 w to build\, maintain\, and repair trust in a digital environment.\n 	Digi
 tal Leadership Challenges and Solutions: Real-world challenges faced by re
 mote leaders and the best practices to overcome them.\n 	Practical Worksho
 p: Leading Digital Teams: Participants will work in groups to develop a le
 adership plan for managing a remote team project\, incorporating all the s
 kills and strategies learned during the course.\n 	Final Assessment and Fe
 edback: Recap of key learning's\, followed by a group discussion and feedb
 ack session. Participants will create a personal action plan for leading d
 igital teams.\n\nBranding and Copyright Notice\nXcelerate Training Institu
 te is committed to delivering cutting-edge training solutions designed to 
 empower professionals in today’s dynamic business environment. Our train
 ing programs are designed by industry experts to provide hands-on learning
  experiences that equip participants with the tools they need to succeed i
 n a digital-first world.\n\nCopyright 2024 © Xcelerate Training Institute
 . All rights reserved.\nNo part of this training material may be reproduce
 d\, stored in a retrieval system\, or transmitted in any form or by any me
 ans—electronic\, mechanical\, photocopying\, recording\, or otherwise—
 without the prior written permission of Xcelerate Training Institute.\n\n&
 nbsp\;
ATTACH;FMTTYPE=image/jpeg:https://x8ti.com/wp-content/uploads/2025/04/IMG-
 20250331-WA0064.jpg
CATEGORIES:Trending
LOCATION:Cairo Training Courses\, Kempinski Nile Hotel Garden City Cairo\, 
 Cairo\, Egypt\, Egypt
X-APPLE-STRUCTURED-LOCATION;VALUE=URI;X-ADDRESS=Kempinski Nile Hotel Garden
  City Cairo\, Cairo\, Egypt\, Egypt;X-APPLE-RADIUS=100;X-TITLE=Cairo Train
 ing Courses:geo:0,0
END:VEVENT
BEGIN:VTIMEZONE
TZID:Africa/Cairo
X-LIC-LOCATION:Africa/Cairo
BEGIN:STANDARD
DTSTART:20251214T090000
TZOFFSETFROM:+0200
TZOFFSETTO:+0200
TZNAME:EET
END:STANDARD
END:VTIMEZONE
END:VCALENDAR