BEGIN:VCALENDAR
VERSION:2.0
PRODID:-//wp-events-plugin.com//7.2.3.1//EN
BEGIN:VEVENT
UID:2566@x8ti.com
DTSTART;TZID=Asia/Dubai:20261214T090000
DTEND;TZID=Asia/Dubai:20261218T130000
DTSTAMP:20260201T182342Z
URL:https://x8ti.com/event/using-ai-for-customer-experience-optimization-t
 raining-course-11/
SUMMARY:Using AI for Customer Experience Optimization Training Course
DESCRIPTION:Introduction\nArtificial Intelligence (AI) is transforming the 
 way businesses interact with their customers. AI technologies empower orga
 nizations to offer personalized services\, automate routine tasks\, and an
 ticipate customer needs\, ultimately enhancing customer satisfaction and l
 oyalty. This Xcelerate Training Institute training course explores the wid
 e array of AI tools and techniques available for customer experience manag
 ement\, from personalized service delivery to data-driven engagement strat
 egies. By understanding how to leverage AI\, participants will be equipped
  to optimize customer experiences\, streamline service operations\, and dr
 ive customer retention.\nLearning Objectives\nBy the end of this Xcelerate
  Training Institute course\, participants will:\n\n 	Gain a solid understa
 nding of AI applications in customer experience management.\n 	Learn how t
 o implement AI tools for personalized service delivery\, enhancing custome
 r satisfaction.\n 	Develop data-driven strategies to engage customers and 
 predict their needs.\n 	Understand the role of customer feedback analysis 
 through AI to optimize the customer journey.\n 	Learn how to use AI tools 
 to improve customer service operations and strategic decision-making.\n\nT
 raining Methodologies\nThe Xcelerate Training Institute course will employ
  a mix of interactive learning methods\, including:\n\n 	Case Studies: Rea
 l-world examples of successful AI implementations in customer experience m
 anagement across industries.\n 	Hands-On Activities: Practical sessions us
 ing AI tools for customer engagement and journey optimization.\n 	Group Di
 scussions: Collaborative brainstorming on optimizing the customer journey 
 and leveraging AI for customer insights.\n 	Expert Insights: Learning from
  industry professionals about best practices and emerging trends in AI-pow
 ered customer experience management.\n 	Workshops: Focused sessions where 
 participants can apply their knowledge to solve specific customer experien
 ce challenges.\n\nBenefits for You\n\n 	Enhance your ability to engage cus
 tomers through personalized\, AI-driven experiences.\n 	Build confidence i
 n using advanced AI tools to enhance customer interactions and satisfactio
 n.\n 	Gain practical knowledge that will boost your career in customer exp
 erience management\, marketing\, and sales.\n 	Stay ahead of industry tren
 ds by mastering AI-driven customer engagement strategies.\n\nBenefits for 
 Your Organization\n\n 	Increase customer satisfaction by offering more per
 sonalized and responsive service.\n 	Improve operational efficiency by aut
 omating routine customer service tasks and processes.\n 	Use AI to analyze
  customer behavior\, leading to better insights and more informed strategi
 c decisions.\n 	Foster customer loyalty through data-driven personalizatio
 n\, creating deeper\, long-lasting relationships.\n 	Enhance team capabili
 ties by equipping employees with AI tools for customer experience optimiza
 tion.\n\nTarget Audience\nThis Xcelerate Training Institute course is idea
 l for:\n\n 	Customer Service Professionals looking to enhance their skills
  in using AI for improved service delivery and customer engagement.\n 	Sal
 es and Marketing Teams wanting to leverage AI to better understand and eng
 age customers.\n 	Individuals interested in advancing their knowledge of A
 I tools for customer experience management\, enhancing their professional 
 skill set in today’s AI-driven market.\n 	Customer Experience Managers a
 iming to implement AI tools to streamline operations and drive customer lo
 yalty.\n\nCourse Outlines\nAI Basics for Customer Experience\n\n 	Introduc
 tion to AI in Customer Experience: Understanding how AI is shaping modern 
 customer service\, marketing\, and sales strategies.\n 	Overview of AI Too
 ls: Introduction to key AI technologies such as chat bots\, recommendation
  systems\, predictive analytics\, and natural language processing (NLP).\n
  	Customer-Centric AI Strategies: How AI can be used to better understand 
 customer needs and enhance their overall experience.\n 	Setting Expectatio
 ns: Understanding the potential and limitations of AI in customer experien
 ce optimization.\n\nTools for Personalizing Customer Interactions\n\n 	AI-
 Powered Personalization: How AI tools help create tailored experiences for
  customers (e.g.\, recommendation systems\, chat bots\, and dynamic conten
 t personalization).\n 	Using AI in Customer Service: Implementing AI to au
 tomate responses\, enhance service quality\, and reduce response times.\n 
 	Customer Data and AI Integration: Connecting customer data with AI tools 
 for more precise and relevant interactions.\n 	Hands-On Workshop: Particip
 ants will learn to use AI-powered tools like chat bots and customer recomm
 endation engines to provide personalized services.\n\nData-Driven Customer
  Engagement Strategies\n\n 	Understanding Customer Data: How data from cus
 tomer interactions\, social media\, and feedback can inform AI-powered str
 ategies.\n 	AI for Predictive Analytics: Using AI to predict customer beha
 vior\, preferences\, and trends.\n 	Building AI Models for Engagement: How
  to use machine learning to create AI models that drive customer engagemen
 t based on data insights.\n 	Workshop: Designing a Data-Driven Engagement 
 Plan: Participants will use real-world data to create a predictive engagem
 ent strategy using AI tools.\n\nAnalyzing Customer Feedback with AI\n\n 	A
 I in Customer Sentiment Analysis: How AI tools can analyze customer feedba
 ck from various sources like surveys\, reviews\, and social media.\n 	Natu
 ral Language Processing (NLP) in Action: Using NLP to understand and inter
 pret customer emotions and opinions.\n 	AI-Driven Feedback Loops: How AI s
 ystems can continuously improve customer service by learning from customer
  feedback.\n 	Workshop: Analyzing Customer Feedback: Practical session whe
 re participants will analyze customer feedback using AI-powered sentiment 
 analysis tools.\n\nCase Studies and Practical Application\n\n 	Case Studie
 s of Successful AI Implementations: Exploring examples from leading compan
 ies in industries like retail\, hospitality\, and technology that have suc
 cessfully integrated AI into their customer experience strategies.\n 	Opti
 mizing the Customer Journey with AI: How to use AI to map and optimize eve
 ry stage of the customer journey\, from awareness to post-purchase.\n 	Pra
 ctical Workshop: Optimizing the Customer Journey: A hands-on session where
  participants will apply AI tools to optimize a customer journey for a hyp
 othetical business or scenario.\n 	Review and Final Assessment: Recap of k
 ey concepts\, followed by a group discussion and final feedback session to
  solidify learning.\n\nBranding and Copyright Notice\nXcelerate Training I
 nstitute is a leading provider of cutting-edge professional development tr
 aining programs. We empower individuals and organizations to stay ahead of
  the curve by offering hands-on\, interactive learning experiences designe
 d to enhance critical skills in an ever-evolving business landscape. Our c
 ommitment to excellence ensures that every participant receives the knowle
 dge and tools necessary to succeed in today’s fast-paced\, AI-driven wor
 ld.\n\nCopyright 2024 © Xcelerate Training Institute. All rights reserved
 .\nNo part of this training material may be reproduced\, stored in a retri
 eval system\, or transmitted in any form or by any means—electronic\, me
 chanical\, photocopying\, recording\, or otherwise—without the prior wri
 tten permission of Xcelerate Training Institute.\n\n&nbsp\;
ATTACH;FMTTYPE=image/jpeg:https://x8ti.com/wp-content/uploads/2025/04/IMG-
 20250331-WA0069.jpg
CATEGORIES:Trending
LOCATION:http://online
END:VEVENT
BEGIN:VTIMEZONE
TZID:Asia/Dubai
X-LIC-LOCATION:Asia/Dubai
BEGIN:STANDARD
DTSTART:20251214T090000
TZOFFSETFROM:+0400
TZOFFSETTO:+0400
TZNAME:+04
END:STANDARD
END:VTIMEZONE
END:VCALENDAR