BEGIN:VCALENDAR
VERSION:2.0
PRODID:-//wp-events-plugin.com//7.2.3.1//EN
BEGIN:VEVENT
UID:613@x8ti.com
DTSTART;TZID=Africa/Cairo:20260511T090000
DTEND;TZID=Africa/Cairo:20260515T130000
DTSTAMP:20260215T162214Z
URL:https://x8ti.com/event/structural-steel-design-2/
SUMMARY:Structural Steel Design
DESCRIPTION:Introduction\n\nBridges\, buildings\, industrial warehouses\, h
 igh-rise towers\, and other numerous structures utilize steel in their des
 ign and construction to ensure maximum strength and withstanding the exter
 nal structural forces. Steel is the only viable option in constructing the
 se structures apart from reinforced concrete for various reasons\, includi
 ng high stiffness levels\, high strength\, toughness\, resistance to force
 \, and ductility. It is also relatively less heavy and has a high speed of
  construction with a very competitive low cost as compared to other materi
 als. In other regions of the world\, it is the favorite construction mater
 ial superseding reinforced concrete because of its easy use when erecting 
 temporary structures.\n\nWith all these benefits and impressions\, steel d
 esign is a crucial course that applies in numerous industries with high-de
 mand skills. This Xcelerate Training Institute course will give the partic
 ipants the required skills to design the commonly used designs based on th
 e AISC\, BS\, ASD (allowable stress design)\, and the EC3. The participant
 s will be able to design all the steel elements’ structures and all the 
 connections.\n\nThis Xcelerate Training Institute course will highlight bo
 lt designs\, welded connections that will be used in steel structures\, co
 mpression\, and tension members design\, batten plates\, lacing systems\, 
 beams design\, bases design when to use steel\, lateral restraint\, combin
 ed axial and bending resistance\, stress\, and strain yield strength level
 s\, how steel fails\, shear resistance\, bending\, and axial resistance.\n
 \nThe knowledge and skills gained from this course can be applied to vario
 us fields that use steel structures\, but it can be of more interest to th
 e petroleum industry because there is a continuous modification of structu
 res in the facilities located on-shore to enable the structures to handle 
 more load for more machine holding. Due to this\, this course is considere
 d crucial for integrity management in this kind of change.\n\nLearning Obj
 ectives\n\nThe main objectives of this course are to enable participants t
 o be able to:\n\n 	Gather the experience and skills needed to design high-
 quality steel structures\n 	Have a better understanding of the modern tool
 s and techniques for risk-based inspection for a better maintenance plan\n
  	Have a deep knowledge of the design of steel structures on machines\n 	U
 nderstand well load application on steel structure and how to deal with te
 nsion and compression stress\n 	Be intimately familiar with pipe rack desi
 gn\n 	Get to use modern methods and techniques in the steel structure desi
 gn\n\nTraining Methodology\n\nXcelerate Training Institute Talent offers t
 his course by utilizing the industry’s best professionals who are the vo
 ice of authority in their areas of expertise because of their experience. 
 Training will be delivered in the form of class notes\, short videos\, exe
 rcises\, and case studies with a design that is supposed to ensure maximum
  understanding. When necessary\, there will be individual and group presen
 tations to showcase designs created.\n\nAll the participants are encourage
 d to actively participate in this course to make it engaging. Role play mi
 ght be employed where necessary.  Like all our acclaimed courses\, this p
 rogram also follows the ‘Do-Review-Learn-Apply’ model.\n\nBenefits For
  Your Organization\n\n 	Application of advanced tools and techniques while
  designing steel structures\n 	Well-managed steel structure designing proc
 ess to minimize costs\n 	Detailed risk assessment of all steel structures\
 n 	Increased profitability due to satisfied clients who will benefit from 
 better designs\n 	Improved credibility due to producing high-quality steel
  designs\n 	The continuous and easily accessible go-to person on steel str
 ucture design matters\n 	Appropriate handling of all steel structure desig
 ning process\n 	Projects enhancements by high-quality engineering review o
 f all the steel structures\n 	Better and quality investments by having bet
 ter and more durable steel structures for a long lifetime\n 	Reduce the re
 pair and maintenance costs by having durable designs\n\nBenefits For You\n
 \nAll the structural steel design training participants will be able to:\n
 \n 	Have a complete and wholesome understanding of all the steel design de
 tails\n 	Improved exposure and confidence to take up high-level positions 
 due to the skills they will gain\n 	Enhanced and well-developed design of 
 elements skills\n 	Better understanding and exposure to handling and worki
 ng with advanced technology to achieve operations excellence by producing 
 quality designs that will reduce risks of occupational hazards\n 	High con
 tributions to the credibility of the organization and development through 
 enhanced safety by using better steel designs\n 	Complete understanding of
  the existing steel structures and\n 	High placement for better jobs among
  their peers because of their steel structure design skills and knowledge\
 n 	Ability to lead others when doing structural steel designs\n\nTarget Au
 dience\n\n 	Civil engineers who intend to sharpen their design skills\n 	S
 teel fabricators who interact with steel designs regularly and would like 
 to fabricate quality designs\n 	to increase their risk foresight skills\n 
 	Construction engineers who intend to easily identify structural design an
 d calculations misfit while in the field\n 	Design engineers to produce qu
 ality designs\n 	Steel quality assurance officers who want to have a deepe
 r understanding of their work\n 	Any other professionals who might be inte
 rested in understanding structural steel design\n\nCourse Outline\n\nIntro
 duction to Structural Steel Design Training\n\n 	Various steel sections\n 
 	Computational of loads for different designs such as ASD and LRFG\n 	Tech
 niques to get an acceptable level of safety easily\n 	Building specificati
 ons and codes\n 	Review of basic civil and analysis structure\n\nSteel Bea
 ms Designs\n\n 	Beams and their definitions\n 	Design of beams\n 	Axial an
 d bending tension subjection and endurance\n 	Deflection in beams design\n
  	Using different software for simulation\n 	Beam columns design\n 	Code d
 esign procedure\n 	Equivalent moment factor\n 	Tension and bending forces 
 on beam columns\n 	Eccentrically loaded beams design\n 	Nominal strength\n
 \nSteel Connections\n\n 	Fillet welds design\n 	How joints that have bolts
  handle shear tension\n 	Introduction to steel welds and their types\n 	Te
 nsion loads and their effect on bolted joints\n 	Bolted connections\n 	Ecc
 entric connections\n 	Welded connections\n\nAnalysis of Compression Member
 s\n\n 	Euler formula in steel design\n 	Intermediate column formulas\n 	Lo
 ng column formulas\n 	Short column formulas\n 	Failure modes\n 	Elastic bu
 ckling of slender\n 	Classification of the cross-section\n 	Displacements\
 n 	Single angle struts\n 	The effective length of compression members\n 	C
 ompression members are composed of two components\n\nDesign of Compression
  Members\n\n 	Built-up columns\n 	Base plates best designs for concentrica
 lly loaded columns\n 	Column splices design\n 	AISC best designs tables\n 
 	Single angle compression members\n 	Lacing and batten systems\n 	Compress
 ion members structure\n\nComposite Sections\n\n 	Composite constructions\n
  	Concrete encased section designs\n 	Extramural strength\n 	Composite sec
 tion moment capacity\n 	Composite section defections\n 	Cover plated beams
 \n 	Pan floors are an example of composite concrete and floors\n\nSteel Bu
 ilding\n\n 	Roof construction types\n 	Steel roofs\n 	Interior partitions 
 using steel\n 	Exterior walls steel design\n 	Structural steel designs\n 	
 Fireproofing of steel buildings\n\nAdvantages and Disadvantages of Structu
 ral Steel Design\n\n 	Limit state design\n 	Lateral torsional buckling LTB
 \n 	Design resistance and how it affects general strength\n 	Stress calcul
 ations\n 	Advantages of steel designs\n 	Disadvantages of steel design\n\n
 Stress and Resistance\n\n 	Stress concentration\n 	Fatigues resistance\n 	
 Corrosion resistance\n 	Structural steel products\n 	Fabrication and erect
 ion\n 	Residual stress\n\nDesign of Plate Girders\n\n 	Web panel sheer exp
 osure\n 	Plate girders\n 	Girder components welding\n 	General considerati
 ons\n 	Using ISO 800:2007 to design girders\n 	The behavior of transverse 
 web stiffness\n 	Loading considerations\n 	Fatigue effects\n 	Maximum load
  effects\n\n&nbsp\;
ATTACH;FMTTYPE=image/jpeg:https://x8ti.com/wp-content/uploads/2024/11/What
 sApp-Image-2024-10-25-at-9.27.46-AM2.jpeg
CATEGORIES:Construction Management &amp; Civil Engineering
LOCATION:Cairo Training Courses\, Kempinski Nile Hotel Garden City Cairo\, 
 Cairo\, Egypt\, Egypt
X-APPLE-STRUCTURED-LOCATION;VALUE=URI;X-ADDRESS=Kempinski Nile Hotel Garden
  City Cairo\, Cairo\, Egypt\, Egypt;X-APPLE-RADIUS=100;X-TITLE=Cairo Train
 ing Courses:geo:0,0
END:VEVENT
BEGIN:VTIMEZONE
TZID:Africa/Cairo
X-LIC-LOCATION:Africa/Cairo
BEGIN:STANDARD
DTSTART:20250511T090000
TZOFFSETFROM:+0200
TZOFFSETTO:+0200
TZNAME:EET
END:STANDARD
END:VTIMEZONE
END:VCALENDAR