BEGIN:VCALENDAR
VERSION:2.0
PRODID:-//wp-events-plugin.com//7.2.3.1//EN
BEGIN:VEVENT
UID:1573@x8ti.com
DTSTART;TZID=Asia/Riyadh:20260727T090000
DTEND;TZID=Asia/Riyadh:20260807T130000
DTSTAMP:20260207T230213Z
URL:https://x8ti.com/event/revenue-assurance-and-fraud-management-in-telec
 om-training-course-2/
SUMMARY:Revenue Assurance and Fraud Management in Telecom Training Course
DESCRIPTION:Introduction \nRevenue Assurance (RA) and fraud management are
  critical in the telecommunications sector. RA helps professionals improve
  profit and revenue through processes and data quality methods\, while fra
 ud management aims to safeguard gross revenue by identifying and combating
  fraudulent activities. These concepts are essential for managing\, creati
 ng\, saving\, collecting\, and assuring revenues.\nLearning Objectives\nBy
  the end of this course\, participants will be able to:\n\n 	Understand th
 e impact of future services and networks on RA.\n 	Comprehend the interfac
 es and boundaries of billing support systems.\n 	Diagnose\, analyze\, and 
 reclaim profit leakages.\n 	Implement end-to-end RA strategies.\n 	Develop
  anti-fraud strategies and systems.\n 	Ensure network integrity through te
 sts and audits.\n 	Utilize warehousing and data mining in RA.\n 	Report th
 e impacts of RA.\n\nTraining Methodology\nXcelerate Training Institute des
 igns courses to meet the needs of professionals and the industry. Training
  sessions are interactive and include projects\, role-playing\, and discus
 sions to simulate real-world scenarios. Trainers bring hands-on experience
  and expertise to guide participants in applying methodologies and strateg
 ies effectively. The course follows the Do–Review–Learn–Apply Model.
 \nBenefits for Your Organization\nOrganizations will benefit from:\n\n 	In
 -depth understanding of networks to prevent revenue loss from fraud.\n 	Sk
 illed employees capable of detecting and fixing revenue leakages.\n 	Incre
 ased profits and reduced risks.\n 	Improved internal systems and operation
 al efficiency.\n 	Recovery of revenues for unbilled services.\n 	Effective
  risk management.\n 	Up-to-date strategies for RA and fraud management.\n 
 	Proactive measures to prevent future revenue leakages.\n\nBenefits for Yo
 u\nParticipants will gain:\n\n 	Enhanced understanding of IT and networks.
 \n 	Proficiency in using computers and software.\n 	Confidence in their kn
 owledge and skills.\n 	Ability to develop effective RA and fraud managemen
 t strategies.\n 	Expertise in understanding and mitigating fraud.\n 	Knowl
 edge of market trends and best practices.\n 	Positive influence on colleag
 ues with expert knowledge.\n 	Real-world experience in RA and fraud manage
 ment.\n 	Critical thinking and analytical skills.\n 	Ability to create com
 prehensive reports on RA to mitigate future risks.\n 	Participation in dec
 ision-making processes due to in-depth fraud analysis.\n\nTarget Audience\
 nThis course is ideal for:\n\n 	Revenue Assurance Managers ensuring data a
 ccuracy and timely payments.\n 	Financial Controllers managing cash flow\,
  budgeting\, and reporting.\n 	Internal Auditors improving company process
 es and operations.\n 	Fraud Analysts detecting and resolving fraud.\n 	App
 lication Support Professionals identifying and solving system issues.\n 	P
 roduct Managers ensuring revenue against products.\n 	Project Managers pla
 nning and generating revenue.\n 	Telecommunication professionals in RA and
  fraud detection.\n 	Individuals interested in acquiring RA and fraud mana
 gement skills.\n\nCourse Outline\nUnderlying Concepts of Revenue Assurance
  (RA)\n\n 	Use and Implementation of BSS\n 	Managing BSS Interfaces (Exter
 nal and Internal)\n 	VPN\n 	Collaboration and Messaging\n 	Internet and Cl
 oud Services\n 	Billing Process Model\n 	Billing Errors and CDRs’ Causes
 \n 	Communications and Culture\n 	Mobile Networks (3G\, 4G\, 5G)\n\nPricin
 g and Rating\n\n 	Service Order Process\n 	Best Practices of Pricing and R
 ating\n\nSending Invoices to Customers\n\n 	Convergent Billing\n 	Accuracy
  of Bills\n 	Advanced Methods\n 	Collecting Bills\n 	Mobile Billing\n 	IP 
 Billing\n\nMediation Process\n\n 	Technology as a Support\n 	Billing Media
 tion Process\n 	Customer Care\n\nIntroduction to RA\n\n 	Definition of RA\
 n 	Best Practices\n 	Importance of RA\n 	RA Department as a Profit Centre\
 n 	Issues at Debit Collection Stage\n 	Loss of Revenue and Product Design\
 n 	RA KPIs\n\nToday’s Market and RA\n\n 	Cost-Effective Service Provisio
 ning\n 	Collection Processes\n 	Minimizing Fraud and Bad Debt\n 	Tariffing
 \, Billing\, and Rating\n 	Strategies for Churn Management and Termination
 \n 	End-to-End Revenue Assurance Strategy\n\nAuditing and RA\n\n 	Audit Te
 am Roles and Functions\n 	Regulatory Problems\n 	Operator Responses to Pro
 blems\n\nRA Processes\n\n 	User Acceptance Testing\n 	Management of Tables
 \n 	Event Management and Control\n 	Rate and Invoice Verification\n 	Issue
  Tracking and Resolving\n 	Management of Errors\n 	Systems Interface Manag
 ement\n 	Metrics and Management Reporting\n 	End-to-End Reconciliation\n 	
 Invoice Processing and Distribution\n\nRevenue Leakage\n\n 	Definition and
  Causes of Revenue Leakage\n\nIntroduction to Fraud Management\n\n 	Evolut
 ion of Fraud\n 	Changing Mindset to Catch Fraudsters\n 	Identifying Risks\
 n 	Valuation Assessment\n 	Best Practices in Fraud Management\n\nAssessing
  Risks\n\n 	Risk Assessment Process\n 	Non-Airtime Fraud Assessment\n 	Air
 time Fraud Assessment\n 	Analyzing Internal Risks\n\nTypes of Frauds\n\n 	
 Roaming\n 	Partnership\n 	Subscription\n 	Premium Rate\n 	Interconnect\n 	
 Prepaid\n 	Content and Value-Added\n\nDetection and Prevention of Fraud\n\
 n 	Packet Networks\n 	Switched Networks\n 	Other Best Practices\n
ATTACH;FMTTYPE=image/jpeg:https://x8ti.com/wp-content/uploads/2025/01/c76f
 5917-a8cb-4a26-9820-5d9580047bec.jpg
CATEGORIES:Accounting &amp; Finance
LOCATION:http://online
END:VEVENT
BEGIN:VTIMEZONE
TZID:Asia/Riyadh
X-LIC-LOCATION:Asia/Riyadh
BEGIN:STANDARD
DTSTART:20250727T090000
TZOFFSETFROM:+0300
TZOFFSETTO:+0300
TZNAME:+03
END:STANDARD
END:VTIMEZONE
END:VCALENDAR