BEGIN:VCALENDAR
VERSION:2.0
PRODID:-//wp-events-plugin.com//7.2.3.1//EN
BEGIN:VEVENT
UID:410@x8ti.com
DTSTART;TZID=America/Toronto:20261207T090000
DTEND;TZID=America/Toronto:20261211T130000
DTSTAMP:20260212T194816Z
URL:https://x8ti.com/event/report-writing/
SUMMARY:Report Writing
DESCRIPTION:Course Overview\n\nFacts\, figures and conclusions depend treme
 ndously on the reports that present these details to the world. Be it in a
  newspaper\, magazine\, web publication or any white paper\, a report is r
 equired to be accurate and credible with well-presented data.\n\nOnce publ
 ished\, reports can also be used as evidence in a court of law. This is wh
 y\, at ‘Xcelerate Training Institute’\, we take a keen interest in dev
 eloping the report writing skills of our participants by providing close g
 uidance and showing them how they can apply master techniques to this skil
 l.\n\nThe Advanced class on this subject will take our delegates a step ah
 ead on their ability to write high level reports on behalf of their organi
 zation in a recommendable manner.\n\nOur research and work over the years 
 have helped us reach an in-depth understanding of the most accepted and co
 mplemented norms in report writing globally\, which will enable our partic
 ipants to maintain high standards of succinct and professional report writ
 ing.\n\nIt has been universally noted that candidates who can display a ho
 ld in good report writing\, stand higher chances of a promotion\, winning 
 a new project and promoting a business.\n\nThrough the course on Report Wr
 iting\, our team at Xcelerate Training Institute not only aims to help you
  achieve a mastery of these skills but also seeks to nurture the character
  of logical and accurate presentation\, one that you can use in other area
 s of your life as well. This way\, participants acquire real growth in the
 ir skills at their core level and not just subject knowledge.\n\nThis Xcel
 erate training course will empower you to become a subject matter expert b
 y introducing you to various aspects of professional report writing. Throu
 gh this course\, you will be able to apply the skill of presenting facts a
 nd data in a well-structured format.\n\nYou will learn techniques to help 
 your readers draw factual and tangible conclusions. By ensuring the applic
 ation of all the elements in professional report writing\, your message wi
 ll be interpreted exactly as intended\, leaving no room for misinterpretat
 ion.\n\nThe information and practice gained through this course will also 
 bridge the gap in your current skill and knowledge when it comes to writin
 g reports. You will resultantly be better positioned to add value to your 
 organization in your communication with your stakeholders and your custome
 r.\n\nLearning Objectives \n\nThe main objective of this course is to empo
 wer professionals with—\n\n 	the ability to write all kinds of reports i
 n a globally recommended structured manner\, in keeping with their organiz
 ational brand values\n 	real-time feedback on their overall written commun
 ication with a specific focus on report writing\n 	the ability to recogniz
 e language and formatting errors in their own reports\n 	tips to reports c
 oncise and easy to read\n 	capability to correct their own errors in writi
 ng and errors in any other potential publication material before publishin
 g\n 	understanding of the requisites of a good report as a formal and info
 rmal document\n 	make a good presentation of a report with logical sequenc
 ing of data\n 	proofread a draft before sending it out\n 	understand the p
 otential of a well-written report in the business world\n\nTraining Method
 ology \n\nXcelerate Training Institute Solutions designs training courses 
 to cater to our training audience and their distinctive professional backg
 round and experience. Classroom sessions with presentations by a highly ex
 perienced facilitator form a major part of our training programs.\n\nWe en
 courage trainee participation through group discussions\, role-plays\, gro
 up activities\, assessments and more. Trainees are also requested to share
  their experiences\, issues\, concerns and best practices from their respe
 ctive organizations\, which are facilitated by the trainer to optimize lea
 rning for the entire participant group.\n\nIn alignment with the Xcelerate
  Training Solutions’ unique training methodology\, this course follows t
 he Do–Review–Learn–Apply Model.\n\nBenefits For Your Organization\n\
 nOrganizations whose professionals undertake this course will benefit in t
 he following ways:\n\n 	As employees become well-versed with Report Writin
 g\, their performance will reflect positively for your business\n 	Growth 
 in calibration and streamlining of writing reports in keeping with the bra
 nd values of your organization\n 	Greater credibility for the individual a
 nd your organization\n 	Increased demand of business with your organizatio
 n in the market\n 	Accurate report writing skills means lesser confusion o
 ver important business communication\n 	Market credibility increase as a r
 esult of stakeholder recommendations\n 	Improved individual performance an
 d sense of esteem for the organization\n 	Lower attrition as individuals f
 eels invested in\, listened to\, valued and motivated\n\nBenefits For You\
 n\nProfessionals attending this course will benefit in the following ways:
 \n\n 	A clear and in-depth understanding of Report Writing in the 21st Cen
 tury\n 	Increased self-awareness of one’s ability to write a good report
 \n 	Access to examples\, videos and practice sessions exclusively owned an
 d run by Xcelerate Training Institute Solutions\n 	Ability to identify one
 ’s area of opportunity to recognize and correct common writing/formattin
 g errors\n 	Understanding the impact of an average\, incomplete or bad rep
 ort on one’s own/organizational brand image\n 	A sense of accomplishment
  contributing to an expertise in Report Writing\n 	Overall improvement in 
 an individual’s writing skills\n 	The ability to role-model this skill i
 n the organization for subordinates to learn from and imitate\n\nTarget Au
 dience\n\n 	Secretaries of Presidents\, Vice-presidents and Senior Managem
 ent who may need to write reports for business regularly\n 	Journalists an
 d Executives in News Agencies\n 	Administration executives responsible for
  documenting and publishing reports\n 	Executives who write reports on a r
 egular basis\n 	Trainers\, teaching staff\, educators and administrators r
 esponsible for writing reports\n 	Human Resource Executives responsible fo
 r employee documenting policy and other forms of compliance\n 	Government 
 officials and officials involved in administration in government sectors\n
  	Hospital staff and support staff in volunteer camps who need to document
  their work for stakeholders\n 	Any other professional who would like to i
 mprove their knowledge and skill on report writing\n\nCourse Outline\n\nTh
 e course will cover the following areas that are important in the skill of
  Report Writing. It aims to increase the participants’ ability to practi
 ce this skill in a recommendable way.\n\nIntroduction to Report Writing\n\
 n 	What is a Report?\n 	Definition &amp\; Features of a Report\n 	Elements
  of a Report\n 	Essential and Optional Elements\n 	Practice Assignment (Pr
 e-work)\n\nGetting Started\n\n 	Preparation and Planning\n 	Know your Brie
 f\n 	Report Objectives\n 	Importance of Conciseness\n 	Global Designs\, La
 youts and Templates\n 	Practice Assignment &amp\; Feedback\n\nStructure of
  A Report\n\n 	Introduction\n 	Main Body\n 	Conclusion\n 	Recommendation\n
  	Executive Summary\n 	Table of Contents\n 	Practice Activities &amp\; Fee
 dback\n\nReport Writing Styles\n\n 	Know your Audience\n 	Information Rele
 vance\n 	Succinct Report Writing\n 	Chronology of Facts\n 	Presentation of
  Findings\n 	Presenting a Conclusion\n 	Making Recommendations\n\nProofrea
 ding a Report\n\n 	Importance of a Draft Revision\n 	Steps to Revise &amp\
 ; Edit a Report\n 	Guidelines\, Schedules and Order of Information\n 	Accu
 racy of Information\n 	Formatting and Presentation\n 	Practice Assignments
 \n\nCategories of Reports – 1\n\n 	Assignment Review and Feedback\n 	Inf
 ormal &amp\; Informal Reports\n 	Detail Reports\n 	Business Reports\n 	Inf
 ormational Reports\n 	Analytical Reports\n 	Summary and Assignments\n\nCat
 egories of Reports – 2\n\n 	Assignment Review and Feedback\n 	Proposal R
 eport\n 	Vertical and Lateral Reports\n 	Functional Reports\n 	Periodic Re
 ports\n 	Research Reports\n 	Recap and Summary\n\nReport Writing | Tips an
 d Examples\n\n 	Use a Neutral Tone\n 	Use the Correct Tense\n 	Grammar and
  Sentence Construction\n 	Good vs Bad Report\n 	Examples of Good Report Wr
 iting\n 	Summary &amp\; Feedback\n\n&nbsp\;
ATTACH;FMTTYPE=image/jpeg:https://x8ti.com/wp-content/uploads/2024/09/What
 sApp-Image-2024-10-29-at-10.00.32-PM2.jpeg
CATEGORIES:Communication &amp; Writing Skills
LOCATION:Boston Training Courses\, Boston Harbor Hotel\, Boston\, USA\, Uni
 ted States
X-APPLE-STRUCTURED-LOCATION;VALUE=URI;X-ADDRESS=Boston Harbor Hotel\, Bosto
 n\, USA\, United States;X-APPLE-RADIUS=100;X-TITLE=Boston Training Courses
 :geo:0,0
END:VEVENT
BEGIN:VTIMEZONE
TZID:America/Toronto
X-LIC-LOCATION:America/Toronto
BEGIN:STANDARD
DTSTART:20261101T010000
TZOFFSETFROM:-0400
TZOFFSETTO:-0500
TZNAME:EST
END:STANDARD
END:VTIMEZONE
END:VCALENDAR