BEGIN:VCALENDAR
VERSION:2.0
PRODID:-//wp-events-plugin.com//7.2.3.1//EN
BEGIN:VEVENT
UID:32@x8ti.com
DTSTART;TZID=Africa/Cairo:20261221T090000
DTEND;TZID=Africa/Cairo:20261225T130000
DTSTAMP:20260212T195248Z
URL:https://x8ti.com/event/report-writing-training-3/
SUMMARY:Report Writing
DESCRIPTION:Course Overview\nFacts\, figures and conclusions depend tremend
 ously on the reports that present these details to the world. Be it in a n
 ewspaper\, magazine\, web publication or any white paper\, a report is req
 uired to be accurate and credible with well-presented data.\n\nOnce publis
 hed\, reports can also be used as evidence in a court of law. This is why\
 , at ‘Xcelerate Training Institute’\, we take a keen interest in devel
 oping the report writing skills of our participants by providing close gui
 dance and showing them how they can apply master techniques to this skill.
 \n\nThe Advanced class on this subject will take our delegates a step ahea
 d on their ability to write high level reports on behalf of their organiza
 tion in a recommendable manner.\n\nOur research and work over the years ha
 ve helped us reach an in-depth understanding of the most accepted and comp
 lemented norms in report writing globally\, which will enable our particip
 ants to maintain high standards of succinct and professional report writin
 g.\n\nIt has been universally noted that candidates who can display a hold
  in good report writing\, stand higher chances of a promotion\, winning a 
 new project and promoting a business.\n\nThrough the course on Report Writ
 ing\, our team at Xcelerate Training Institute not only aims to help you a
 chieve a mastery of these skills but also seeks to nurture the character o
 f logical and accurate presentation\, one that you can use in other areas 
 of your life as well. This way\, participants acquire real growth in their
  skills at their core level and not just subject knowledge.\n\nThis Xceler
 ate training course will empower you to become a subject matter expert by 
 introducing you to various aspects of professional report writing. Through
  this course\, you will be able to apply the skill of presenting facts and
  data in a well-structured format.\n\nYou will learn techniques to help yo
 ur readers draw factual and tangible conclusions. By ensuring the applicat
 ion of all the elements in professional report writing\, your message will
  be interpreted exactly as intended\, leaving no room for misinterpretatio
 n.\n\nThe information and practice gained through this course will also br
 idge the gap in your current skill and knowledge when it comes to writing 
 reports. You will resultantly be better positioned to add value to your or
 ganisation in your communication with your stakeholders and your customer.
 \nCourse Objectives\nThe main objective of this course is to empower profe
 ssionals with —\n\n 	the ability to write all kinds of reports in a glob
 ally recommended structured manner\, in keeping with their organisational 
 brand values\n 	real-time feedback on their overall written communication 
 with a specific focus on report writing\n 	the ability to recognise langua
 ge and formatting errors in their own reports\n 	tips to reports concise a
 nd easy to read\n 	capability to correct their own errors in writing and e
 rrors in any other potential publication material before publishing\n 	und
 erstanding of the requisites of a good report as a formal and informal doc
 ument\n 	make a good presentation of a report with logical sequencing of d
 ata\n 	proofread a draft before sending it out\n 	understand the potential
  of a well-written report in the business world\n\nTraining Methodology\nX
 celerate Training Institute Solutions designs training courses to cater to
  our training audience and their distinctive professional background and e
 xperience. Classroom sessions with presentations by a highly experienced f
 acilitator form a major part of our training programmes.\n\nWe encourage t
 rainee participation through group discussions\, role-plays\, group activi
 ties\, assessments and more. Trainees are also requested to share their ex
 periences\, issues\, concerns and best practices from their respective org
 anisations\, which are facilitated by the trainer to optimise learning for
  the entire participant group.\n\nIn alignment with the Xcelerate Training
  Solutions’ unique training methodology\, this course follows the Do–R
 eview–Learn–Apply Model.\nOrganisational Benefits\nOrganisations whose
  professionals undertake this course will benefit in the following ways:\n
 \n 	As employees become well-versed with Report Writing\, their performanc
 e will reflect positively for your business\n 	Growth in calibration and s
 treamlining of writing reports in keeping with the brand values of your or
 ganization\n 	Greater credibility for the individual and your organization
 \n 	Increased demand of business with your organization in the market\n 	A
 ccurate report-writing skills mean lesser confusion over important busines
 s communication\n 	Market credibility increases as a result of stakeholder
  recommendations\n 	Improved individual performance and sense of esteem fo
 r the organization\n 	Lower attrition as individuals feel invested in\, li
 stened to\, valued and motivated\n\nPersonal Benefits\nProfessionals atten
 ding this course will benefit in the following ways:\n\n 	A clear and in-d
 epth understanding of Report Writing in the 21st Century\n 	Increased sel
 f-awareness of one’s ability to write a good report\n 	Access to example
 s\, videos and practice sessions exclusively owned and run by Xcelerate Tr
 aining Institute Solutions\n 	Ability to identify one’s area of opportun
 ity to recognise and correct common writing/formatting errors\n 	Understan
 ding the impact of an average\, incomplete or bad report on one’s own/or
 ganisational brand image\n 	A sense of accomplishment contributing to an e
 xpertise in Report Writing\n 	Overall improvement in an individual’s wri
 ting skills\n 	The ability to role-model this skill in the organisation fo
 r subordinates to learn from and imitate\n\nCourse Outline\n\nThe course w
 ill cover the following areas that are important in the skill of Report Wr
 iting. It aims to increase the participants’ ability to practice this sk
 ill in a recommendable way.\n\nIntroduction to Report Writing\n\n 	What is
  a Report?\n 	Definition &amp\; Features of a Report\n 	Elements of a Repo
 rt\n 	Essential and Optional Elements\n 	Practice Assignment (Pre-work)\n\
 nGetting Started\n\n 	Preparation and Planning\n 	Know your Brief\n 	Repor
 t Objectives\n 	Importance of Conciseness\n 	Global Designs\, Layouts and 
 Templates\n 	Practice Assignment &amp\; Feedback\n\nStructure of A Report\
 n\n 	Introduction\n 	Main Body\n 	Conclusion\n 	Recommendation\n 	Executiv
 e Summary\n 	Table of Contents\n 	Practice Activities &amp\; Feedback\n\nR
 eport Writing Styles\n\n 	Know your Audience\n 	Information Relevance\n 	S
 uccinct Report Writing\n 	Chronology of Facts\n 	Presentation of Findings\
 n 	Presenting a Conclusion\n 	Making Recommendations\n\nProofreading a Rep
 ort\n\n 	Importance of a Draft Revision\n 	Steps to Revise &amp\; Edit a R
 eport\n 	Guidelines\, Schedules and Order of Information\n 	Accuracy of In
 formation\n 	Formatting and Presentation\n 	Practice Assignments\n\nCatego
 ries of Reports – 1\n\n 	Assignment Review and Feedback\n 	Informal &amp
 \; Informal Reports\n 	Detail Reports\n 	Business Reports\n 	Informational
  Reports\n 	Analytical Reports\n 	Summary and Assignments\n\nCategories of
  Reports – 2\n\n 	Assignment Review and Feedback\n 	Proposal Report\n 	V
 ertical and Lateral Reports\n 	Functional Reports\n 	Periodic Reports\n 	R
 esearch Reports\n 	Recap and Summary\n\nReport Writing | Tips and Examples
 \n\n 	Use a Neutral Tone\n 	Use the Correct Tense\n 	Grammar and Sentence 
 Construction\n 	Good vs Bad Report\n 	Examples of Good Report Writing\n 	S
 ummary &amp\; Feedback\n\n&nbsp\;
ATTACH;FMTTYPE=image/jpeg:https://x8ti.com/wp-content/uploads/2022/10/3-1.
 png
CATEGORIES:Communication &amp; Writing Skills
LOCATION:Cairo Training Courses\, Kempinski Nile Hotel Garden City Cairo\, 
 Cairo\, Egypt\, Egypt
X-APPLE-STRUCTURED-LOCATION;VALUE=URI;X-ADDRESS=Kempinski Nile Hotel Garden
  City Cairo\, Cairo\, Egypt\, Egypt;X-APPLE-RADIUS=100;X-TITLE=Cairo Train
 ing Courses:geo:0,0
END:VEVENT
BEGIN:VTIMEZONE
TZID:Africa/Cairo
X-LIC-LOCATION:Africa/Cairo
BEGIN:STANDARD
DTSTART:20251221T090000
TZOFFSETFROM:+0200
TZOFFSETTO:+0200
TZNAME:EET
END:STANDARD
END:VTIMEZONE
END:VCALENDAR