BEGIN:VCALENDAR
VERSION:2.0
PRODID:-//wp-events-plugin.com//7.2.3.1//EN
BEGIN:VEVENT
UID:717@x8ti.com
DTSTART;TZID=Africa/Cairo:20260803T090000
DTEND;TZID=Africa/Cairo:20260807T130000
DTSTAMP:20260217T212451Z
URL:https://x8ti.com/event/public-affairs-and-media-relations-course-4/
SUMMARY:Public Affairs and Media Relations Course
DESCRIPTION:Introduction\nMedia relations Course by Xcelerate Training Inst
 itutes is the management of an organization's interaction with journalists
  and other media professionals. The goal is to present the organization in
  a positive light to the public. This involves building and maintaining re
 lationships with the media to shape public perception. While challenges ex
 ist\, such as limited control over news coverage\, effective media relatio
 ns can significantly enhance an organization's reputation and brand. Stayi
 ng informed about media trends is crucial for success.\nLearning Objective
 s\nThis course aims to equip professionals with the knowledge and skills n
 ecessary to excel in media relations and public affairs. Upon completion\,
  participants will be able to:\n\n 	Develop and maintain positive media re
 lationships\n 	Protect and enhance the organization's reputation\n 	Effect
 ively manage information flow\n 	Contribute to organizational growth and c
 areer advancement\n\nTraining Methodology\nThe course combines theoretical
  instruction with practical exercises\, including role-plays\, case studie
 s\, and group activities. The learning process emphasizes hands-on experie
 nce and application of knowledge.\nBenefits for Your Organization\nBy trai
 ning employees in media relations and public affairs\, organizations can:\
 n\n 	Improve brand image and reputation\n 	Enhance media relationships\n 	
 Increase public awareness\n 	Foster organizational growth\n\nBenefits for 
 you \nParticipants will gain:\n\n 	In-depth understanding of media relatio
 ns and public affairs\n 	Enhanced skills and confidence\n 	Ability to mana
 ge media interactions effectively\n 	Opportunities for career advancement\
 n\nTarget Audience\nThis course is designed for:\n\n 	Organizational manag
 ement\n 	Investors and stakeholders\n 	Public relations professionals\n 	M
 edia relations practitioners\n 	Marketing professionals\n 	Anyone interest
 ed in media relations and public affairs\n\nCourse Outline\nPublic Affairs
  and Media Relations\nThis course provides a comprehensive understanding o
 f public affairs and media relations. It covers essential topics to effect
 ively manage an organization's public image and media interactions.\nUnder
 standing the Basics\n\n 	Introduces the core concepts of media relations a
 nd public affairs\n 	Differentiating between the two and their roles in or
 ganizational success\n\nMedia Landscape\nThis section explores the various
  types of media available for public relations\n\n 	Communication purposes
 \n 	Including paid\n 	Earned\n 	Owned\n 	Shared media\n\nMastering Media R
 elations\nThis section delves into the key components of successful media 
 relations:\n\n 	encompassing planning\n 	Media tactics\n 	Execution\n 	Fol
 low-up strategies\n\nThe Impact of Media Relations\nThis section highlight
 s the significance of media relations in achieving organizational goals su
 ch as:\n\n 	Building a strong reputation\n 	Increasing brand awareness\n 	
 Generating leads\n 	Sharing important news\n\nChallenges in Media Relation
 s\nThis section addresses common obstacles in media relations including:\n
 \n 	Evolving media landscape\n 	Managing media contacts\n 	Dealing with un
 ethical reporters\n 	Meeting tight deadlines\n 	Managing client expectatio
 ns\n\nReasons for Media Outreach\nThis section outlines various scenarios 
 that necessitate media outreach such as:\n\n 	Product launches\n 	New faci
 lity openings\n 	Financial reports\n 	Events\n 	Promotional campaigns\n 	C
 risis management\, awards\n 	Community engagement\n\nPublic Affairs Focus 
 Areas\nThis section covers the key areas of public affairs including:\n\n 
 	Government relations\n 	Media communications\n 	Issue management\n 	Corpo
 rate social responsibility\n 	Information dissemination\n 	Strategic commu
 nication\n\nPublic Affairs Challenges\nThis section discusses the challeng
 es inherent in public affairs such as:\n\n 	Reputation management\n 	Gover
 nment regulations\n 	Client relations\n 	Grassroots engagement\n 	Data man
 agement\n\n&nbsp\;
ATTACH;FMTTYPE=image/jpeg:https://x8ti.com/wp-content/uploads/2024/10/What
 sApp-Image-2024-10-25-at-8.39.53-AM-1.jpeg
CATEGORIES:Public Relations
LOCATION:Cairo Training Courses\, Kempinski Nile Hotel Garden City Cairo\, 
 Cairo\, Egypt\, Egypt
X-APPLE-STRUCTURED-LOCATION;VALUE=URI;X-ADDRESS=Kempinski Nile Hotel Garden
  City Cairo\, Cairo\, Egypt\, Egypt;X-APPLE-RADIUS=100;X-TITLE=Cairo Train
 ing Courses:geo:0,0
END:VEVENT
BEGIN:VTIMEZONE
TZID:Africa/Cairo
X-LIC-LOCATION:Africa/Cairo
BEGIN:STANDARD
DTSTART:20250803T090000
TZOFFSETFROM:+0200
TZOFFSETTO:+0200
TZNAME:EET
END:STANDARD
END:VTIMEZONE
END:VCALENDAR