BEGIN:VCALENDAR
VERSION:2.0
PRODID:-//wp-events-plugin.com//7.2.3.1//EN
BEGIN:VEVENT
UID:322@x8ti.com
DTSTART;TZID=Europe/Amsterdam:20260511T090000
DTEND;TZID=Europe/Amsterdam:20260515T130000
DTSTAMP:20260213T192759Z
URL:https://x8ti.com/event/professional-business-writing-skills-2/
SUMMARY:Professional Business Writing Skills
DESCRIPTION:Course Overview \n\nA lot of smart business owners worldwide ha
 ve come to the inevitable understanding of the importance of professional 
 writing skills\, an essential ingredient to get their brand on the global 
 map. At Xcelerate Training Institute\, we take professional business writi
 ng very seriously\, having empowered several individuals across industries
  to grow as writers and grow their businesses along with them.\n\nSpoken a
 nd written communication are separated by the stark differentiator of perm
 anence. While face to face presentations may or may not be recorded\, writ
 ten transfer of knowledge and information will always go down generations 
 – be it digitally or physically!\n\nProfessional Writing is a skill that
  we have been able to help delegates easily develop and excel in\, through
  our carefully created syllabus in the form of eight well-structured modul
 es that offer each participant a deep insight and progressive learning tow
 ards becoming an expert writer in business communication.\n\nWe find that 
 the success of professional writing lies in an individual’s ability to f
 ully agree with its infinite dimensions and then choose the best one accor
 ding to the purpose and audience in question.\n\nThe Style of written tran
 sfer says a lot of the individual as much as it does about the organizatio
 n\, brand values and due diligence. Our highly experienced and proficient 
 facilitators will provide personalized and real-time feedback to participa
 nts\, assisting a meaningful growth in their writing skills.\n\nOur Profes
 sional Business Writing Skills Training Course has helped several executiv
 es\, managers\, government employees and business owners acquire a whole r
 ange of new ideas towards writing and thus created a brand-new avenue for 
 them to achieve new milestones in life.\n\nOur post-training analysis reco
 rds a display of credible writing improvements in all our participants\, a
 llowing them to embrace new success levels every day!\n\nThis Xcelerate tr
 aining course will empower you to become an expert in communication. Throu
 gh this course\, you will be able to employ advanced communication techniq
 ues and also role-model this ability to mentor others by example.\n\nBy en
 suring the application of all elements of a good communicator\, you will a
 ttract a high level of excellence\, as desired. You will resultantly be be
 tter positioned to contribute to your organization in your interactions wi
 th your stakeholders and your customer.\n\n Learning Objectives \n\nThe m
 ain objective of this Professional Business Writing Skills Training Course
  is to equip professionals with—\n\n 	the ability to reach a greater lev
 el of competence in professional business writing skills\n 	real-time feed
 back on their writing style\, techniques and mechanisms aligned with globa
 l standards in 21st century communication\n 	the ability to recognize lang
 uage and grammatical aspects that do not align with business writing\n 	ca
 pability to correct these errors and self-improvise as a part of the conti
 nuous learning process\n 	understanding of the pre-requisites of a well wr
 itten communication piece\n 	ability to express ideas in a structured and 
 easily understandable manner\, on any subject\n 	the skill to build credib
 le content from scratch\, review processes\, create documents\, edit and r
 ework written communication before it is permanently received\n 	understan
 ding of the potential through a transformation in written communication\n\
 nTraining Methodology \n\nXcelerate Training Institute Solutions designs a
 nd develops training courses to cater to our training audience and their d
 istinctive professional background and experience. Classroom sessions with
  presentations by a highly experienced facilitator form a major part of ou
 r training programs.\n\nWe support trainee participation through group dis
 cussions\, role-plays\, group activities\, assessments and more. Trainees 
 are also requested to share their know-how\, issues\, concerns and best pr
 actices from their respective organizations\, which are facilitated by the
  trainer to enhance learning for the entire participant group.\n\nXcelerat
 e Training Solutions follows ‘Do–Review–Learn–Apply’ Model.\n\nB
 enefits For Your Organization\n\nOrganizations whose professionals underta
 ke this Professional Business Writing Skills Training Course will benefit 
 in many ways as follows:\n\n 	Individuals become effective at written comm
 unication and their skills will reflect positively for your business\n 	Mo
 re calibration in written communication\, aligned with the brand values of
  your organization\n 	Enhanced credibility for the individual\, the organi
 sation and brand value\n 	Increased demand for the goods and services your
  organization offers in diverse markets owing to your representation on di
 gital media\n 	The decrease in confusion over instructions\, more calibrat
 ion within the organization\n 	Stakeholder recommendation and higher reven
 ue\n 	Improved individual performance owing to a better understanding of t
 heir role and a positive sense of esteem for the organization\n 	Lower att
 rition as employees participating will feel invested in\, valued and empow
 ered with recently gained knowledge and skills\n\nBenefits For You\n\nProf
 essionals attending this course will benefit phenomenally in the following
  ways:\n\n 	A clear understanding of the importance of professional busine
 ss writing and the ill-effects of mediocre communication on the business\n
  	Increased awareness of one’s ability to understand how to hone habits 
 that will enable them to become better writers\n 	Access to videos and pra
 ctice sessions that are exclusively owned and run by Xcelerate Training So
 lutions\n 	Ability to identify one’s area of opportunity to recognize an
 d correct common mistakes in professional writing\n 	Understanding the imp
 act of formatting in written presentations\n 	A sense of accomplishment co
 ntributing to a steady application of professional writing techniques\n 	O
 verall improvement in individual performance and relationships\, owing to 
 increased maturity as writers\n 	The ability to role-model the techniques 
 of good writing in the organization\, for subordinates to observe and imit
 ate\n 	Ability to employ a high level of written business communication an
 d consequently show-case a standard of excellence\n\nTarget Audience\n\n 	
 Individuals across the industry who are looking to increase their knowledg
 e and skill in Professional Business Writing\n 	Managers\, Secretaries and
  Team Leaders who use writing as a tool for business communication\n 	Admi
 nistration executives responsible for communicating to different sectors o
 f the business using various written modes of transfer\n 	Executives who n
 eed professional business writing skills to progress to their next role\n 
 	Trainers\, teaching staff\, educators and administrators responsible for 
 interacting with clients and faculty professionally\n 	Human Resource Mana
 gers\, Executives and Leaders responsible performance and organizational d
 evelopment\n 	Government officials responsible for written communication a
 nd administration in government sectors\n 	Hospital staff\, support staff 
 in volunteer camps and faculty communicating with external stakeholders vi
 a memos\, emails and other vehicles of a written transfer\n 	Any other pro
 fessional who would like to improve their ability to adopt an unparalleled
  skill in professional writing\n\nCourse Outline\n\nThe course will cover 
 the following areas that are imperative in understanding the importance of
  Professional Business Writing Skills and increasing the participants’ a
 bility to imbibe the qualities of a professional content writer.\n\nIntrod
 uction to Writing Skills\n\n 	Importance of Good Writing Skills in the 21s
 t century\n 	Role of Writing in Communication\n 	Perceptions vs Reality\n 
 	Ethical Writing\n 	Impact of Poor Business Writing\n 	Assess your Busines
 s Writing Skills\n\nPr-requisites to Writing Excellence\n\n 	Identify your
  Audience\n 	Define your Purpose\n 	Brand Alignment\n 	Facts or Opinions\n
  	Drafts\, edits and reviews\n 	Assignments &amp\; Feedback\n\nChoose your
  Writing Voice\n\n 	Role of a Voice in Business Writing\n 	Word choice and
  effects\n 	Conciseness and Clarity\n 	Conversational Writing\n 	Practice 
 and Feedback\n\nGenres of Business Writing\n\n 	Email Writing\n 	Memorandu
 ms\n 	Business Letters\n 	Minutes of the Meeting\n 	Documentation\, Polici
 es and Instructions\n 	Social Media &amp\; Press Releases\n 	Practice Acti
 vities and Feedback\n\nGrammar and Sentence Construction \n\n 	Words\, Phr
 ases and Sentences\n 	The Active and Passive Voice\n 	Simple yet Impactful
  Language\n 	Applying Parallelism in Business Writing\n 	Plagiarism and Gr
 ammar – check tools\n 	Self-Assessment\n\nCategories of Writing Styles\n
 \n 	Formal and Informal Writing\n 	Comparison Chart\n 	Merits and De-merit
 s\n 	Choosing the Best Writing Approach\n 	Case Studies &amp\; Feedback\n\
 nWritten Presentation in Business Communication\n\n 	Importance of Present
 ation\n 	Graphical Elements\n 	Heading\, Bullets and Fonts\n 	Data Flow Ch
 arts\, Maps\, Diagrams and Tables\n 	Impactful Formatting Techniques\n 	Pr
 ojects and Practice\n\nProfessional Writing to Build Your Customer Base\n\
 n 	How to Use Writing to Reach Customers\n 	Principles of Professional Dig
 ital Writing\n 	Dissect and Re-assemble\n 	Build a Story-line\n 	Edit to E
 liminate\n 	Summary &amp\; Feedback\n\n&nbsp\;
ATTACH;FMTTYPE=image/jpeg:https://x8ti.com/wp-content/uploads/2024/09/What
 sApp-Image-2024-10-29-at-10.00.31-PM1.jpeg
CATEGORIES:Communication &amp; Writing Skills
LOCATION:Amsterdam Training Courses\, Waldorf Astoria Amsterdam Hotel\, Ams
 terdam\, Netherlands\, Netherlands
X-APPLE-STRUCTURED-LOCATION;VALUE=URI;X-ADDRESS=Waldorf Astoria Amsterdam H
 otel\, Amsterdam\, Netherlands\, Netherlands;X-APPLE-RADIUS=100;X-TITLE=Am
 sterdam Training Courses:geo:0,0
END:VEVENT
BEGIN:VTIMEZONE
TZID:Europe/Amsterdam
X-LIC-LOCATION:Europe/Amsterdam
BEGIN:DAYLIGHT
DTSTART:20260329T030000
TZOFFSETFROM:+0100
TZOFFSETTO:+0200
TZNAME:CEST
END:DAYLIGHT
END:VTIMEZONE
END:VCALENDAR