BEGIN:VCALENDAR
VERSION:2.0
PRODID:-//wp-events-plugin.com//7.2.3.1//EN
BEGIN:VEVENT
UID:2415@x8ti.com
DTSTART;TZID=Asia/Dubai:20260309T090000
DTEND;TZID=Asia/Dubai:20260313T130000
DTSTAMP:20260214T213235Z
URL:https://x8ti.com/event/pressure-safety-valve-actuators-and-regulators-
 inspection-and-maintenance-training-course/
SUMMARY:Pressure Safety Valve\, Actuators and Regulators – Inspection and
  Maintenance Training Course
DESCRIPTION:Introduction\n\nA pressure safety valve is a relief device pres
 ent on a compressible fluid- or gas-filled vessel. The opening of this val
 ve is sudden and automatic once the set pressure on the valve is reached. 
 The main objective of pressure safety valves is to protect life and proper
 ty against failure to control system pressures.\n\nActuators\, on the othe
 r hand\, are those components of machines that are responsible for moving 
 and/or controlling systems. They require a control signal and a source of 
 energy. Regulators are devices that reduce the input pressure of a fluid t
 o a desired value at the output.\n\nThis Xcelerate Training Institute cour
 se will empower you with all necessary information and knowledge about pre
 ssure safety valves\, actuators and regulators.\n\nThrough this course\, y
 ou will acquire the skill\, confidence and experience to troubleshoot any 
 issues or problems your organization faces with the three devices\, thereb
 y providing expert skill and assistance and securing opportunities for gro
 wth and progression across the organization.\n\nLearning Objectives\n\n 	d
 etailed information and knowledge about the inspection and maintenance of 
 pressure safety valves\, actuators and regulators\n 	the required confiden
 ce and knowledge to direct others and train them on working with pressure 
 safety valves\, actuators and regulators\n 	the ability and experience to 
 detect issues in any of the three devices and take corrective action well 
 in time to prevent occupational hazards and loss to property and life\n 	t
 he necessary awareness and knowledge of required standards and guidelines 
 of operation and use of pressure safety valves\, actuators and regulators 
 to ensure that safety is not compromised\n 	the understanding and knowledg
 e to set up equipment containing these devices most appropriately and safe
 ly to ensure optimal and safe operation\n 	the skill and capabilities to a
 ddress any maintenance-related issues with these devices in house and save
  maintenance costs for the organization\, thereby contributing to organiza
 tional growth\n 	a sense of pride to be able to contribute to employee hea
 lth and safety in the organization through regular inspections and mainten
 ance\n 	the required skill set and capabilities to assume higher roles and
  responsibilities and work with any machine or equipment employing pressur
 e safety valves\, actuators and regulators\, thereby enriching one’s pro
 fessional portfolio leading to greater career opportunities within and out
 side one’s current organization\n\nTraining Methodology\n\nXcelerate Tra
 ining Institute offers training courses across a wide range of topics\, an
 d great care is taken to ensure that these courses are customized to suit 
 the intended audience. Thus\, the content is thoroughly reviewed and revis
 ed\, if necessary\, before the commencement of each training program.\n\nA
  highly experienced professional from the relevant domain delivers the tra
 ining using detailed audio-visual presentations for ease of reference. Tra
 inee participation is encouraged through group discussions\, projects\, ro
 le-plays\, etc. Relevant case studies are also discussed to help trainees 
 relate course content to practical scenarios.\n\nBenefits for Your Organiz
 ation\n\n 	Better maintenance of pressure safety valves\, actuators and re
 gulators because of trained and experienced professionals overseeing these
  aspects\n 	Regular inspection to check for possibilities of wear and tear
  that could damage property and life if not attended to in time\n 	Adheren
 ce to international standards and regulations of safety and operation of t
 hese devices\n 	Reduced operational and maintenance costs\, fostering grow
 th and development of the organization\n 	Regular training of all employee
 s working on equipment employing pressure safety valves\, actuators and/or
  regulators to ensure each employee maintains the required level of safety
  and awareness to prevent hazards\n 	Better risk assessment and management
 \n 	Reduction in outsourcing costs for maintenance and repair of pressure 
 safety valves\, actuators and regulators because of better operational pra
 ctices increasing machine life and maintenance and repair undertaken by ex
 perienced professionals of the organization\n 	Greater organizational cred
 ibility because of better employee health and safety practices and effecti
 ve risk assessment and management\n\nBenefits for You\n\n 	Thorough unders
 tanding and increased knowledge of inspection and maintenance of pressure 
 safety valves\, actuators and regulators\n 	Increased confidence and exper
 ience to troubleshoot and resolve all issues being faced with equipment em
 ploying pressure safety valves\, actuators and/or regulators\n 	Greater ab
 ility to curtail damage to life and property through appropriate maintenan
 ce of the three devices\n 	Increased capability to contribute to organizat
 ional growth through machine longevity and reduced operational and mainten
 ance costs\n 	Increased confidence and knowledge to train other profession
 als on best practices and safety measures when working with equipment and 
 these devices\n 	Enhanced foresight and experience to foresee challenges a
 nd take timely action to prevent damage to property and life or impact to 
 the delivery timeline\n 	A sense of satisfaction from contributing to incr
 eased employee health and safety through safe and secure operational and m
 aintenance practices\n 	Greater understanding and awareness of internation
 al guidelines and practices to be followed when operating these devices\n 
 	Enhanced skill set and capabilities to manage higher roles and responsibi
 lities involving operation and maintenance of pressure safety valves\, act
 uators and regulators\, thereby inviting greater opportunities for career 
 progression within and outside the organization\n\nTarget Audience\n\n 	En
 gineers and other professionals involved in the operation of equipment con
 taining pressure safety valves\, actuators and/or regulators\n 	Suppliers 
 and vendors of pressure safety valves\, actuators and regulators\n 	Senior
  management of an organization who need to understand the importance of ma
 intenance of these devices for health and safety\n 	Compliance officers an
 d safety managers responsible for ensuring adherence to all required stand
 ards and guidelines\n 	Managers and leaders overseeing operations involvin
 g machines and equipment employing pressure safety valves\, actuators and 
 regulators\n 	Any other professional who would like to know more about pre
 ssure safety valves\, actuators and regulators\n\nCourse Outline\n\nTypes 
 of Pressure Safety Valves as per Construction\, Their Operation and Mainte
 nance\n\n 	Dead-weight\n 	Lever-type\n 	Spring\n\nTypes of Pressure Safety
  Valves as per Operation and Their Maintenance\n\n 	Pneumatic\n 	Solenoid\
 n 	Steam\n\nTypes of Actuators\n\n 	Hydraulic actuators\n 	Pneumatic actua
 tors\n 	Electric actuators\n 	Twisted or coiled polymer or super coiled po
 lymer actuators\n 	Thermal or magnetic actuators\n 	Mechanical actuators\n
 \nPerformance Metrics of Actuators\n\n 	Force\n 	Speed\n 	Durability\n 	Op
 erating conditions\n\nReasons for Preventative Maintenance of Actuators\n\
 n 	Increase reliability\n 	Identify problems before damage\n 	Reduce overa
 ll maintenance costs\n 	Reduce chances of major shutdowns\n 	Control and p
 redict costs\n\nMaintenance Guidelines for Actuators\n\n 	External visual 
 inspection\n 	Oil level replenishment\n 	Mounting bolts\, nuts\, washers c
 heck\n 	Hand wheel check\n 	Historic performance data analysis\n 	Inspecti
 on of motor\n 	Inspection of electrical compartment\n 	Cover screw replace
 ment\n 	Local and remote operation check\n\nComponents of Pressure Regulat
 ors\n\n 	Restricting element\n 	Loading element\n 	Measuring element\n\nTy
 pes of Inspection Tests for Pressure Regulators\n\n 	Flow testing\n 	Lock-
 up testing\n 	Meter assembly leak testing\n 	Riser valve leak testing\n 	I
 nternal relief valve testing\n\nMaintenance Checks for Pressure Regulators
 \n\n 	Function test\n 	Inert purge\n 	Leak test\n 	Creep test\n\n&nbsp\;
ATTACH;FMTTYPE=image/jpeg:https://x8ti.com/wp-content/uploads/2025/03/Pres
 sure-Safety-Valve-Actuators-and-Regulators-–-Inspection-and-Maintenance.
 jpg
CATEGORIES:Mechanical Engineering
LOCATION:Dubai Training Courses\, Hilton Dubai Palm Jumeirah\, Dubai\, UAE\
 , United Arab Emirates
X-APPLE-STRUCTURED-LOCATION;VALUE=URI;X-ADDRESS=Hilton Dubai Palm Jumeirah\
 , Dubai\, UAE\, United Arab Emirates;X-APPLE-RADIUS=100;X-TITLE=Dubai Trai
 ning Courses:geo:0,0
END:VEVENT
BEGIN:VTIMEZONE
TZID:Asia/Dubai
X-LIC-LOCATION:Asia/Dubai
BEGIN:STANDARD
DTSTART:20250309T090000
TZOFFSETFROM:+0400
TZOFFSETTO:+0400
TZNAME:+04
END:STANDARD
END:VTIMEZONE
END:VCALENDAR