BEGIN:VCALENDAR
VERSION:2.0
PRODID:-//wp-events-plugin.com//7.2.3.1//EN
BEGIN:VEVENT
UID:274@x8ti.com
DTSTART;TZID=America/Toronto:20270308T090000
DTEND;TZID=America/Toronto:20270312T130000
DTSTAMP:20260224T091221Z
URL:https://x8ti.com/event/port-management-and-operations-4/
SUMMARY:Port Management and Operations
DESCRIPTION:Course Overview\nTransportation plays a very critical role in o
 ur day-to-day life. Sea transportation continues to play a vital role in t
 he movement of goods and hence ports are of paramount importance for a smo
 oth and efficient movement of sea transportation. With the increasing vess
 el sizes and ownership models changing continuously it is crucial that por
 ts need to be adaptable and responsive in this competitive world to sustai
 n and gain an edge to attract more business.\n\nWhat is a Port Management 
 Course? This course covers the functions and types of terminals and ports\
 , how to manage ports and their operations and maintenance. It comprises b
 oth national and international freight movements\, passenger consideration
 s\, port controls\, human and physical resource needs and requirements\, c
 onsignments\, monitoring and unitisation of consignments. The course also 
 covers port planning requirements and development\, associated infrastruct
 ure requirements and environmental considerations.\n\nThis training course
  will empower you with an in-depth understanding of Port Management and Op
 erations to further build your knowledge and understanding as this will he
 lp you to upscale your capabilities and enhance your skills.  It will equ
 ip you to take responsibilities in the area of your expertise so that you 
 can smoothly and seamlessly run port operations using the new techniques\,
  skills and knowledge thereby immediately adding to the overall growth of 
 your Organization.\nCourse Objectives\nThe main objective of this Port Man
 agement and Operations Course is to empower professionals with\n\n 	Compre
 hensive understanding and knowledge of port and terminal management\n 	Und
 erstand the basic principle of port business\n 	Understanding the critical
  role ports play in international trade and transport and the impact on ho
 w ports can positively and negatively influence seaborne trade which can i
 mpact the economic development of countries\n 	The required skills and cap
 abilities to interact on an international platform while handling port ope
 rations for trade and commerce\, on behalf of the organization\n 	Understa
 nd the implications globalization has on the choice of port and how logist
 ics and distribution patterns influence the growth and development or decl
 ine of ports operations\n 	Know the geographic causes and reasons for choo
 sing a port location and the extent to which this may depend on the nature
  of their hinterland and natural resources of the country\n 	Knowledge and
  awareness on the location of major world ports in liner\, dry bulk and li
 quid trades\n 	Learn how port performance can be measured – vessel turna
 round time\, cargo volume\, speed of cargo handling\, damage\, and pilfera
 ge prevention\n 	Understand how quality management systems and benchmarkin
 g can be used to improve performance\n 	Insight on the nature of port comp
 etition on both national and international\n\nTraining Methodology\nThis i
 nteractive Port Management and Operations Course will comprise the followi
 ng training methods:\n\n 	Presentation\n 	Assignments\n 	Case Studies &amp
 \; Functional Exercises\n 	Questionnaires\n\nOrganizational Benefits\nBy p
 rofessionals enrolling for this Port Management and Operations Course\, or
 ganizations will derive the following benefits:\n\n 	Trained and experienc
 ed professionals will have deep analytics into exactly how ports are proce
 ssing your shipments\n 	Influence and stimulate decisions on port destinat
 ion through downstream partnering requirements in the overall supply chain
 \, including geographical locations\n 	Using centralized data sharing and 
 visibility to drive analysis to identify\, potential issues and delays ear
 ly and predict the downstream impact to keep problems to a minimum\n 	Use 
 supply chain platform to integrate with port and terminal systems for real
 -time updates\n 	Compliance with internationally acceptable standards\n 	R
 educe risks of legal hassles and issues related to risk-sharing\, thus inc
 reasing credibility\n 	Better risk mitigation for better ROI\, resulting i
 n organizational growth and development\n\nPersonal Benefits\nProfessional
 s enrolling for this Port Management and Operations Course will benefit in
  the following ways:\n\n 	Complete knowledge and understanding of port man
 agement and operations\n 	Detailed understanding of port safety and its re
 lation to port operations\n 	Opportunity to enhance skills in strategic th
 inking and problem solving by using best practices of port and operation m
 anagement\n 	Studying to manage ports in a combination of material handlin
 g\, storage\, and overseeing commercial and technical components of the sh
 ipping industry\n 	Understanding in areas such as sea transportation\, shi
 pping laws\, marine economics and insurance\, international trade\, and co
 mmerce\n 	Theoretical\, technical\, and managerial skills to upkeep in wor
 king professionally in the port management sector\n 	Help in identifying o
 pportunities to develop strategies to improve effectiveness by using the l
 earnings and tactics\n\nWho Should Attend?\nPort Management is ideal for p
 ort management professionals who are required to build on their knowledge 
 in order to meet their day-to-day challenges and work effectively. Port Ma
 nagement will help prepare aspiring personnel with essential management sk
 ills\, strategies and knowledge required for today’s ever-growing sea fr
 eight market.\n\nTypical participants include:\n\n 	Early or mid-career po
 rt agents who want to develop their knowledge\n 	Agents wishing to update 
 their knowledge to keep abreast of changes in order to navigate through an
 y challenges\n 	Operations managers\, supply chain managers\, and operatio
 ns managers\n 	Professionals wishing to further develop their role in thei
 r organizations\n 	Shipping company personnel’s wishing to upgrade their
  knowledge to support their customers\n\nCourse Outline\nThe course covers
  the following topics for understanding Port Management and Operations:\nP
 ort Management\n\n 	The rationale of Port Business\n 	Understand structuri
 ng of deliver services and relationship between infrastructure\, navigatin
 g and handling facilities\n 	Understand cargo operations on board and asho
 re and prime importance of avoiding traffic and cargo congestion\n\nPorts 
 and Their Functions\n\n 	Warehousing and storage of merchandise on land an
 d stevedoring to and from vessel\n 	Inland access and intermodal connectio
 ns\n 	Loading and unloading\, handling transhipment of cargo\n 	Capacity P
 lanning\n\nIntroduction to International Trade and Logistics\n\n 	Understa
 nd the role of shipping in relation to ports in the global logistics\n 	Sh
 ip types and changes in trade routes due to impact of globalization\n 	Mar
 itime logistics and modal shift and their role in port management\n 	Revie
 w the role of the warehousing in port operations\n\nPort Project Managemen
 t – Techniques and Principles\n\n 	Principles of project management\n 	D
 ifference between normal and project operating activities\n 	Understand th
 e importance of good quality port project management\n\nEconomics of Port 
 Operations\, Port Pricing and Financing\n\n 	Review the port economics lan
 dscape\n 	Analyze port cost structure and pricing tariffs\n 	Financial man
 agement overview for port managers\n 	Operational review and financial imp
 lication for port development\n\nPort Master Plans and Port Engineering\n\
 n 	Understand the importance and process of port master planning\n 	Discus
 s key engineering issues and identify solution as part of a master plannin
 g review cycle\n 	Establish a multilateral inter port communications\, coo
 peration and data sharing strategy\n\nPort Labour and People Management\n\
 n 	Employee Management Framework\n 	Understanding of Historic and current 
 labor environment\n 	Effective Management of port personnel based on skill
 s and competency\n\n(Health\, Safety\, Security and the Environment) in Po
 rts Management\n\n 	Importance of HSSE in port sector\n 	Review HSSE manag
 ement concept\n 	Understand and review best practice in port management\n 
 	Regulatory framework for port safety and security\n 	Risk Management\n\n&
 nbsp\;
ATTACH;FMTTYPE=image/jpeg:https://x8ti.com/wp-content/uploads/2024/09/Scre
 en-Shot-2024-09-10-at-9.11.49-PM.png
CATEGORIES:Procurement, Logistics and Supply Chain Management
LOCATION:Boston Training Courses\, Boston Harbor Hotel\, Boston\, USA\, Uni
 ted States
X-APPLE-STRUCTURED-LOCATION;VALUE=URI;X-ADDRESS=Boston Harbor Hotel\, Bosto
 n\, USA\, United States;X-APPLE-RADIUS=100;X-TITLE=Boston Training Courses
 :geo:0,0
END:VEVENT
BEGIN:VTIMEZONE
TZID:America/Toronto
X-LIC-LOCATION:America/Toronto
BEGIN:STANDARD
DTSTART:20261101T010000
TZOFFSETFROM:-0400
TZOFFSETTO:-0500
TZNAME:EST
END:STANDARD
END:VTIMEZONE
END:VCALENDAR