BEGIN:VCALENDAR
VERSION:2.0
PRODID:-//wp-events-plugin.com//7.2.3.1//EN
BEGIN:VEVENT
UID:1617@x8ti.com
DTSTART;TZID=Europe/Paris:20261123T090000
DTEND;TZID=Europe/Paris:20261127T130000
DTSTAMP:20260208T142510Z
URL:https://x8ti.com/event/oil-and-gas-accounting-training-course-3/
SUMMARY:Oil and Gas Accounting Training Course
DESCRIPTION:Introduction\nOil and gas accounting involves managing complex 
 financial issues unique to the industry. Accountants in this field need to
  be highly skilled\, often requiring a specialized certification to effici
 ently address these challenges and ensure profitability.\n\nOil and gas co
 mpanies rely on accountants to identify and predict risks\, utilizing effe
 ctive methods and understanding key topics such as take-or-pay arrangement
 s\, the unit of production method\, and severance taxes. Additionally\, st
 andardized reporting is a crucial requirement in the sector.\nLearning Obj
 ectives\nThe primary aims of this course by Xcelerate Training Institute a
 re to:\n\n 	Identify major long-term issues in the oil and gas sector.\n 	
 Analyze factors affecting operations\, profitability\, and processes in oi
 l and gas companies.\n 	Use critical tools and technologies to measure per
 formance.\n 	Assist decision-makers with accurate analysis.\n 	Improve cor
 porate governance.\n 	Manage projects efficiently.\n 	Generate performance
  and skill measurement reports using the latest techniques.\n 	Identify po
 tential risks and apply risk management techniques.\n 	Understand internat
 ional accounting standards.\n 	Create financial statements as per IFRS.\n 
 	Measure performance of multinational oil and gas companies.\n\nTraining M
 ethodology\nThe course content is reviewed and updated to reflect market t
 rends before each session. Trainers with practical industry experience use
  the Do–Review–Learn–Apply Model\, maximizing trainee involvement th
 rough activities such as role-playing\, discussions\, and projects. This t
 wo-way learning environment ensures participants gain practical skills rel
 evant to the oil and gas sector.\nBenefits for Your Organization\nOrganiza
 tions will benefit from:\n\n 	Risk identification to prevent losses and ma
 ximize profits.\n 	Increased employee confidence to perform under pressure
 .\n 	Understanding and quickly resolving industry-specific issues.\n 	Staf
 f capabilities to prepare accurate accounts per IFRS.\n 	Enhanced employee
  ability to conduct analyses and suggest solutions.\n 	Improved company pe
 rformance through skill measurement and performance analysis.\n 	Better te
 amwork leading to genuine performance improvement.\n 	Improved decision-ma
 king from accurate analysis.\n 	Enhanced employee ability to support decis
 ion-making based on market conditions.\n\nBenefits for You\nParticipants w
 ill benefit by:\n\n 	Better understanding accounting topics.\n 	Assisting 
 colleagues in complex situations.\n 	Grasping the accounting challenges in
  the oil and gas sector.\n 	Enhanced ability to manage complex tasks.\n 	I
 mproved self-confidence in analyzing risks and developing strategies.\n 	I
 nfluencing colleagues with advanced skills.\n 	Increased job satisfaction 
 from working closely with management.\n\nTarget Audience\nThis course is i
 deal for:\n\n 	Accountants in the oil and gas industry responsible for ris
 k management.\n 	Finance and accounting professionals working with treasur
 y and budgeting.\n 	Professionals involved in management and reporting wit
 hin the oil and gas sector.\n 	Business consultants interested in oil and 
 gas companies.\n 	Cost analysts in the oil and gas industry.\n 	Managers o
 verseeing accountants.\n 	Anyone interested in the oil and gas accounting 
 domain.\n 	Financial planners in the oil and gas sector.\n 	Junior and mid
 -level accountants looking to advance.\n 	Professionals interested in fore
 casting and reporting techniques.\n\nCourse Outline\nIntroduction to the O
 il and Gas Industry &amp\; Current Issues\n\n 	Characteristics of the oil 
 and gas industry\n 	Nature of oil and gas companies\n 	Ongoing issues and 
 challenges\n\nOverview of Accounting in the Oil and Gas Industry\n\n 	Rese
 rves and resources\n 	Accounting and reporting principles\n 	Duties and re
 sponsibilities of accountants in the oil and gas sector\n\nFunctions in Pr
 oducing New Oil and Gas Products\n\n 	Exploration\n 	Acquisition costs\n 	
 Development\n 	Production\n 	Profit oil\n 	Cost oil\n\nAccounting Methodol
 ogies and Techniques\n\n 	International standards for oil and gas companie
 s\n 	Accounting techniques in the oil and gas sector\n 	Asset accounting a
 nd impacts\n 	Cost and revenue accounting\n\nUnique Accounting and Finance
  Topics\n\n 	IFRS and GAAP\n 	Joint venture agreements\n 	Ratio analysis i
 nterpretation\n 	Financial statements\n 	Profit and loss analysis\n\nIFRS 
 and the Oil and Gas Industry\n\n 	IFRS 6: Mineral asset exploration and ev
 aluation\n 	IAS 16: Equipment\, plant\, and property\n 	IAS 36: Asset impa
 irment\n 	IFRS 9 and IAS 39: Measurement and recognition\n 	DD&amp\;A\n\nM
 easuring Performance for Efficiency Improvement\n\n 	Beginner analysis: As
 sessing financial state\, cash flow\, income statement\n 	Benchmarking\n 	
 Capital investment analysis using IRR\, NPV\, ARR\, and payback\n\nMeasure
 ment of Oil and Gas Reserves\n\n 	Managing oil and gas\n 	Analysis of comp
 any reserves and assets\n\nRisk Management in the Oil and Gas Industry\n\n
  	Understanding the market\n 	Identifying various types of risks\n 	Assess
 ing risks\n\nAuditing and Reporting\n\n 	Legal requirements\n 	Audit commi
 ttee and board roles\n 	Developing plans for stability and growth\n
ATTACH;FMTTYPE=image/jpeg:https://x8ti.com/wp-content/uploads/2025/01/f091
 c7a9-96ce-4b7f-8b24-65b178d0b2b1.jpg
CATEGORIES:Accounting &amp; Finance
LOCATION:Paris Training Courses\, Maison Colbert Meliá Collection\, Paris\
 , France\, France
X-APPLE-STRUCTURED-LOCATION;VALUE=URI;X-ADDRESS=Maison Colbert Meliá Colle
 ction\, Paris\, France\, France;X-APPLE-RADIUS=100;X-TITLE=Paris Training 
 Courses:geo:0,0
END:VEVENT
BEGIN:VTIMEZONE
TZID:Europe/Paris
X-LIC-LOCATION:Europe/Paris
BEGIN:STANDARD
DTSTART:20261025T020000
TZOFFSETFROM:+0200
TZOFFSETTO:+0100
TZNAME:CET
END:STANDARD
END:VTIMEZONE
END:VCALENDAR