BEGIN:VCALENDAR
VERSION:2.0
PRODID:-//wp-events-plugin.com//7.2.3.1//EN
BEGIN:VEVENT
UID:533@x8ti.com
DTSTART;TZID=Asia/Riyadh:20261221T090000
DTEND;TZID=Asia/Riyadh:20261225T130000
DTSTAMP:20260202T163840Z
URL:https://x8ti.com/event/lte-planning-and-optimization-training-course/
SUMMARY:LTE Planning and Optimization Training Course
DESCRIPTION:Introduction\nThis course by Xcelerate Training Institute provi
 des a comprehensive understanding of LTE network planning and optimization
 . It covers the fundamentals of LTE technology\, network architecture\, an
 d performance metrics. The course emphasizes practical applications\, incl
 uding site surveys\, testing\, and optimization techniques.\nLearning Obje
 ctives\nUpon completion\, participants will gain a solid understanding of 
 LTE network planning and optimization principles. They will be able to ana
 lyze network performance\, identify optimization opportunities\, and contr
 ibute to network improvement initiatives.\nTraining Methodology\nThe cours
 e combines theoretical knowledge with practical examples to provide a comp
 rehensive learning experience. Participants will engage in interactive dis
 cussions\, case studies\, and hands-on activities to apply their knowledge
 .\nBenefits for Your Organization\nOrganizations investing in this course 
 can expect improved network performance\, enhanced customer experience\, a
 nd cost savings through optimized network operations.\nBenefits for You\nI
 ndividuals will develop expertise in LTE network planning and optimization
 \, expanding their career opportunities in the telecommunications industry
 .\nTarget Audience\nThis course is designed for engineers and technical pr
 ofessionals involved in the planning\, design\, and optimization of LTE ne
 tworks.\nCourse Outline\nIntroduction to LTE\n\n 	\nOverview of LTE Techno
 logy\n\n 	Introduction to LTE: evolution and key features\n 	LTE architect
 ure and components\n 	Differences between LTE and previous generations\n\n
 \n 	\nFundamentals of Network Planning\n\n 	Importance of planning in LTE 
 deployment\n 	Key planning parameters and considerations\n 	Overview of to
 ols used in LTE planning\n\n\n\nNetwork Design Principles\n\n 	\nRadio Net
 work Planning\n\n 	Coverage and capacity planning\n 	Site selection criter
 ia and considerations\n 	Antenna types and radiation patterns\n\n\n 	\nTra
 ffic Modeling and Dimensioning\n\n 	Understanding traffic patterns and use
 r behavior\n 	Tools for traffic modeling\n 	Dimensioning of network resour
 ces based on traffic demand\n\n\n\nOptimization Techniques\n\n 	\nKey Perf
 ormance Indicators (KPIs)\n\n 	Overview of KPIs in LTE networks\n 	Monitor
 ing and analyzing network performance\n 	Tools for performance measurement
 \n\n\n 	\nOptimization Strategies\n\n 	Techniques for improving network pe
 rformance\n 	RF optimization methods\n 	Advanced optimization tools and so
 ftware\n\n\n\nAdvanced Topics in LTE Optimization\n\n 	\nInterference Mana
 gement\n\n 	Types of interference in LTE networks\n 	Techniques for interf
 erence mitigation\n 	Use of advanced features like ICIC and eICIC\n\n\n 	\
 nSelf-Organizing Networks (SON)\n\n 	Introduction to SON concepts\n 	Benef
 its and challenges of SON in LTE\n 	Implementation and management of SON f
 eatures\n\n\n\nPractical Applications and Future Trends\n\n 	\nCase Studie
 s and Real-World Applications\n\n 	Review of successful LTE planning and o
 ptimization projects\n 	Lessons learned from real-world implementations\n 
 	Group discussion on challenges and solutions\n\n\n 	\nFuture Trends in LT
 E and Beyond\n\n 	Evolution from LTE to 5G\n 	Emerging technologies and th
 eir impact on planning and optimization\n 	Preparing for future challenges
  in network management\n\n\n\n&nbsp\;
ATTACH;FMTTYPE=image/jpeg:https://x8ti.com/wp-content/uploads/2024/10/IMG-
 20241019-WA0119.jpg
CATEGORIES:Telecommunication
LOCATION:http://online
END:VEVENT
BEGIN:VTIMEZONE
TZID:Asia/Riyadh
X-LIC-LOCATION:Asia/Riyadh
BEGIN:STANDARD
DTSTART:20251221T090000
TZOFFSETFROM:+0300
TZOFFSETTO:+0300
TZNAME:+03
END:STANDARD
END:VTIMEZONE
END:VCALENDAR