BEGIN:VCALENDAR
VERSION:2.0
PRODID:-//wp-events-plugin.com//7.2.3.1//EN
BEGIN:VEVENT
UID:597@x8ti.com
DTSTART;TZID=Europe/Paris:20261207T090000
DTEND;TZID=Europe/Paris:20261211T130000
DTSTAMP:20260215T160854Z
URL:https://x8ti.com/event/lean-construction/
SUMMARY:Lean Construction
DESCRIPTION:Introduction\n\nLean construction is developed from the unendin
 g pursuit of improvement in construction and has a goal of ensuring the co
 st of construction is as minimum as possible. Everyone in the construction
  industry would like to do the job faster and at a reduced price. Right fr
 om the designers who want to finish up their job and get to the next one\,
  to the project owners who want to get their project finished at a minimum
  and optimized cost. Lean construction training offers an insightful persp
 ective on how to maximize the value of any starting or ongoing constructio
 n project. This is done through detailed processes such as a good design\,
  activation\, construction\, salvaging\, recycling\, operations\, and main
 tenance.\n\nLean production has been successfully utilized in manufacturin
 g with some substantial gains\, which can be leveraged and used effectivel
 y in the construction industry. Lean production stands a chance of dramati
 cally improving the construction process and industry at large. This is be
 cause lot of elements and techniques can be utilized and ported over to th
 e construction process.\n\nThis Xcelerate Training Institute course will e
 xplore some of the world’s best lean construction practices and standard
 s\, delivering them in the most memorable way to those who will participat
 e. Xcelerate Training Institute Talent professional tutors will give insig
 ht into the key concepts and practically apply them to your construction p
 roject to get dramatic results in cost-saving and speed while maintaining 
 quality.\n\nLearning Objectives\n\nThe main objectives of this course are 
 to enable the professionals who undertake it to:\n\n 	Thoroughly understan
 d lean construction best practices\n 	Oversee multiple functions in constr
 uction projects ensuring that all the activities and functions run smoothl
 y while optimizing and minimizing the cost\n 	Apply advanced techniques an
 d tools in construction to enhance the quality and speed of work in any pr
 oject\n 	Train other important professionals in the project on the best wa
 ys to minimize waste and use lean concepts\n 	Contribute to organizational
  profit\, development\, and credibility by utilizing the best methods and 
 concepts in construction\n 	Review existing practices to ensure they reduc
 e both time and resources on any project\n 	Predict project expenditure ac
 curately and ensure that the project does not waste resources\n\nTraining 
 Methodology\n\nThis course will be handled by industry best professionals 
 who have a deep and clear understanding of how lean construction concepts 
 can be applied practically to any project. The course will give the partic
 ipants the technical skills and knowledge necessary to apply lean producti
 vity techniques to construction projects. Case studies\, practical exercis
 es\, and detailed attention to everyone undertaking this course shall be g
 uaranteed with the goal to ensure maximum understanding of concepts.\n\nAc
 tive participation by engagement is encouraged in this course\, and experi
 ential learning\, scenario analysis\, and review of learning materials are
  highly considered an important part of this course. Like all our acclaim
 ed courses\, this program also follows the ‘Do-Review-Learn-Apply’ mod
 el.\n\nBenefits For Your Organization\n\nOrganizations that will have thei
 r professionals undergo this course will benefit in the following ways:\n\
 n 	Improved organizational credibility and development because of well-opt
 imized and managed resources\n 	Detailed analysis\, better handling of pro
 jects\, and satisfied clients due to better ways and tools of handling any
  project\n 	Appropriate allocation of resources to cut costs\n 	Better reu
 se of materials to avoid wastage and unnecessary costs\n 	Regular training
  of other employees on the best lean practices and internationally recogni
 zed standards\n 	Enhanced quality of operations because of advanced applic
 ation of tools and technology that will be learnt through this course\n 	I
 ntegrated approach in construction projects\n 	Availability of a skilled a
 nd better-equipped workforce\n 	Better and improved project handling proce
 dures\n\nBenefits For You\n\nAll the participants who will undergo this co
 urse stand to benefit in the following ways:\n\n 	Detailed understanding a
 nd deep knowledge of lean productivity concepts in construction\n 	Increas
 ed and better perspective and awareness to select and evaluate the most ef
 fective methods and techniques for running a construction project\n 	Bette
 r and effective decision-making process\n 	Increased capabilities to deliv
 er a project on time and use the minimum cost while maintaining quality\n 
 	Ability and skills to initiate learner operations\n 	Increase the opportu
 nities for career development because of enhanced and demonstrable skills\
 n 	Increased awareness and capabilities to reduce cost through effective a
 pplication of lean productivity techniques\n\nTarget Audience\n\n 	Constru
 ction managers who wish and need to understand how to tap into the crucial
  and highly effective lean construction concepts and techniques\n 	Operati
 ons managers who continuously implement projects to enhance production\n 	
 Project managers who need to cut on resource waste\, improve productivity\
 , and use modern methods in construction projects\n 	Any professionals who
  may want to pursue a successful career in construction\n 	Graduates who w
 ish to put themselves ahead of others professionally and have some tangibl
 e skills to showcase to potential employers and clients\n 	Administrators 
 who want to effectively dispense their mandate while giving highly valued 
 advice to those in the field\n\nCourse Outline\n\nIntroduction to Lean Con
 struction Techniques\n\n 	The 5S system\n\n 	Sorting and doing away with t
 he clutter and what is not needed\n 	Shining and ensuring a clean working 
 area\n 	Sustenance to ensure standards adherence\n 	Standardize to develop
  standards for the above methods\n 	Straighten to organize all the remaini
 ng parts\n\n\n 	The 6 losses\n\n 	Small stops\n 	Production rejects\n 	Bot
 tle-neck speed\n 	Breakdowns\n 	Setup and adjustments\n 	Start-up rejects\
 n\n\n\nMachine Monitoring and Effective Use\n\n 	OEE (overall equipment ef
 fectiveness)\n\n 	Downtime\n 	Equipment slow cycle occurrences\n 	Equipmen
 t rejects\n\n\n 	Monitoring automation\n 	Real-time visualizations and not
 ifications\n 	Quality issues\n 	Handling poor performance\n\nTotal Product
 ive Maintenance \n\n 	How to reduce cycle times\n 	How does TPM help in c
 onstruction projects?\n 	Value stream mapping\n\n 	What is the importance 
 of value stream mapping?\n 	How to apply value stream mapping in construct
 ion\n\n\n 	Visualization\n\n 	Visual indicators\n 	Visual controls\n 	Visu
 al display\n\n\n 	What is total productive maintenance?\n\nWork Flow\n\n 	
 Takt time\n\n 	Ensuring construction schedules are met\n 	Planned producti
 on time\n 	Client specifications\n 	Target pieces\n 	Actual pieces\n\n\n 	
 SMART goals\n\n 	Setting Specific goals\n 	Ensuring your goals are Measura
 ble\n 	Have Attainable goals\n 	Ensure that your goals are relevant to you
 r plan\n 	Be Time-specific in setting your goals\n\n\n\nKaizen (Continuous
  Improvement)\n\n 	Incremental improvements\n 	Regular construction achiev
 ement\n 	Resources management\n 	Continuous flow\n 	The Real Place (Gemba)
 \n\n 	Philosophy background\n 	Understanding of construction sites and pro
 jects\n\n\n\nScheduling\n\n 	Level scheduling (Heijunka)\n\n 	Breaking wor
 k into batches\n 	Sequencing\n\n\n 	Kanban\n\n 	The pull system\n 	The flo
 w of materials\n 	Waste handling\n\n\n 	Jidoka\n\n 	Automation\n 	How to r
 educe labor costs using jidoka?\n 	Quality issues\n\n\n\nAnalysis\n\n 	Jus
 t-in-time\n\n 	Making it all work\n 	Using different lean tools together\n
  	Parts construction\n\n\n 	Policy Deployment (Honshin Kanri)\n\n 	Constru
 ction site plan\n 	Organization strategy\n\n\n 	Bottleneck analysis\n\n 	G
 etting the process limits\n 	Identifying the weakest links\n\n\n 	Andon\n\
 n 	Making it work for a construction project\n 	Production status\n 	Impor
 tance of communication\n\n\n 	Key Performance Indicators (KPIs)\n\n 	Best 
 construction KPIs\n 	Designing the metrics\n 	Strongly promoted KPIs\n\n\n
  	Muda (waste)\n\n 	Managing waste\n\n\n 	Plan\, Do\, Check\, Act\n\n 	Est
 ablishing the plan\n 	Implementing the plan\n 	Verifying the expected resu
 lts\n 	Reviewing and assessment\n\n\n 	Poka-Yoke (error proofing)\n\n&nbsp
 \;
ATTACH;FMTTYPE=image/jpeg:https://x8ti.com/wp-content/uploads/2024/11/What
 sApp-Image-2024-10-25-at-9.27.44-AM2.jpeg
CATEGORIES:Construction Management &amp; Civil Engineering
LOCATION:Paris Training Courses\, Maison Colbert Meliá Collection\, Paris\
 , France\, France
X-APPLE-STRUCTURED-LOCATION;VALUE=URI;X-ADDRESS=Maison Colbert Meliá Colle
 ction\, Paris\, France\, France;X-APPLE-RADIUS=100;X-TITLE=Paris Training 
 Courses:geo:0,0
END:VEVENT
BEGIN:VTIMEZONE
TZID:Europe/Paris
X-LIC-LOCATION:Europe/Paris
BEGIN:STANDARD
DTSTART:20261025T020000
TZOFFSETFROM:+0200
TZOFFSETTO:+0100
TZNAME:CET
END:STANDARD
END:VTIMEZONE
END:VCALENDAR