BEGIN:VCALENDAR
VERSION:2.0
PRODID:-//wp-events-plugin.com//7.2.3.1//EN
BEGIN:VEVENT
UID:2246@x8ti.com
DTSTART;TZID=Europe/Madrid:20260608T090000
DTEND;TZID=Europe/Madrid:20260612T130000
DTSTAMP:20260215T092103Z
URL:https://x8ti.com/event/industrial-steam-boiler-system-operation-and-ma
 intenance-training-course-2/
SUMMARY:Industrial Steam Boiler System\, Operation and Maintenance Training
  Course
DESCRIPTION:Introduction\n\nSteam is an important fluid in process industri
 es in oil\, gas and chemical industries. Steam is used not only to run str
 eam-turbine-driven power generators but also to affect the chemical proces
 ses wherein water molecules at high temperatures are required for particul
 ar transformational reactions.\n\nHow does an industrial steam boiler work
 ?\n\nWhile production of steam is a very simple process – just boil wate
 r over an extended period– industrial steam production is complex and re
 quires sophisticated engineered steam generation plants with or without st
 eam turbine generators (STGs).\n\nHow do you maintain a steam boiler?\n\nI
 ndustrial steam is fraught with major hazards such as steam burning the hu
 man skin if exposed uncontrollably\, steam condensate hammering the pipeli
 nes and damaging the assets and so on. Hence\, steam generation with the a
 ssociated operation and maintenance of steam plants is a specialized area.
 \n\nThis Xcelerate training course will empower attendees with comprehensi
 ve knowledge about Industrial Steam Boiler System\, Operation and Maintena
 nce.\n\n&nbsp\;\n\nLearning Objectives\n\n 	Understand the concepts around
  Industrial Steam Boiler System\, Operation and Maintenance.\n 	Comprehend
  the chemical and physical properties of steam\, including its hazards.\n 
 	Learn about steam generation thermodynamic cycles e.g.\, Rankine Cycle\n 
 	Discover the advantages and disadvantages of steam\n 	Understand the layo
 ut of equipment in a steam generation plant\n 	Learn the operational proce
 dures including safe shutdown\, turnaround\, and the start-up of a steam p
 lant.\n 	Orient on safety preparation for the turnaround of a steam plant.
 \n 	Understand the inspection and maintenance aspects of a steam plant.\n 
 	Appreciate the importance of personnel protection equipment in steam plan
 t\n 	Comprehend managing emergencies in the steam plant.\n 	Under legal\, 
 regulatory and insurance implications\n\nTraining Methodology\n\n 	Lecture
 s (Tutor-assisted online and classroom as per prevailing situations/requir
 ements)\n 	Seminars &amp\; Presentations\n 	Group Discussions and workshop
 s\n 	Assignments\n 	Case Studies &amp\; Functional Exercises\n\nBenefits f
 or Your Organization\n\n 	Ensure a trouble-free operation\, inspection and
  maintenance of steam Plants\n 	Appreciate hazards of steam and safety aro
 und it\n 	Confidently use steam to produce economically crucial power\n 	I
 mproved financial performance due to a well-maintained steam plant\n\nBene
 fits for You\n\n 	Confident to identify and implement in their professiona
 l careers the underlying success factors for safe\, efficient and trouble-
 free operation and maintenance of steam Plants.\n 	Emerge as a skilled pro
 fessional for Steam Plant e.g.\, production manager\, inspection manager\,
  maintenance manager and the associated technicians\, operators and engine
 ers.\n 	Prepare themselves to acquire boiler competence certification subs
 equently.\n 	The knowledge and skill provided in this course are useful fo
 r legal\, insurance and regulation personnel as well to interface the stea
 m plants as per their areas of responsibility\n\nTarget Audience\n\n 	Trai
 nees/intern/fresh employees who want to take up Design\, Operation\, Inspe
 ction\, Maintenance and HSE management of Industrial Steam Boiler System\,
  as their career.\n 	All Steam Plant workers\, supervisors and managers wh
 o want to promote productivity of operation\, inspection\, maintenance\, h
 ealth &amp\; safety in their steam plants.\n 	All employees/workers who ha
 ve been on rotation from their existing departments to the Steam Plant (Pl
 anning\, operation\, Inspection\, and maintenance).\n\nCourse Outline\n\nB
 asics/Concepts About Steam and Its Generation \n\n 	A short history of bo
 iler design\n 	Why use steam? Where is steam used?\n 	How Boilers Work: A 
 generic steam system\n 	Types of Boilers\n 	Key Components of Boilers\n 	S
 afety Issues\n\nTypes of and Layout of Industrial Steam Boilers\n\n 	Coil 
 steam generator (once through boiler)\n 	Water-tube boiler\n 	MTHS boilers
  (fire-tube or smoke-tube boilers)\n 	Basic overview of Steam Plant\n\nBas
 ic Steam Distribution\n\n 	How steam moves (simple explanation)\n 	The mot
 ion of steam (detailed explanation)\n 	Strainers\n 	Steam traps\n 	Pipe ex
 pansion loops and drains\n\nBoiler Operation\n\n 	The boiler operator\n 	T
 he manager\n 	The role and function of technology in the modern boiler hou
 se\n 	Boiler Feed Pumps\n 	Contamination of condensate\n 	De-aerators/Cond
 enser\n 	Economizer\n 	Super heaters and Attemperators\n 	Condensate Shunt
  pump\n 	Boiler level controls\n 	Isolation and Control valves\n 	Safety v
 alves/ Pressure reducing valves (PRV)\n 	Pressure and temperature gauges\n
  	Non-return valves/check valves\n 	Total dissolved solids (TDS)\n 	Boiler
  Loading\, Sequencing\, Scheduling\, and Control\n\nBoiler Management and 
 Control\n\n 	Typical instrumentation for boiler management (Monitor Boiler
  Gauges)\n 	Optimized Air-to-Fuel Ratio: Boiler Combustion Efficiency\n 	S
 team Boiler Efficiency (Indirect method and Direct or fuel-to-steam effici
 ency)\n 	Safety\, Efficiency and Life of the Equipment\n 	Boiler Energy Be
 st Practices\n 	Guarantee and Service\n 	Fuel System and Burners\; Flame f
 ailure device\n 	Flare system and Regeneration\n 	Steam turbine and Power 
 Generator\n 	Seasonal Operation\n 	Operating Multiple Boiler Plants\n 	Chi
 llers/Cooling Towers\n 	Air Handling Systems\n 	Water treatment\n 	Feed wa
 ter pump arrangements\n\nInspection of Steam Generation Plants\n\n 	Corros
 ion Issues: Cathodic Protection System\n 	Inspect and Repair Insulation: T
 hermography\n 	Thickness and crack monitoring of piping and vessels\n 	Met
 allography\n 	Inspection of drums: Visual and NDE (Non-Destructive Examina
 tion)\n 	Inspection of Headers\, Piping\, tubing\n 	Loaded Spring inspecti
 on\n 	Vibration monitoring\n 	PSV and PRV Testing\n 	Valid Permit to Work 
 (PTW) for a confined space inspection\n 	Energy isolation during inspectio
 n: Lock and Tag\n 	Combustion analyzers\n 	Trending Boiler Stack Temperatu
 re\n\nMaintenance of Steam Generation Plant Equipment\n\n 	Sample Maintena
 nce Logs &amp\; Boiler Checklists\n 	PSV and PRV maintenance\n 	Maintenanc
 e of Air openings\, Flue gas vent system\, Pilot and main burner flames\n 
 	Maintenance of Fans\, Blowers\, Air Compressors and Pumps\n 	Maintenance 
 of Electrical Systems and Motors\n 	Opportunity Identification\n\nSome Haz
 ards of Steam\n\n 	Boiling liquid expanding vapor explosion (BLEVE)\n 	Col
 umn collapse water hammer\n 	Sub-cooled condensate induced water hammer\n 
 	Flash steam explosion\n 	Over-pressure in the distribution system\n 	Over
 -pressure (inside a pressure vessel)\n 	Plug flow water hammer\n 	Steam ha
 mmer\n 	Temperature\n 	Vacuum draw\n 	Water-logging\n 	Other Safety Issues
 \n 	Safe &amp\; Functional Boiler Room | Requirements\n\nOther Miscellaneo
 us Best Practices for Steam Plants\n\n 	Boiler Water-Use Best Practices\n 
 	Best Practices for Efficient Operation\n 	Boiler Rules of Thumb\n 	Best P
 ractices for Inspection and Maintenance\n\nCase Studies\, Incidents\, Prob
 lem Resolutions\, Q&amp\;A’s\n\n 	Case Studies\n 	Incidents\n 	Emergency
  Response\n 	References\n 	Other Resources\n\n&nbsp\;
ATTACH;FMTTYPE=image/jpeg:https://x8ti.com/wp-content/uploads/2025/03/Indu
 strial-Steam-Boiler-System-Operation-and-Maintenance.jpg
CATEGORIES:Mechanical Engineering
LOCATION:Barcelona Training Courses\, Le Méridien Barcelona Hotel\, Barcel
 ona\, Spain\, Spain
X-APPLE-STRUCTURED-LOCATION;VALUE=URI;X-ADDRESS=Le Méridien Barcelona Hote
 l\, Barcelona\, Spain\, Spain;X-APPLE-RADIUS=100;X-TITLE=Barcelona Trainin
 g Courses:geo:0,0
END:VEVENT
BEGIN:VTIMEZONE
TZID:Europe/Madrid
X-LIC-LOCATION:Europe/Madrid
BEGIN:DAYLIGHT
DTSTART:20260329T030000
TZOFFSETFROM:+0100
TZOFFSETTO:+0200
TZNAME:CEST
END:DAYLIGHT
END:VTIMEZONE
END:VCALENDAR