BEGIN:VCALENDAR
VERSION:2.0
PRODID:-//wp-events-plugin.com//7.2.3.1//EN
BEGIN:VEVENT
UID:595@x8ti.com
DTSTART;TZID=Europe/Madrid:20260907T090000
DTEND;TZID=Europe/Madrid:20260911T130000
DTSTAMP:20260216T163241Z
URL:https://x8ti.com/event/industrial-building-design-and-renovation-4/
SUMMARY:Industrial Building Design and Renovation
DESCRIPTION:Introduction\n\nThis course should be on the top list of must-t
 ake courses for civil engineers across all the industries such as oil and 
 gas\, water treatment\, power plant\, and industrial factories project. Pr
 ofessionals who intend to enhance their knowledge and skills in the analys
 is of steel and concrete structures designs\, basic and advanced principle
 s of structure renovation\, and foundations of renovation will greatly ben
 efit from this course.\n\nIndustrial building renovation and design is a v
 ery critical course for professionals involved in construction in any orga
 nization. This course will give the participants the required skills and i
 n-depth knowledge to stay ahead in their respective industries without bre
 aking a sweat.\n\nThis Xcelerate Training Institute course will provide en
 lightenment into the real structures illustrations. This will enhance unde
 rstanding of the design methodologies and be able to practically use the a
 cquired knowledge in different industrial buildings and structures.\n\nCas
 e studies and relevant examples will be used\, ranging from typical two-di
 mensional beams and frames to the well-known three-dimensional story build
 ings that use frames to space frames that are used in special systems. The
  course will cover different techniques and methods for inspecting\, evalu
 ating\, and investigating the causes of structural deterioration and the m
 ost effective methods for renovation.\n\nLearning Objectives\n\nThe main o
 bjectives of this course are to enable the participants to be able to:\n\n
  	Thoroughly understand the process of renovating and designing industrial
  buildings\n 	Have a better and improved understanding of the various mate
 rials used in the renovation\n 	Determine the most convenient geometry\, s
 tructural system\, and various layouts\n 	Naturally\, investigate and crea
 te an assessment report of the building conditions\n 	Effectively analyses
  and design steel and concrete industrial buildings per international guid
 elines\n 	Make accurate decisions on the most appropriate renovation metho
 dologies\n 	Effectively apply load and load combination calculations to st
 ructural models following international standards\n\nTraining Methodology\
 n\nThis course will be delivered by experts and professionals with vast ex
 perience in their field of domain. The courses are well designed to enable
  the participants to benefit from them maximally. The modes of delivery wi
 ll be using class notes\, lectures\, audio-visual aids\, presentations\, a
 nd case studies.\n\nParticipants are highly encouraged to be engaging and 
 active during delivery to understand the content effectively. Like all ou
 r acclaimed courses\, this program also follows the ‘Do-Review-Learn-App
 ly’ model.\n\nBenefits For Your Organization\n\nOrganizations that will 
 have professionals who have undertaken this course will benefit in the fol
 lowing ways:\n\n 	Have advanced and experienced professionals review their
  building designs to determine if they should be renovated\n 	Work through
  several design examples illustrating practical solutions for different pr
 oblems of design for new constructions and renovation\n 	Find out to creat
 e better designs foundation for process equipment typically found in indus
 trial buildings\n 	Explore the complexities of using various crane systems
  in building industrial buildings\n 	Get better anchorage to concrete and 
 demented\n 	Increase loading carrying capabilities of their buildings by i
 ncreasing the capacities of beams and frames\n\nBenefits For You\n\nProfes
 sionals who will be undertaking this course will benefit in the following 
 ways:\n\n 	Gain experience and skills in designing and renovating industri
 al buildings\n 	Understand vertical loads\, foundation strengthening\, sei
 smic retrofit\, and wind\n 	Improve their understanding of designing new c
 onstructions\, including the design of crane runway beams and crane suppor
 ts and typical framing systems\n 	Have experience in designing foundations
  for buildings\, demented\, anchorage\, and equipment installations\n 	Han
 dle building expansion and renovation of the building envelope\n\nTarget A
 udience\n\nThis course is designed for professionals working in various in
 dustries that are involved in the construction of new buildings or renovat
 ing existing ones. It will greatly benefit the following:\n\n 	Constructio
 n engineers who are directly involved in designing buildings and structure
 s\n 	Consultant engineers who are consulted on buildings and structures de
 sign\n 	Engineering services companies\n 	Design engineers who wish to upg
 rade their skills\n 	Contractor engineers\n\nCourse Outline\n\nDesigning S
 teel Structures and Buildings\n\n 	Base plates and anchorage bolts\n 	Stee
 l frames design process\n 	Crane girders\n 	Pipe racks design\n 	Design th
 e bracing systems\n 	Purloins and side girt design\n\nIndustrial Buildings
  Renovation\n\n 	Building expansion\n 	Using CFRP for structural strengthe
 ning\n 	Primary framing strengthening to handle vertical loads\n\n 	Concre
 te usage\n 	Using metals building systems\n 	Using steel structures\n\n\n\
 nOther Renovations\n\n 	Wind and seismic retrofit\n 	Renovation of slabs o
 n grade\n 	Anchorage strengthening and demented\n 	Foundation strengthenin
 g\n 	How to add new equipment to existing buildings\n\nFactors Affecting R
 enovation Period\n\n 	Location\n\n 	Regional location\n 	Rural\n 	The loca
 tion details\n 	Urban\n\n\n 	Commercial adaptive re-use\n 	Cultural use\n 
 	Mixed-use\n 	Monument and process\n\nEvaluation Process for Building\n\n 
 	Structure and cladding\n 	Fire safety\n 	Site coverage\n 	Lighting\n 	Ser
 vices\n 	Plan and configuration\n\nUnderstanding Building Evaluation\n\n 	
 Ultrasonic and infrared\n 	Methods of inspection and evaluation of industr
 ial buildings\n 	Methods of protection\n 	Concrete crack types\n 	Selectin
 g the repair of the material\n 	Cathodic protection\n 	Corrosion phenomena
 \n\nCreating Cost-effective Geometry Calculation of Different Loads\n\n 	L
 oad combination\n 	Creating structural layout\n 	Wind loads\n\n 	Standards
  and procedure\n 	Load resisting systems\n 	Obtaining the design data\n 	C
 ontrolling factors\n 	Parameters in the calculations in wind loads\n\n\n 	
 Design criteria\n 	Seismic loads\n\n 	Design approach\n 	Standards\n 	Deta
 iling requirements\n 	Procedures used to get the seismic loads\n 	Sources\
 n 	Loads\n 	Load resisting systems\n\n\n\nConcrete Building Design for Ind
 ustrial Use\n\n 	Designing frames\n 	Designing concrete beams for shear an
 d torsion\n 	Liquid or earth retaining structures\n 	Designing of concrete
  stairs\n 	Concrete slabs design\n 	Tanks foundation design\n 	Foundations
 \n\n 	Shallow\n 	Deep\n\n\n 	Concrete columns design\n 	Vibrating equipmen
 t foundation design\n\nReviving Industrial Buildings\n\n 	Introduction to 
 balancing preservation and change\n 	Site clearance\n 	Area protection\n 	
 Decline and dereliction\n 	Inner-city industrial quarters\n 	From renewal 
 to regeneration\n\n&nbsp\;
ATTACH;FMTTYPE=image/jpeg:https://x8ti.com/wp-content/uploads/2024/11/What
 sApp-Image-2024-10-25-at-9.27.45-AM.jpeg
CATEGORIES:Construction Management &amp; Civil Engineering
LOCATION:Barcelona Training Courses\, Le Méridien Barcelona Hotel\, Barcel
 ona\, Spain\, Spain
X-APPLE-STRUCTURED-LOCATION;VALUE=URI;X-ADDRESS=Le Méridien Barcelona Hote
 l\, Barcelona\, Spain\, Spain;X-APPLE-RADIUS=100;X-TITLE=Barcelona Trainin
 g Courses:geo:0,0
END:VEVENT
BEGIN:VTIMEZONE
TZID:Europe/Madrid
X-LIC-LOCATION:Europe/Madrid
BEGIN:DAYLIGHT
DTSTART:20260329T030000
TZOFFSETFROM:+0100
TZOFFSETTO:+0200
TZNAME:CEST
END:DAYLIGHT
END:VTIMEZONE
END:VCALENDAR