BEGIN:VCALENDAR
VERSION:2.0
PRODID:-//wp-events-plugin.com//7.2.3.1//EN
BEGIN:VEVENT
UID:2386@x8ti.com
DTSTART;TZID=Europe/Amsterdam:20260928T090000
DTEND;TZID=Europe/Amsterdam:20261002T130000
DTSTAMP:20260222T083905Z
URL:https://x8ti.com/event/heating-ventilation-and-air-conditioning-hvac-s
 ystems-technician-training-course-4/
SUMMARY:Heating\, Ventilation and Air Conditioning (HVAC) Systems Technicia
 n Training Course
DESCRIPTION:Introduction\n\nHeating\, ventilation and air conditioning (HVA
 C) is an advanced technique ensuring vehicular and indoor environmental co
 mfort. HVAC systems are designed to provide thermal comfort and acceptable
  indoor air quality. HVAC is an important consideration in residential as 
 well as industrial and official structures.\n\nThe heating system generate
 s heat for the building\, the ventilator changes or replaces the air in a 
 given space to control temperature and remove moisture\, odor\, smoke\, et
 c.\, while the air conditioner provides cooling and humidity control. Effi
 cient HVAC systems have several benefits\, including lower electricity bil
 ls\, better temperature variability\, cleaner air\, remote access\, etc.\n
 \nHowever\, these systems could pose issues because of various reasons\, i
 ncluding lack of maintenance\, dirty/clogged filters\, leaking refrigerant
 \, thermostat malfunctions\, dirty coils\, outdated designs\, etc.\n\nThis
  Xcelerate Training Institute course will empower you with complete inform
 ation and knowledge about HVAC systems\, including their operation\, inspe
 ction\, maintenance and repair.\n\nThe course content is aimed to provide 
 all relevant information and knowledge to effectively work with or oversee
  the working of HVAC systems. Undertaking this course will not only provid
 e you with the required knowledge but also the necessary experience and co
 nfidence to effectively carry out responsibilities related to installation
 \, functioning\, maintenance and repair of HVAC systems.\n\nLearning Objec
 tives\n\n 	detailed information and knowledge of HVAC systems\, including 
 their installation\, operation\, inspection\, maintenance and repair\n 	ex
 perience and knowledge to inspect HVAC systems to check for issues or gaps
  and ensure functioning at optimal efficiencies\n 	the confidence and expo
 sure to handle malfunctions and troubleshooting situations without letting
  these impact the environment or people\n 	the required understanding and 
 awareness of expected standards of safety as well as environmental conserv
 ation to ensure that all operations are within these standards and benchma
 rks\n 	the skill and ability to foresee a challenge or issue in the functi
 oning of HVAC systems and undertake early measures to minimize damage or p
 revent inconvenience\n 	the adequate knowledge and experience to work with
  HVAC systems to ensure optimal levels of operation\, maintenance\, reduce
 d wear and tear\, in turn increasing life or longevity\n 	the confidence a
 nd knowledge to help groom other professionals to work with HVAC systems w
 ithin the expected standards of quality and safety\n 	the ability to contr
 ibute to reducing costs and eventually contributing to organizational grow
 th and development\n\nTraining Methodology\n\nXcelerate Training Institute
  offers training on a variety of topics. The courses are completely custom
 izable as per the intended audience. Thus\, the course content is thorough
 ly checked before each training session to ensure that it is relevant to t
 he intended audience. Lectures are delivered by a highly experienced profe
 ssional from the relevant domain\, using audio-video presentations.\n\nTra
 inee participation is encouraged through group assignments\, projects\, et
 c. Role-plays help relate practical application to the theoretical trainin
 g content delivered through lectures. Case studies also help add relevance
  to theoretical and practical scenarios.\n\nBenefits for Your Organization
 \n\n 	Enhanced performance and functioning of HVAC systems handled by trai
 ned professionals\n 	Regular inspection and maintenance activities to ensu
 re the HVAC systems are working optimally\n 	Increased system longevity an
 d reduced wear and tear because of greater care and maintenance of HVAC sy
 stems\n 	Reduced organizational costs for repair and replacements\n 	Adher
 ence to expected standards of human and environmental health and safety\n 
 	Organizational growth and development because of greater system efficienc
 y and reduced maintenance costs\n 	Regular trainings and workshops to ensu
 re that all employees work with the systems as per expected guidelines and
  standards\n 	Effective risk assessment and management\, resulting in mini
 mal loss to the organization\n 	Minimal downtime because of experienced an
 d trained professionals overseeing management of these HVAC systems\n\nBen
 efits for You\n\n 	Thorough understanding and increased knowledge of HVAC 
 systems\, including their installation\, operation\, maintenance and repai
 r\n 	Increased confidence and experience to troubleshoot for any issues wi
 th HVAC systems in the least time possible\n 	Greater skill and understand
 ing to work with HVAC systems and ensure proper maintenance to reduce shut
 downs or down times\n 	Increased confidence and experience to guide other 
 professionals regarding all critical aspects of HVAC systems\n 	Better str
 ategic skills and foresight to predict possible challenges and hindrances 
 and address these in time\, before they have grave impact\n 	Greater under
 standing and awareness of international standards of human and environment
 al safety and conservation\n 	Increased ability and potential to contribut
 e to organizational growth through various avenues\n 	Enhanced skills and 
 capabilities to work and assume higher roles and responsibilities related 
 to HVAC systems across any organization\, thereby increasing avenues for g
 rowth and progression\n\nTarget Audience\n\n 	Engineers and other professi
 onals involved in installation\, operation\, maintenance or repair of HVAC
  systems\n 	Vendors\, suppliers and manufacturers of HVAC systems who need
  to understand the criticality of maintenance and good quality systems\n 	
 Top management of the organization responsible for strategic plans and dec
 ision making for the organization\n 	Managers and leaders overseeing all o
 perations related to HVAC systems\n 	Internal and external auditors respon
 sible for ensuring adherence to all required standards and guidelines\n 	A
 ny other professional interested in knowing more about HVAC systems\n\nCou
 rse Outline\n\nOverview of HVAC Systems\n\n 	Definition\n 	Heating\n\n 	Ge
 neration\n 	Distribution\n 	Dangers\n\n\n 	Ventilation\n\n 	Mechanical or 
 forced ventilation\n 	Natural ventilation\n\n\n 	Air conditioning\n\n 	Ref
 rigeration cycle\n 	Free cooling\n 	De-humidification\n\n\n\nTypes of HVAC
  Systems\n\n 	Split systems\n 	Hybrid systems\n 	Duct-free systems\n 	Pack
 aged heating and air systems\n\nComponents of an HVAC System\n\n 	Heat ex-
 changer\n 	Blower motor\n 	Combustion chamber\n 	Condenser coil or compres
 sor\n 	Evaporator coil\n 	Thermostat\n\nBenefits of Installing HVAC System
 s\n\n 	Lower electricity bills\n 	Better temperature variability\n 	Cleane
 r air\n 	Remote access\n\nSymptoms of HVAC System Issues\n\n 	Odors or poo
 r indoor air quality\n 	Strange\, unfamiliar sounds\n 	Inconsistent airflo
 w/uneven heating and cooling\n 	Loss of system efficiency\n 	Unexpected ri
 se in heating and cooling costs\n\nCauses of HVAC System Issues\n\n 	Lack 
 of maintenance\n 	Dirty or clogged filters\n 	Leaking refrigerant\n 	Therm
 ostat malfunctions\n 	Improvement air balance\n 	Sluggish fan\n 	Dirty coi
 ls\n 	Outdated design\n\nAspects of Energy Efficiency\n\n 	Heating energy\
 n 	Ground source heat pump\n 	Ventilation energy recovery\n 	Air condition
 ing energy\n\nMaintenance Checklist for HVAC Systems\n\n 	Cleaning or repl
 acement of filters\n 	Cleaning of evaporator and condenser coils\n 	Cleani
 ng of drain lines\n 	Clearing of drain pans\n 	Replacement of worn pulleys
  and belts\n 	Inspection of ducts for molds\, dust\, debris\n 	Observation
  of humidity levels\n\n&nbsp\;
ATTACH;FMTTYPE=image/jpeg:https://x8ti.com/wp-content/uploads/2025/03/Heat
 ing-Ventilation-and-Air-Conditioning-HVAC-Systems-Technician-Training-Cour
 se-1.jpg
CATEGORIES:Mechanical Engineering
LOCATION:Amsterdam Training Courses\, Waldorf Astoria Amsterdam Hotel\, Ams
 terdam\, Netherlands\, Netherlands
X-APPLE-STRUCTURED-LOCATION;VALUE=URI;X-ADDRESS=Waldorf Astoria Amsterdam H
 otel\, Amsterdam\, Netherlands\, Netherlands;X-APPLE-RADIUS=100;X-TITLE=Am
 sterdam Training Courses:geo:0,0
END:VEVENT
BEGIN:VTIMEZONE
TZID:Europe/Amsterdam
X-LIC-LOCATION:Europe/Amsterdam
BEGIN:DAYLIGHT
DTSTART:20260329T030000
TZOFFSETFROM:+0100
TZOFFSETTO:+0200
TZNAME:CEST
END:DAYLIGHT
END:VTIMEZONE
END:VCALENDAR