BEGIN:VCALENDAR
VERSION:2.0
PRODID:-//wp-events-plugin.com//7.2.3.1//EN
BEGIN:VEVENT
UID:1446@x8ti.com
DTSTART;TZID=Asia/Kuala_Lumpur:20250922T090000
DTEND;TZID=Asia/Kuala_Lumpur:20250926T130000
DTSTAMP:20241227T134317Z
URL:https://x8ti.com/event/hazop-and-process-hazard-analysis-pha-leader-tr
 aining-course-4/
SUMMARY:HAZOP and Process Hazard Analysis (PHA) Leader Training Course
DESCRIPTION:Introduction\n\nThis Xcelerate Training Institute program provi
 des detailed instructions on how to carry out an effective HAZOP study and
  where PHA methods fit into the overall process safety management work pro
 cess. It helps prepare individuals to learn and facilitate PHA teams. In a
 ddition to receiving expert instruction on the technical and managerial pr
 ocedures involved with leading a PHA team\, you will also be allowed to fo
 rm teams and take turns leading the team.\n\nWhat tools and techniques wil
 l I learn in this “HAZOP and Process Hazard Analysis (PHA) Leader Certif
 ication Training Course”? In this course\, you will learn how to use the
  failure mode and effects analysis (FMEA) method and how to use checklists
  of hazards to supplement your brainstorming analyses.\n\nYou will also be
  able to identify the best situations and circumstances to use each techni
 que while leading and participating in practice analysis activities to acq
 uaint yourself with all and different technique.\n\nThis  Xcelerate Train
 ing Institute course will teach you the practical methods of performing Pr
 ocess Hazard Analysis (PHA) using hazard and operability (HAZOPs) software
 \, what-if analysis\, and checklist analysis techniques that satisfy feder
 al regulatory requirements.\n\nLearning Objectives\n\n 	Gain an in-depth u
 nderstanding of what a HAZOP and PHA system does\n 	Understand why there i
 s a need for a HAZOP and PHA system\n 	Define HAZOP and PHA and their role
  to avoid major accidents in the process industry\n 	Answer questions like
 :\n\n 	What is HAZOP?\n 	Why HAZOP?\n 	How to implement HAZOP and when?\n 
 	How to lead a HAZOP study?\n 	How to close-out a HAZOP review?\n\n\n 	Act
  as a HAZOP lead and provide support towards your company’s HAZOP and PH
 A process\n 	Practice PHA studies using the HAZOP and “What-If” techni
 ques\n 	Discover the tactics\, best practices\, and success factors that l
 ead to a successful PHA study\n 	Understand the meaning of design intent i
 n HAZOP studies\n 	Use guide words and parameters in HAZOP studies\n 	Use 
 risk matrices to rank risks\n 	Depict the importance of addressing common 
 cause failures\n 	Define the meaning of enabling events/conditions\n 	Prac
 tice how to address human factors in PHA studies\n\nTraining Methodology\n
 \n 	Lectures\n 	Seminars &amp\; Presentations\n 	Group Discussions\n 	Assi
 gnments\n 	Case Studies &amp\; Functional Exercises\n\nBenefits For Your O
 rganization\n\nCompanies who nominate their employees to participate in th
 is HAZOP and Process Hazard Analysis (PHA) Leader Certification Training C
 ourse can benefit in the following ways:\n\n 	Benefit from training your e
 mployees on the definition and importance of process safety information\, 
 along with the different roles played in the PHA\n 	Document your process 
 safety information systematically and efficiently\n 	Improve productivity 
 by teaching your staff about the PHA work process and how it fits into the
  overall organizational work processes\n\nBenefits For You\n\nIndividuals 
 who participate in this HAZOP and Process Hazard Analysis (PHA) Leader Cer
 tification Training Course can gain from it in the following ways:\n\n 	Le
 arn how to perform a PHA study from experienced professionals: collecting 
 information\, selecting the team\, leading a meeting\, and documenting the
  results\n 	Focus on human factors issues to analyze procedures in areas s
 uch as start-up\, shutdown\, and maintenance\n 	Get an opportunity to work
  through hands-on exercises in detail to gain the skills needed to facilit
 ate a HAZOP study\n 	Gain the ability to plan\, manage\, facilitate\, and 
 scribe for a HAZOP study\n\nTarget Audience \n\n 	Those involved in the:\n
 \n 	Management\,\n 	Engineering (design\, process\, chemical\, facilities\
 , instrumentation\, and controls)\,\n 	Operations\, and\n 	Safety of proce
 ss operations\n\n\n 	Engineers (Chemical\, Mechanical\, Process\, Pressure
  Vessel\, Piping\, Electrical)\n 	Process safety/risk managers\n 	Facility
  managers\n 	Safety/environment personnel\n 	Plant operators\n 	Area manag
 ers\n 	Maintenance personnel\n\nCourse Outline\n\nINTRODUCTION\n\n 	Overvi
 ew of PHA\n 	PHA Regulatory Requirements\n 	What-If Studies\n 	HAZOP Studi
 es\n 	Preparing and Organizing PHA Studies\n\nDESIGN &amp\; REVIEW\n\n 	In
 herent Safety Review\n 	Subdividing the Process for Study\n 	Design Intent
 \, Parameters\, and Deviations\n 	Completing the PHA Worksheet\n 	Recordin
 g PHA Studies\n\nHAZARDS IDENTIFICATION METHODOLOGIES\n\n 	Investigating W
 HAT to do WHEN\n 	What If/Checklist variations\n 	Process modifications\n 
 	Procedural HAZOP\n 	Methodologies and their uses\n 	HAZOP – Avoiding tr
 aps and enhancing productivity\n 	Preparation of checklists\n 	FMEA applic
 ation and execution\n 	Preliminary Hazards Analysis: application and execu
 tion\n 	Choice of hazards identification technique\n\nREGULATORY &amp\; LE
 ADERSHIP REQUIREMENTS\n\n 	Meeting Regulatory Requirements\n 	Leadership S
 kills for Managing the Team\n 	Management of PHA Studies\n 	Human Factors 
 in PHAs\n 	Facility Sitting in PHAs\n\nUTILITIES &amp\; OPERATION\n\n 	Tre
 ating Utilities\n 	Handling Multiple Modes of Operation\n 	PHA for Process
  Changes\n 	PHA for Procedures\n 	PHA for Batch Processes\n\n QUALITY CON
 TROL \n\n 	Quality Control in PHA Studies\n 	PHA Report Preparation\n 	Man
 aging the Follow-Up of PHA Results\n 	Planning PHA Revalidations\n 	Conduc
 ting PHA Revalidations\n 	Documenting PHA Revalidations\n\nTEAM LEADERSHIP
  &amp\; EXECUTION\n\n 	Qualitative and quantitative risk assessment\n 	Est
 ablishing purpose\, overcoming opposition\, driving forces\n 	Choice of PH
 A to be used and factors in determining the choice\n 	Estimation of schedu
 ling requirements\n 	Preparation for PHA sessions\n 	Thoroughness of analy
 ses\n 	PHA Leadership: Responsibility and why it requires emphasis?\n 	Sev
 en key points for exercising responsibility\n 	List of steps for performin
 g PHAs\n 	Handling recommendations\n 	Auditing of PHAs\n 	Conducting PHA s
 essions\n 	Preparation of PHA reports\n\nPHA DOCUMENTATION CONTROL &amp\; 
 REPORT GENERATION\n\n 	Recording hazard evaluations\n 	Defining risk matri
 ces\n 	Documenting recommendations\n 	Generating reports\n 	Creating custo
 m libraries\n 	Creating a PHA Corporate Template\n 	Document protection an
 d tracking document changes\n\nADVANCED PHA TOPICS\n\n 	Types of HAZOPs\n 
 	Improving productivity and efficiency of HAZOPs\n 	Optimization of node s
 izes — pros and con’s\n 	Improving productivity and efficiency of HAZO
 Ps\n 	Method for deriving deviations\n 	Creation of checklists\n 	Human fa
 ctors\n 	Management of Change (MOC)\n 	What qualifies for MOC?\n 	Minimizi
 ng hazards through improved layout\n 	Explosion modelling\n 	PSI (Process 
 Safety Information).\n
ATTACH;FMTTYPE=image/jpeg:https://x8ti.com/wp-content/uploads/2024/12/What
 sApp-Image-2024-12-25-at-1.21.08-PM.jpeg
CATEGORIES:Health, Safety and Environment (HSE)
LOCATION:Kuala Lumpur Training Courses\, Banyan Tree Kuala Lumpur\, Kuala L
 umpur\, Malaysia\, Malaysia
X-APPLE-STRUCTURED-LOCATION;VALUE=URI;X-ADDRESS=Banyan Tree Kuala Lumpur\, 
 Kuala Lumpur\, Malaysia\, Malaysia;X-APPLE-RADIUS=100;X-TITLE=Kuala Lumpur
  Training Courses:geo:0,0
END:VEVENT
BEGIN:VTIMEZONE
TZID:Asia/Kuala_Lumpur
X-LIC-LOCATION:Asia/Kuala_Lumpur
BEGIN:STANDARD
DTSTART:20240922T090000
TZOFFSETFROM:+0800
TZOFFSETTO:+0800
TZNAME:+08
END:STANDARD
END:VTIMEZONE
END:VCALENDAR