BEGIN:VCALENDAR
VERSION:2.0
PRODID:-//wp-events-plugin.com//7.2.3.1//EN
BEGIN:VEVENT
UID:1703@x8ti.com
DTSTART;TZID=Europe/Istanbul:20261221T090000
DTEND;TZID=Europe/Istanbul:20270101T130000
DTSTAMP:20260209T151655Z
URL:https://x8ti.com/event/fundamentals-of-accounting-training-course-3/
SUMMARY:Fundamentals of Accounting Training Course
DESCRIPTION:Introduction\nAccounting is a fundamental skill used in everyda
 y life\, often subconsciously. From personal budgeting to managing bills a
 nd planning future finances\, accounting principles are applied regularly.
  It's a misconception that accounting is only for accountants\; it's a vit
 al life skill for everyone\, especially business managers. Understanding a
 ccounting helps avoid financial mismanagement and ensures informed decisio
 n-making.\nLearning Objectives\nUpon completing this course\, participants
  will:\n\n 	Recognize the importance of accounting information in business
 .\n 	Understand the multifaceted nature of accounting and its applications
 .\n 	Read and interpret financial statements proficiently.\n 	Be aware of 
 various accounting concepts and conventions.\n 	Comprehend the components 
 and preparation of financial statements.\n 	Utilize accounting information
  in management functions like planning\, organizing\, directing\, and cont
 rolling.\n 	Apply accounting skills in tax planning.\n 	Achieve coordinati
 on among departments through smooth financial information flow.\n\nTrainin
 g Methodology\nThis course will include:\n\n 	Interactive lectures\n 	Solv
 ing practical problems\n 	Case studies\n 	Presentations\n 	Group discussio
 ns\n 	Query-solving sessions\n 	Use of latest tools\n\nBenefits for Your O
 rganization\nOrganizations will benefit from:\n\n 	Relevant presentation o
 f accounting information to different departments.\n 	Enhanced planning th
 rough budget preparation\, future projections\, and revenue forecasting.\n
  	Efficient inventory management through timely valuation and quantificati
 on of stocks.\n 	Financial health assessment by analyzing profitability an
 d business position.\n 	Meeting cost objectives through cost-cutting and c
 ontrol.\n 	Regulatory and statutory compliance assistance.\n 	Business gro
 wth analysis and competitive positioning.\n 	Effective cash management and
  adequate liquidity maintenance.\n 	Coordination among departments through
  continuous financial information flow.\n\nBenefits for You\nParticipants 
 will gain:\n\n 	Proficiency in comprehending and reviewing financial state
 ments.\n 	Understanding of technical accounting jargon and terminology.\n 
 	Ability to track expenses and revenues accurately.\n 	Skills to analyze f
 inancial statements for sound investment decisions.\n 	Expertise in person
 al financial planning through analysis of personal financial statements.\n
 \nTarget Audience\nThis course by Xcelerate Training Institute is ideal fo
 r:\n\n 	Entrepreneurs\, small business owners\, and start-up founders\n 	H
 R\, marketing\, production\, and finance executives and managers\n 	Accoun
 ting assistants\n 	Retail investors\n 	Financial analysts\n 	Relationship 
 managers\n 	Financial advisors\n 	Financial planners\n\nCourse Outline\nUn
 derstanding Basics of Accounting\n\n 	Introduction to Financial Accounting
 \n 	Users of Financial Statements\n 	Double Entry System\n 	Generally Acce
 pted Accounting Principles\n 	Key Accounting Terminology\n\nCapturing Data
  for Financial Accounting\n\n 	Accounting Cycle\n 	Chart of Accounts\n 	Di
 stinction Between Capital and Revenue Expenditure\n 	Cash and Accrual Acco
 unting Systems\n 	Posting to General Ledgers\n 	Journal Entries\n 	Account
 s Receivable / Accounts Payable Ledgers\n 	Bank Reconciliation / Cash Reco
 nciliation\n 	Provisions\n 	Depreciation\n 	Inventory Valuation\n\nCase St
 udy – 1\n\n 	Examples of Double Entry Transactions\n 	Journal Entries\n 
 	General Ledger\n 	Trial Balance\n\nComponents of Financial Accounts\n\n 	
 Balance Sheet\n 	Income &amp\; Expenditure Account\n 	Cash Flow Statement\
 n 	Statement of Changes in Equity\n 	Notes to Financial Statements\n\nInte
 rnational Accounting &amp\; Reporting Standards\n\n 	International Account
 ing Standards (IAS)\n 	International Financial Reporting Standards (IFRS)\
 n 	Generally Accepted Accounting Principles (GAAP)\n\nAnalyzing Financial 
 Statements\n\n 	Ratio Analysis\n 	Vertical P&amp\;L and Balance Sheet\n 	H
 orizontal P&amp\;L and Balance Sheet\n\nCapital Expenditure\n\n 	Capital I
 nvestment Appraisal\n 	Return on Investment\n 	Payback Period\n 	Net Prese
 nt Value\n 	Internal Rate of Return\n 	Lease or Buy Decisions\n\nBudget Pr
 ocess and Management\n\n 	Preparation of Master Budget\n 	Fixed vs. Flexib
 le Budgets\n 	Quarterly Reviews\n 	Forward Planning\n 	Budget vs. Actual C
 omparison\n 	Zero-Based Budgeting\n\nCost Accounting\n\n 	Total Absorption
  Costing\n 	Marginal Costing\n 	Contribution Margin\n 	Break-even Analysis
 \n 	Sensitivity Analysis\n 	Variance Analysis (Price\, Quantity\, Mix Vari
 ance)\n 	Management Accounting\n\nCase Study – 2\n\n 	Understanding Fina
 ncial Statements of a Listed Company\n
ATTACH;FMTTYPE=image/jpeg:https://x8ti.com/wp-content/uploads/2025/01/a589
 7220-9349-4f21-9750-31016f16050b.jpg
CATEGORIES:Accounting &amp; Finance
LOCATION:Istanbul Training Courses\, Four Seasons Hotel Istanbul At The Bos
 phorus\, Istanbul\, Turkey\, Turkey
X-APPLE-STRUCTURED-LOCATION;VALUE=URI;X-ADDRESS=Four Seasons Hotel Istanbul
  At The Bosphorus\, Istanbul\, Turkey\, Turkey;X-APPLE-RADIUS=100;X-TITLE=
 Istanbul Training Courses:geo:0,0
END:VEVENT
BEGIN:VTIMEZONE
TZID:Europe/Istanbul
X-LIC-LOCATION:Europe/Istanbul
BEGIN:STANDARD
DTSTART:20251221T090000
TZOFFSETFROM:+0300
TZOFFSETTO:+0300
TZNAME:+03
END:STANDARD
END:VTIMEZONE
END:VCALENDAR