BEGIN:VCALENDAR
VERSION:2.0
PRODID:-//wp-events-plugin.com//7.2.3.1//EN
BEGIN:VEVENT
UID:1718@x8ti.com
DTSTART;TZID=Europe/Istanbul:20261116T090000
DTEND;TZID=Europe/Istanbul:20261120T130000
DTSTAMP:20260209T022857Z
URL:https://x8ti.com/event/financial-strategy-training-course-3/
SUMMARY:Financial Strategy Training Course
DESCRIPTION:Introduction \nCreating a financial strategy involves developi
 ng guidelines to achieve future goals. Similar to navigating a busy street
  blindfolded\, without a strategy\, even the most resourceful management c
 an struggle to steer the business effectively. Strategy provides a framewo
 rk that guides choices and actions\, ensuring that the business moves in t
 he right direction. In finance\, a strategic approach helps in making deci
 sions related to resource allocation\, capital structure\, growth\, and fi
 nancial stability.\nLearning Objectives\nUpon completing the Financial Str
 ategy course\, participants will:\n\n 	Understand the need for strategic f
 inancial management.\n 	Evaluate the financial performance of projects bas
 ed on business standards.\n 	Make sound financial decisions in a dynamic b
 usiness environment.\n 	Develop financial strategies aligned with long-ter
 m organizational goals.\n 	Make accurate financial projections and forecas
 ts.\n 	Assess financial risks associated with projects.\n 	Balance the int
 erests of various stakeholders and add value to the business.\n\nTraining 
 Methodology\nThis course includes:\n\n 	Interactive lecture sessions\n 	Pr
 actical problem-solving\n 	Case studies\n 	Management games\n 	Presentatio
 ns\n 	Group discussions Xcelerate Training Institute uses the ‘Do-Review
 -Learn-Apply’ model for effective learning.\n\nBenefits for Your Organiz
 ation\nOrganizations will benefit from:\n\n 	Making informed decisions abo
 ut fund allocation.\n 	Anticipating and countering competitor moves.\n 	Ad
 opting cost-effective financial policies.\n 	Timely forecasting of fund re
 quirements for adequate supply.\n 	Aligning financial objectives with orga
 nizational goals.\n 	Efficiently managing working capital and financing cu
 rrent assets.\n 	Developing a robust financial recording and accounting sy
 stem.\n 	Coordinating finance functions with other departments.\n\nBenefit
 s for You\nParticipants will gain:\n\n 	Knowledge of finance functions and
  strategy.\n 	Understanding of how finance strategy integrates with corpor
 ate strategy.\n 	Preparation for future challenges.\n 	Tools and technique
 s for financial projections and forecasting.\n 	Practical application of t
 heoretical knowledge.\n 	A competitive edge with enhanced financial strate
 gic management skills.\n\nTarget Audience\nThis course is suitable for:\n\
 n 	New entrepreneurs and start-up founders\n 	Finance managers\n 	Corporat
 e managers\n 	Financial analysts and budget analysts\n 	Investors\n 	Depar
 tmental heads and executives\n 	Accountants\n 	Cost estimators and control
 lers\n\nCourse Outline\nIntroduction to Concepts of Strategy and Strategic
  Management\n\n 	Strategic Intent\n 	Strategy Formulation\n 	Corporate Lev
 el Strategy: Expansion Strategies\, Retrenchment\n 	Business Level Strateg
 y: Cost Leadership\, Differentiation Strategy\n 	Finance Strategic Managem
 ent\n 	Strategic Cost Management\n\nFinance Functions\n\n 	Investment Deci
 sion: Capital Budgeting\n 	Financing Decision: Capital Structure\, Debt-Eq
 uity Mix\, Operating and Financial Leverage\n 	Dividend Decision\n\nFinanc
 ial Forecasting\n\n 	Forecasting Financial Statement Techniques\n 	Project
 ion of Balance Sheet\, Cash Flow\n 	Day Sales Method\, Percentage of Sales
  Method\, Simple Linear Regression Method\n 	Internal Growth Rate\, Sustai
 nable Growth Rate\n\nFinancial Planning\n\n 	Types of Financial Plans\n 	P
 rocess of Financial Planning\n 	Budget Preparation\n\nRisk Evaluation and 
 Management\n\n 	Business Risk\, Financial Risk\n 	Elements of Risk: System
 atic and Unsystematic Risk\n 	Profitability Analysis\n 	Projected Beta\n 	
 Mean-Variance Analysis: Standard Deviation and Coefficient of Variation\n\
 nWorking Capital Management\n\n 	Working Capital Policies: Levels of Worki
 ng Capital Investment\n 	Profitability vs. Risk Trade-Off: Conservative\, 
 Matching\, Aggressive Approach to Asset Financing\n 	Managing Liquidity an
 d Financial Flexibility\n 	Short-Term Financing: Factoring\, Bill Discount
 ing\n\nBusiness Restructuring\n\n 	Corporate Restructuring: Mergers and Ac
 quisitions\n 	Financial Restructuring: Debt Restructuring\, Equity Restruc
 turing\n 	Re-Organization of Shares\n 	Buy-Back of Shares\n 	Trading on Eq
 uity\n\nBusiness Valuation\n\n 	Shareholder Value Analysis\n 	Business Val
 uation Methods: Discounted Cash Flows\, Comparable Market Multiples Method
 \n 	Economic Value-Added Approach\n 	Business Model Analysis\n
ATTACH;FMTTYPE=image/jpeg:https://x8ti.com/wp-content/uploads/2025/01/d965
 7ffa-19a2-4c5e-83d9-cf789372a95d.jpg
CATEGORIES:Accounting &amp; Finance
LOCATION:Istanbul Training Courses\, Four Seasons Hotel Istanbul At The Bos
 phorus\, Istanbul\, Turkey\, Turkey
X-APPLE-STRUCTURED-LOCATION;VALUE=URI;X-ADDRESS=Four Seasons Hotel Istanbul
  At The Bosphorus\, Istanbul\, Turkey\, Turkey;X-APPLE-RADIUS=100;X-TITLE=
 Istanbul Training Courses:geo:0,0
END:VEVENT
BEGIN:VTIMEZONE
TZID:Europe/Istanbul
X-LIC-LOCATION:Europe/Istanbul
BEGIN:STANDARD
DTSTART:20251116T090000
TZOFFSETFROM:+0300
TZOFFSETTO:+0300
TZNAME:+03
END:STANDARD
END:VTIMEZONE
END:VCALENDAR