BEGIN:VCALENDAR
VERSION:2.0
PRODID:-//wp-events-plugin.com//7.2.3.1//EN
BEGIN:VEVENT
UID:1528@x8ti.com
DTSTART;TZID=Africa/Casablanca:20261116T090000
DTEND;TZID=Africa/Casablanca:20261120T130000
DTSTAMP:20260209T022817Z
URL:https://x8ti.com/event/financial-record-management-and-tracking-with-f
 inancial-softwares-training-course-3/
SUMMARY:Financial record management and tracking with financial softwares T
 raining Course
DESCRIPTION:Introduction \nThis course by Xcelerate Training Institute pro
 vides comprehensive knowledge and skills to effectively manage financial r
 ecords and budgets. It covers essential topics such as accounting principl
 es\, financial statements\, financial reporting\, and the use of financial
  software applications\, including advanced Excel. By the end of the cours
 e\, students will be equipped to handle financial records and budget track
 ing for any organization and proficient in using essential financial softw
 are.\nLearning Objectives\nUpon completing this course\, participants will
  be able to:\n\n 	Understand the principles of financial record keeping\, 
 including accounting\, financial statements\, and financial reporting.\n 	
 Develop proficiency in financial record management\, including documentati
 on\, filing\, record retention and disposal\, and creating management poli
 cies.\n 	Learn best practices for maintaining accurate and secure financia
 l records\, in line with legal requirements.\n 	Apply financial record man
 agement skills in real-world scenarios through case studies and practice e
 xercises.\n\nTraining Methodology\nThis collaborative training program inc
 ludes:\n\n 	Face-to-face interactions\n 	Presentations\n 	Case studies and
  work groups\n 	Individual and group experiential learning activities\n 	A
 udio/Video presentations and questionnaires\n 	Role plays Following the 
 ‘Do-Review-Learn-Apply’ model.\n\nBenefits for Your Organization\nOrga
 nizations can benefit from:\n\n 	Enhanced management of financial records 
 and budget tracking.\n 	Improved accuracy and security of financial record
 s\, reducing risks and errors.\n 	Effective use of financial software appl
 ications to streamline processes.\n 	Professional development of employees
 \, leading to increased efficiency and productivity.\n\nBenefits for You\n
 Participants will gain:\n\n 	Comprehensive understanding of financial reco
 rd keeping principles and practices.\n 	Practical skills in managing finan
 cial records\, including documentation\, filing\, and retention.\n 	Knowle
 dge of best practices for financial record maintenance and security.\n 	Ex
 perience applying financial record management skills in real-world scenari
 os.\n 	Proficiency in using financial software applications\, including ad
 vanced Excel.\n\nTarget Audience\nThis course is ideal for:\n\n 	Finance p
 rofessionals seeking to enhance their record management skills.\n 	Account
 ants and financial analysts looking to improve their proficiency with fina
 ncial software.\n 	Managers and supervisors responsible for overseeing fin
 ancial records and budgets.\n 	Individuals seeking to develop a strong fou
 ndation in financial record keeping and management.\n\nCourse Outline\nInt
 roduction to Financial Record Management\n\n 	The importance of financial 
 record management\n 	Types of financial records and software\n 	Legal requ
 irements for financial record keeping\n 	Digitization and fast tracking\n\
 nFinancial Record Management\n\n 	What is financial and grant record manag
 ement?\n\n 	Types of financial records and document classification\n 	Fina
 ncial reporting standards and accuracy\n 	Audit reports\n 	Internal financ
 ial reporting\n 	Digitization for financial spot checks and audits\n\n\n 	
 Record-keeping best practices\n\n 	Documentation and filing\n 	Record rete
 ntion and disposal\n 	Record management policies and procedures\n\n\n\nFin
 ancial Software Applications\n\n 	Using financial software for record mana
 gement\n\n 	Advanced Excel for financial recording and reporting\n 	Other 
 software: Oracle NetSuite and Workiva\n 	Data security and backup\n\n\n\nC
 ase Studies and Practice Exercises\n\n 	Real-life case studies\n 	Practice
  exercises\n 	Discussion and analysis of results\n
ATTACH;FMTTYPE=image/jpeg:https://x8ti.com/wp-content/uploads/2024/12/2a20
 a388-1471-4e07-ade2-dbe42c18d098-1.jpg
CATEGORIES:Accounting &amp; Finance
LOCATION:Casablanca Training Courses\, Four Seasons Hotel Casablanca\, Casa
 blanca\, Morrocco\, Morocco
X-APPLE-STRUCTURED-LOCATION;VALUE=URI;X-ADDRESS=Four Seasons Hotel Casablan
 ca\, Casablanca\, Morrocco\, Morocco;X-APPLE-RADIUS=100;X-TITLE=Casablanca
  Training Courses:geo:0,0
END:VEVENT
BEGIN:VTIMEZONE
TZID:Africa/Casablanca
X-LIC-LOCATION:Africa/Casablanca
BEGIN:STANDARD
DTSTART:20260322T030000
TZOFFSETFROM:+0000
TZOFFSETTO:+0100
TZNAME:+01
END:STANDARD
END:VTIMEZONE
END:VCALENDAR