BEGIN:VCALENDAR
VERSION:2.0
PRODID:-//wp-events-plugin.com//7.2.3.1//EN
BEGIN:VEVENT
UID:26@x8ti.com
DTSTART;TZID=Pacific/Saipan:20261005T090000
DTEND;TZID=Pacific/Saipan:20261009T130000
DTSTAMP:20260211T160907Z
URL:https://x8ti.com/event/financial-crime-fraud-risk-management-and-preve
 ntion-of-economic-crime/
SUMMARY:Financial Crime\, Fraud Risk Management and Prevention of Economic 
 Crime
DESCRIPTION:Course Overview\nFraud is a civil law violation and/or crime. F
 inancial or economic fraud is an intentional act of deception involving fi
 nancial transactions with the objective of personal gain. Fraud\, especial
 ly financial fraud\, results in huge business losses\, sometimes leading t
 o failure of the business.\n\nThe difficulty in averting financial and eco
 nomic fraud begins with the difficulty in authenticating identities and ba
 ckgrounds of all individuals in charge of confidential financial informati
 on and data that is most vulnerable to fraud and other unethical practices
 .\n\nGiven the exponential impact a single act of finance-related deceit c
 an have on business operations\, sometimes leading to extreme failure or s
 hut down\, organizations need to take stringent measures to minimize\, if 
 not fully eliminate\, chances of fraud.\n\nOne such way is to thoroughly c
 heck the background of all individuals before entrusting them with informa
 tion that could provide opportunities to commit economic crime. However\, 
 this may not be feasible in all organizations\, especially those with many
  employees or ever-changing systems and processes resulting in high and qu
 ick recruitment and replacement of such sensitive positions.\n\nAs such\, 
 the organization needs to ensure that responsibility and authority for fin
 ancial transactions do not rest with one employee alone but are shared bet
 ween people.\n\nFurther\, it is very necessary for organizations to have a
  documented process and policy defining what constitutes fraud and the cou
 rse of action in case a malpractice is noticed. It is in the best interest
  of the organization that all employees are made aware of the limits of et
 hical and unethical practices\, the course of action in case a malpractice
  is noticed or known\, the ownership and responsibility of all stakeholder
 s involved in operations and the necessary action that will be taken again
 st defaulters.\n\nThis Xcelerate Training Institute training course will e
 mpower you with a thorough understanding of different types of fraud and c
 rimes that can occur in an organization\, specifically financial and econo
 mic fraud. It will not only help you understand and identify fraudulent pr
 actices and instances but will also help you take precautionary measures t
 o prevent these from occurring and define immediate action in the event of
  fraud.\n\nThe experience and exposure gained through this course will pro
 vide you with the platform and opportunity to play an important role in av
 erting financial and economic fraud in your organization\, thus facilitati
 ng the demonstration of your ability to undertake higher roles and respons
 ibilities. Overall\, this training course will provide you with the experi
 ence and knowledge to safeguard your own and your organization’s interes
 t and prevent losses and failure by averting financial and economic fraud.
 \nObjectives\nThe main objective of this course is to empower professional
 s with—\n\n 	in-depth knowledge and understanding of financial fraud and
  economic fraud\n 	experience and exposure to handle fraud and take approp
 riate action in the event of fraud\n 	the required awareness and knowledge
  to pre-empt instances of risks or fraud and take necessary precautionary 
 measures against these\n 	confidence\, experience\, knowledge and exposure
  to play an important part in handling fraud in one’s organization\n 	th
 e necessary experience and information to frame policies and devise action
  plans that minimize the risks of fraud during operations\n 	the foresight
 \, awareness and experience to handle and successfully manage financial fr
 aud and economic fraud to prevent/minimize huge business losses\n\nTrainin
 g Methodology\nXcelerate Training Institute customizes its training course
 s and content according to the target audience. Training involves face-to-
 face interactions with a highly specialized and qualified expert from the 
 relevant domain\, including detailed presentations. The trainer also condu
 cts group activities\, debates\, trainee presentations\, etc. to encourage
  trainee participation.\n\nRelevant case studies and role-plays help relat
 e the theoretical content to practical scenarios. The trainer also discuss
 es real-life examples and challenges being faced by the trainees in their 
 roles at their organization and helps them find solutions to these using t
 he knowledge and information gained through the course.\n\nOverall\, this 
 Xcelerate Training Institute course follows the effective Do–Review–Le
 arn–Apply Model.\nOrganizational Benefits\nOrganizations whose professio
 nals undertake this course will benefit in the following ways:\n\n 	Traine
 d\, confident and well-informed employees to identify chances or risks of 
 financial fraud or economic fraud and take necessary action to prevent hug
 e business loss\n 	Better risk assessment early enough to prevent huge los
 s to the organization\n 	More streamlined processes\, approaches and docum
 ented policies to manage financial fraud and economic fraud\, including cl
 ear responsibilities and ownership\, points of contact and standard next s
 teps or action\n 	Decreased economic loss or costs paid through lawsuits a
 s a result of financial fraud or economic fraud\n 	Regular internal audits
  at no additional cost to ensure all necessary checkpoints are in place an
 d are being followed by those in charge of sensitive financial and econom
 ic data of the organization\n 	Greater brand value because of greater guar
 antee against risks or threats of bankruptcy or business failure\n 	Greate
 r investments because of more credibility and protection against financial
  losses\n 	Higher employee retention and better candidate recruitment beca
 use of job security and safety assured through reduced risks of financial 
 fraud and economic fraud\n\nPersonal Benefits\nProfessionals undertaking t
 his training course will benefit in the following ways:\n\n 	Increased kno
 wledge and understanding of financial and economic fraud\n 	Greater experi
 ence\, exposure and confidence to successfully manage and overcome financi
 al and economic fraud in the event of its occurrence\n 	Increased awarenes
 s to predict and identify risks or possible instances of financial and eco
 nomic fraud and take necessary steps to prevent these from occurring\n 	Mo
 re knowledge\, skill and capabilities to play an important role in handlin
 g financial and economic fraud\, thus demonstrating potential and ability 
 to undertake more roles and responsibilities within the organization\n 	Be
 tter career prospects because of more avenues to explore in terms of a car
 eer\, through auditing roles and other higher decision-making roles within
  the organization\n 	Greater job security as a result of reduced risk of b
 usiness loss that could result in bankruptcy or business shut down\n\nWho 
 Should Attend?\n\n 	Senior members of management\, board members and direc
 tors of organizations responsible for protecting an organization’s finan
 cial assets and for critical decision making in the event of financial fra
 ud and economic fraud\n 	Internal and external auditors responsible for en
 suring that all standards are adhered to in order to prevent vulnerability
  to malpractices and reduce risks of unethical behavior or activities\n 	F
 inancial advisors and officers responsible for providing financial guidan
 ce to firms and helping them run their operations\n 	Legal advisors and o
 fficers who help organizations in legal issues and advise on the necessary
  action to be taken\n 	Policymakers responsible for framing policies and d
 ocumenting all necessary information regarding fraud\, specifically financ
 ial and economic fraud\, such as roles and responsibilities of all relevan
 t stakeholders\, course of action if fraud or possible instance of fraud i
 s detected\, the action taken if one is found guilty\, etc.\n 	Human resou
 rce professionals and people managers of an organization who play key role
 s in aligning employees to the values and culture of an organization so as
  to prevent intentions of misuse of power and responsibility by employees\
 n 	Any other professional who is interested in understanding and knowing m
 ore about averting financial and economic fraud in an organization\n\nCour
 se Outline:\nThe course will cover the following topics important for unde
 rstanding how to avert financial and economic fraud:\nTypes of Financial a
 nd Economic Fraud and Crime\n\n 	Asset misappropriation\n 	Fraud by consum
 er\n 	Procurement fraud\n 	Bribery/corruption\n 	Business misconduct\n 	Cy
 bercrime\n 	Human resource fraud\n 	Accounting fraud\n 	Money laundering\n
  	Intellectual property theft\n 	Law infringement\n 	Insider trading\n 	Ta
 x fraud\n\nPossible Means of Fraud\n\n 	Face-to-face interactions\n 	Post\
 n 	Phone calls\n 	SMS and/or emails\n\nAreas of Fraud Impact\n\n 	Sustaina
 ble development\n 	Socio-economic development\n 	Public trust\n 	Governmen
 t legitimacy\n 	Financial markets\n\nMethods of Fraud Detection\n\n 	Inter
 nal and/or external tip-off\n 	Internal audit\n 	By accident\n 	Whistle-bl
 owing system (e.g. hotline)\n 	Investigations by law enforcement agencies\
 n 	Suspicious transaction report systems\n 	Staff rotation\n 	Corporate se
 curity\n 	Fraud risk management\n\nCommon Actions against Fraud\n\n 	Crimi
 nal prosecution\n 	Civil fraud suit\n 	Clean termination of employment\n 	
 Other minimal action or no action\n\nImportance of Fraud Prevention\n\n 	I
 ncreased company morale and values\n 	Better risk and cost management\n 	I
 ncreased investments\n 	Greater employer branding\n 	Reduced risk of catas
 trophic losses\n\nPreventive Actions against Financial and Economic Fraud\
 n\n 	No credit to unknown\n 	Implementation of updated privacy and anti-fr
 aud policies\n 	Shared responsibilities\n 	Regular risk evaluation and aud
 its\n 	Detection strategies\n 	Oversight and update on organization operat
 ions and management\n 	Limitation of agency assets to official use\n\nFeat
 ures of an Anti-Fraud Policy\n\n 	Simple\, concise\, widely communicated\n
  	Clear applicability and expected staff behavior\n 	Definition of fraud i
 n the business context\n 	Outlined responsibilities of senior managers and
  staff\n 	Detailed course of action for reporting fraud\n 	Appropriate and
  simple communication channels\n 	Equal action against all defaulters\n 	P
 rotection of witness identity\n\n&nbsp\;
ATTACH;FMTTYPE=image/jpeg:https://x8ti.com/wp-content/uploads/2024/08/Scre
 enshot_20240831-142234_Chrome.jpg
CATEGORIES:Audit, Compliance and Governance
LOCATION:Barcelona Training Courses\, Le Méridien Barcelona Hotel\, Barcel
 ona\, Spain\, Spain
X-APPLE-STRUCTURED-LOCATION;VALUE=URI;X-ADDRESS=Le Méridien Barcelona Hote
 l\, Barcelona\, Spain\, Spain;X-APPLE-RADIUS=100;X-TITLE=Barcelona Trainin
 g Courses:geo:0,0
END:VEVENT
BEGIN:VTIMEZONE
TZID:Pacific/Saipan
X-LIC-LOCATION:Pacific/Saipan
BEGIN:STANDARD
DTSTART:20251005T090000
TZOFFSETFROM:+1000
TZOFFSETTO:+1000
TZNAME:ChST
END:STANDARD
END:VTIMEZONE
END:VCALENDAR