BEGIN:VCALENDAR
VERSION:2.0
PRODID:-//wp-events-plugin.com//7.2.3.1//EN
BEGIN:VEVENT
UID:705@x8ti.com
DTSTART;TZID=Europe/Madrid:20260817T090000
DTEND;TZID=Europe/Madrid:20260821T130000
DTSTAMP:20260217T212824Z
URL:https://x8ti.com/event/event-and-conference-management-training-course
 -4/
SUMMARY:Event and Conference Management Training Course
DESCRIPTION:Introduction\nThis course by Xcelerate Training Institutes corp
 orate hospitality is essentially entertaining clients to boost business\, 
 often at public events like sports matches. These events can also serve so
 cial causes but are funded by companies.\n\nIn today's fiercely competitiv
 e market\, companies must go beyond regular business interactions to maint
 ain client relationships. Building trust\, friendship\, and goodwill beyon
 d work is crucial. This approach has proven successful and is now essentia
 l for business growth and client management.\n\nWhile word-of-mouth is pow
 erful\, direct interaction with potential clients is equally important for
  visibility. Companies also organize internal events to connect with emplo
 yees\, share plans\, and foster a positive work environment.\n\nEffective 
 conference management is crucial for a company's image. It involves planni
 ng\, organizing\, leading\, and controlling events. A strong first impress
 ion is vital for both internal and external stakeholders. Therefore\, meti
 culous event planning and execution are essential for achieving goals and 
 building trust.\n\nMany companies outsource event planning due to its comp
 lexity. This course aims to equip you with the knowledge and confidence to
  plan\, organize\, and manage corporate events\, particularly hospitality 
 events and conferences. This will enhance your career prospects and contri
 bute to your organization's success.\nLearning Objectives\nThis course aim
 s to provide professionals with:\n\n 	Comprehensive knowledge of hospitali
 ty events and conferences\n 	Skills to plan and manage internal events lik
 e conferences and workshops\n 	Ability to plan\, organize\, and manage lar
 ge-scale external events\n 	Effective planning and organization skills to 
 prevent event issues\n 	Understanding of different event types and target 
 audiences\n 	Multitasking skills to manage multiple events simultaneously\
 n 	Ability to handle common challenges like resource allocation and budget
  management\n 	Proficiency in using advanced tools for financial and resou
 rce management\n\nTraining Methodology\nXcelerate Training Institutes empl
 oys experienced professionals to deliver tailored courses. Classroom sessi
 ons\, role-plays\, group activities\, and case studies are used to enhance
  learning. The course follows the innovative Do-Review-Learn-Apply model.\
 nBenefits for Your Organization\nOrganizations that enroll their professio
 nals in this course will benefit from:\n\n 	A skilled workforce capable of
  managing internal and external events\n 	Successful organization of confe
 rences\, workshops\, exhibitions\, and more\n 	Improved company image and 
 increased client and employee trust\n 	Business growth through enhanced br
 anding and visibility\n 	Competitive advantage through strong client exper
 ience\, employee motivation\, and effective marketing\n 	Optimized resourc
 e allocation and financial management\n 	Well-planned and safe events\n\nB
 enefits for you \nProfessionals who complete this course will:\n\n 	Gain a
  deeper understanding of hospitality event planning and organization\n 	De
 velop strong multitasking and planning skills\n 	Improve ability to manage
  events within budget and time constraints\n 	Enhance risk management and 
 resource allocation capabilities\n 	Acquire knowledge to plan events for d
 ifferent target audiences\n 	Build confidence in using advanced event mana
 gement tools\n 	Contribute to organizational success and career advancemen
 t\n\nTarget Audience\n\n 	Senior management seeking to understand the impo
 rtance of well-managed events\n 	Event management professionals\n 	Marketi
 ng professionals\n 	Human resources and administration staff\n 	Branding o
 r public relations professionals\n 	Anyone interested in corporate event m
 anagement\n\n&nbsp\;\nCourse Outline\nThis course delves into the essentia
 l aspects of hospitality events and corporate management. It covers a rang
 e of corporate event types\, their target audiences\, objectives\, and man
 agement strategies. Additionally\, the course emphasizes the importance of
  corporate hospitality events and the challenges involved in their executi
 on.\nCorporate Event Types\nThis section provides an overview of different
  corporate event formats:\n\n 	Including trade shows\n 	Incentive trips\n 
 	Product launches\n 	Team-building activities\n 	Conferences\n 	Charity ev
 ents\n 	Board meetings\n\nConference Formats\nThis section focuses specifi
 cally on various conference types\, such as:\n\n 	Symposiums\n 	Seminars\n
  	Colloquiums\n 	Workshops\n 	Roundtable discussions\n\nTarget Audiences\n
 This section identifies the primary groups that corporate events aim to en
 gage including:\n\n 	Employees\n 	Board members\n 	Clients\n 	Potential cl
 ients\n\nEvent Objectives\nThis section explores the core purposes of corp
 orate events such as:\n\n 	Education\n 	Employee recognition\n 	Collaborat
 ion\n 	Celebrations\n 	Organizational change management\n\nEvent Managemen
 t Functions\nThis section outlines the key areas involved in:\n\n 	Corpora
 te event management\n 	Including administrative tasks\n 	Marketing\n 	Comm
 unication\n 	Training\n 	Corporate social responsibility initiatives\n\nEv
 ent Planning Essentials\nThis section covers crucial elements for successf
 ul event planning\, such as:\n\n 	Strategic venue selection\n 	Aligning cl
 ient goals\n 	Utilizing effective management tools\n 	Networking\n 	Event 
 promotion\n\nThe Impact of Corporate Hospitality\nThis section highlights 
 the benefits of corporate hospitality events including:\n\n 	Building bran
 d reputation\n 	Fostering relationships\n 	Creating customer loyalty\n 	Ga
 ining a competitive advantage\n 	Generating business opportunities\n 	Meas
 uring return on investment\n 	Engaging key stakeholders\n\nEvent Managemen
 t Challenges\nThis section addresses common challenges in event management
  such as:\n\n 	Managing multiple events simultaneously\n 	Allocating resou
 rces efficiently\n 	Managing budgets\n 	Affectively handling event content
 \n\n&nbsp\;\n\n&nbsp\;
ATTACH;FMTTYPE=image/jpeg:https://x8ti.com/wp-content/uploads/2024/10/What
 sApp-Image-2024-10-19-at-9.15.31-AM-2.jpeg
CATEGORIES:Public Relations
LOCATION:Barcelona Training Courses\, Le Méridien Barcelona Hotel\, Barcel
 ona\, Spain\, Spain
X-APPLE-STRUCTURED-LOCATION;VALUE=URI;X-ADDRESS=Le Méridien Barcelona Hote
 l\, Barcelona\, Spain\, Spain;X-APPLE-RADIUS=100;X-TITLE=Barcelona Trainin
 g Courses:geo:0,0
END:VEVENT
BEGIN:VTIMEZONE
TZID:Europe/Madrid
X-LIC-LOCATION:Europe/Madrid
BEGIN:DAYLIGHT
DTSTART:20260329T030000
TZOFFSETFROM:+0100
TZOFFSETTO:+0200
TZNAME:CEST
END:DAYLIGHT
END:VTIMEZONE
END:VCALENDAR