BEGIN:VCALENDAR
VERSION:2.0
PRODID:-//wp-events-plugin.com//7.2.3.1//EN
BEGIN:VEVENT
UID:316@x8ti.com
DTSTART;TZID=Africa/Cairo:20261214T090000
DTEND;TZID=Africa/Cairo:20261218T130000
DTSTAMP:20260212T194953Z
URL:https://x8ti.com/event/effective-communication-skills/
SUMMARY:Effective Communication Skills
DESCRIPTION:Course Overview\n\nWe conduct training courses in Communication
  Skills over two integral areas – Written and Spoken communication. This
  course exclusively caters to Effective Communication Skills in Spoken Eng
 lish and is an Advanced Level Training Course.\n\nAny organization looking
  to position themselves strategically on the global market will know bette
 r than to ignore the importance of effective communication skills by their
  representatives. A single interaction has the potential to make or break 
 a business opportunity\, land a million-dollar contract or cause a loss of
  clients altogether.\n\nIn fact\, any organization looking to grow their o
 wn brand must invest in the communication competency of their people. At X
 celerate Training Institute\, we have conducted several training programs 
 over the last decade on effective communication skills\, and the rewards h
 ave been out of this world! Our client testimonials will tell of how this 
 course has helped individuals and teams gain tangible success in their fun
 ctional ability at the workplace.\n\nIt has been globally observed that ca
 ndidates who can express fluency in communication through a flawless regis
 ter stand a higher chance of a promotion\, winning a new project and takin
 g their brand to greater heights.\n\nThrough this course\, we aim to help 
 each participant build on their communication strengths and learn new and 
 interesting techniques to add to their skillset. We also provide personali
 sed and constructive feedback to each participant making the learning from
  each module valuable and lasting.\n\nThis Xcelerate training course will 
 empower you to become an advanced communicator at your workplace. Through 
 this course\, you will be able to apply the skill of presenting your messa
 ge in a way that others will appreciate.\n\nYou will learn the elements of
  communication and be able to flex each one to meet your objectives. By en
 suring the application of all the aspects integral to effective communicat
 ion\, you will always stand in line for success.\n\nThe information and pr
 actice gained through this course will help you bridge the gap in your cur
 rent verbal skills. You will resultantly be better positioned to contribut
 e to your organization through your improved communication with internal a
 nd external customers.\n\nLearning Objectives \n\nThe main objective of th
 is course is to empower professionals with—\n\n 	the understanding of th
 e essential components of effective communication\n 	real-time feedback on
  their language instructor\, tone and non-verbal nuances\n 	the ability to
  recognize flaws in their own communication style\n 	capability to practic
 e recommended methods for effective communication and make personal improv
 ements\n 	understanding of the importance of effective communication perso
 nally and professionally\n 	express ideas fluently through conversation\n 
 	use their words\, tone and posture to match the objective of their commun
 ication successfully\n 	techniques to build rapport easily\n 	use assertiv
 eness to bring out the best in one’s communication\n\nTraining Methodolo
 gy \n\nXcelerate Training Institute Solutions designs training courses to 
 cater to our training audience and their distinctive professional backgrou
 nd and experience. Classroom sessions with presentations by a highly exper
 ienced facilitator form a major part of our training programs. We encourag
 e trainee participation through group discussions\, role-plays\, group act
 ivities\, assessments and more.\n\nTrainees are also requested to share th
 eir experiences\, issues\, concerns and best practices from their respecti
 ve organizations\, which are facilitated by the trainer to optimize learni
 ng for the entire participant group.\n\nIn alignment with the Xcelerate Tr
 aining Solutions’ unique training methodology\, this course follows the 
 Do–Review–Learn–Apply Model.\n\nBenefits For Your Organization\n\nOr
 ganizations whose professionals undertake this course will benefit in the 
 following ways:\n\n 	Individuals become effective at their ability to comm
 unicate in all aspects and this will reflect positively for your business\
 n 	More professionalism in communication\, helping maintain the brand valu
 es of your organization\n 	Greater credibility and respect for the individ
 ual and the organization\n 	Increased recommendation of your organization 
 in the market on public forums\n 	The decrease in disappointed customers a
 nd disagreements over instructions and ambiguous communication\n 	Market c
 redibility increases because of stakeholder recommendations for your emplo
 yees’ communication skills\n 	Improved individual performance and sense 
 of esteem for the organization\n 	More rapport building\, better teamwork\
 n 	Lower attrition as individuals feels invested in\, listened to\, valued
  and motivated\n\nBenefits For You\n\nProfessionals attending this course 
 will benefit in the following ways:\n\n 	A clear understanding of the role
  and importance of effective communication\n 	Increased self-awareness of 
 one’s ability to communicate at all times\n 	Access to examples\, videos
  and practice sessions exclusively owned and run by Xcelerate Training Sol
 utions\n 	Ability to identify one’s area of opportunity to recognize and
  correct common mistakes in communication\n 	Understanding the effect and 
 impact of not maintaining assertiveness in communication\n 	A sense of acc
 omplishment contributing to a steady application of all aspects learnt in 
 this course\n 	Overall improvement in individual performance\n 	The abilit
 y to role-model this skill in the organization for subordinates to learn f
 rom and imitate\n\nTarget Audience \n\n 	Secretaries of Presidents\, Vice-
 presidents and Senior Management who may need to communicate with internal
  and external stake-holders everyday\n 	Quality Coaches of Knowledge and B
 usiness Processing Offices\n 	Marketing and Sales managers who represent t
 he organizational brand at all times\n 	Administration executives responsi
 ble for client-facing portfolios\n 	Associates who communicate with client
 s on a regular basis\n 	Trainers\, teaching staff\, educators and administ
 rators responsible for interacting with students and faculty\n 	Human Reso
 urce Managers\, Executives and Leaders responsible for employee engagement
 \, and organizational development\n 	Government officials responsible for 
 communication and administration in government sectors\n 	Hospital staff\,
  support staff in volunteer camps and faculty communicating with external 
 stakeholders\n 	Any other professional who would like to improve their spo
 ken communication at an advanced level\n 	Young Managers who are looking t
 o improve their communication skills to help them advance to the next prof
 essional level\n\nCourse Outline\n\nThe course will cover the following ar
 eas that are essential in understanding the importance of Effective Commun
 ication Skills and increasing the participants’ ability to practice this
  skill effectively.\n\nIntroduction to Effective Communication\n\n 	The Ch
 aracteristics of an Effective Communicator\n 	Importance of Communication 
 in the 21st Century\n 	Communication Self-Assessment\n 	Basics of Communic
 ation\n 	Elements of Effective Communication\n 	Summary\n\nCore Components
  of Effective Communication\n\n 	An Introduction | Components of Communica
 tion –\n 	Verbal Communication\n 	Importance of the Tone\n 	Application 
 and Practice\n 	Assessment and Personal Constructive Feedback\n\nEffective
  Verbal Communication\n\n 	What You Say Matters\n 	Effect and Impact of Po
 wer Words\n 	Positive Communication\n 	Words for Success\n 	Words to Avoid
 \n 	Practice Activities &amp\; Constructive Feedback\n\nVocal Impact\n\n 	
 Introduction | The ‘How’ of Effective Communication\n 	Pronunciation a
 nd Syllable Stress\n 	Common Grammatical Errors\n 	Construct Effective Sen
 tences\n 	Word Stress for Vocal Impact\n 	Role-plays and Constructive Feed
 back\n\nNon-Verbal Communication\n\n 	Introduction | Body Language\n 	Elem
 ents of Non-Verbal Communication\n 	Do’s and Don’t\n 	Interpretation o
 f Various Body Signals\n 	Recommended Postures for Workplace Communication
 \n 	Summary and Practice\n\nRole of Listening in Communication\n\n 	Introd
 uction | Listening\n 	The Impact of Listening on Communication\n 	The 3 Le
 vels of Listening\n 	Listening with Empathy\n 	How to Display Effective Li
 stening\n 	Practice Activities &amp\; Constructive Feedback\n\nProbing and
  Acknowledgment\n\n 	Introduction | Questioning Skills\n 	Use of Effective
  Probing in Communication\n 	What is Acknowledgement?\n 	Benefits of a Sin
 cere Acknowledgements\n 	The Conversation Cycle\n 	Rapport Building\n 	Sum
 mary &amp\; Assignment\n\nAssertive Communication\n\n 	Types of Communicat
 ion\n 	Introduction to Assertiveness\n 	The Art of Assertive Communication
 \n 	Applying Communication Components Effectively\n 	Cross-cultural Commun
 ication\n 	Summary &amp\; Personal Constructive Feedback\n 	Personal Devel
 opment Plan\n\n&nbsp\;
ATTACH;FMTTYPE=image/jpeg:https://x8ti.com/wp-content/uploads/2024/09/What
 sApp-Image-2024-10-29-at-10.00.32-PM5.jpeg
CATEGORIES:Communication &amp; Writing Skills
LOCATION:Cairo Training Courses\, Kempinski Nile Hotel Garden City Cairo\, 
 Cairo\, Egypt\, Egypt
X-APPLE-STRUCTURED-LOCATION;VALUE=URI;X-ADDRESS=Kempinski Nile Hotel Garden
  City Cairo\, Cairo\, Egypt\, Egypt;X-APPLE-RADIUS=100;X-TITLE=Cairo Train
 ing Courses:geo:0,0
END:VEVENT
BEGIN:VTIMEZONE
TZID:Africa/Cairo
X-LIC-LOCATION:Africa/Cairo
BEGIN:STANDARD
DTSTART:20251214T090000
TZOFFSETFROM:+0200
TZOFFSETTO:+0200
TZNAME:EET
END:STANDARD
END:VTIMEZONE
END:VCALENDAR