BEGIN:VCALENDAR
VERSION:2.0
PRODID:-//wp-events-plugin.com//7.2.3.1//EN
BEGIN:VEVENT
UID:490@x8ti.com
DTSTART;TZID=Europe/Amsterdam:20261221T090000
DTEND;TZID=Europe/Amsterdam:20261225T130000
DTSTAMP:20260202T161608Z
URL:https://x8ti.com/event/distributed-antenna-system-das/
SUMMARY:Distributed Antenna System (DAS)
DESCRIPTION:Introduction\nThis course by Xcelerate Training Institute provi
 des a comprehensive understanding of Distributed Antenna Systems (DAS). It
  covers the fundamentals\, recent advancements\, and practical application
 s of DAS technology. The course emphasizes the importance of DAS in enhanc
 ing wireless network coverage and capacity\, particularly in challenging e
 nvironments such as indoor spaces and dense urban areas.\nLearning Objecti
 ves\nUpon completion\, participants will gain a solid understanding of DAS
  technology\, system design\, and deployment. They will be able to analyze
  network requirements\, select appropriate DAS components\, and optimize n
 etwork performance.\nTraining Methodology\nThe course combines theoretical
  knowledge with practical applications through a variety of teaching metho
 ds\, including lectures\, group discussions\, case studies\, and hands-on 
 exercises.\nBenefits for Your Organization\nOrganizations investing in thi
 s course can expect improved network performance\, increased customer sati
 sfaction\, and cost savings through optimized network infrastructure.\nBen
 efits for You\nIndividuals will develop in-depth knowledge of DAS technolo
 gy\, enhancing their career prospects in the telecommunications industry.\
 nTarget Audience\nThis course is designed for engineers\, technicians\, an
 d professionals involved in wireless network planning\, design\, and opera
 tions.\nCourse Outline\nIntroduction to DAS\n\n 	\nOverview of DAS\n\n 	De
 finition and purpose of DAS\n 	History and evolution of DAS technology\n\n
 \n 	\nImportance of DAS in Modern Networks\n\n 	Addressing coverage challe
 nges\n 	Enhancing capacity in high-demand environments\n\n\n\nDAS Componen
 ts and Architecture\n\n 	\nKey Components of DAS\n\n 	Antennas\, remote un
 its\, and headend equipment\n 	Fiber optics vs. coaxial cable systems\n\n\
 n 	\nDAS Topologies\n\n 	Centralized vs. decentralized DAS\n 	Hybrid syste
 ms and their applications\n\n\n\nDAS Design Principles\n\n 	\nSite Survey 
 and Planning\n\n 	Assessing coverage needs and building requirements\n 	RF
  propagation and modeling tools\n\n\n 	\nDesign Considerations\n\n 	Capaci
 ty planning and user demand\n 	Interference management and mitigation\n\n\
 n\nInstallation and Implementation\n\n 	\nInstallation Best Practices\n\n 
 	Equipment installation guidelines\n 	Cable management and routing\n\n\n 	
 \nIntegration with Existing Networks\n\n 	Connecting DAS to macro networks
 \n 	Interfacing with various technologies (LTE\, 5G)\n\n\n\nDAS Operation 
 and Maintenance\n\n 	\nNetwork Monitoring and Management\n\n 	Tools for re
 al-time monitoring\n 	Performance metrics and KPIs\n\n\n 	\nTroubleshootin
 g Common Issues\n\n 	Identifying and resolving connectivity problems\n 	Ma
 intaining optimal performance\n\n\n\nRegulatory and Compliance Issues\n\n 
 	\nUnderstanding Regulatory Requirements\n\n 	FCC guidelines and spectrum 
 management\n 	Building codes and safety regulations\n\n\n 	\nCompliance Te
 sting\n\n 	Testing and certification processes for DAS\n\n\n\nAdvanced DAS
  Concepts\n\n 	\nFuture Trends in DAS Technology\n\n 	Integration with sma
 ll cells and 5G\n 	The role of virtualization and cloud-based DAS\n\n\n 	\
 nCase Studies\n\n 	Successful DAS implementations in various sectors (stad
 iums\, hospitals\, airports)\n\n\n
ATTACH;FMTTYPE=image/jpeg:https://x8ti.com/wp-content/uploads/2024/10/IMG-
 20241019-WA0121.jpg
CATEGORIES:Telecommunication
LOCATION:Geneva Training Courses\, Hotel d'Angleterre Geneva\, Geneva\, Swi
 tzerland\, Switzerland
X-APPLE-STRUCTURED-LOCATION;VALUE=URI;X-ADDRESS=Hotel d'Angleterre Geneva\,
  Geneva\, Switzerland\, Switzerland;X-APPLE-RADIUS=100;X-TITLE=Geneva Trai
 ning Courses:geo:0,0
END:VEVENT
BEGIN:VTIMEZONE
TZID:Europe/Amsterdam
X-LIC-LOCATION:Europe/Amsterdam
BEGIN:STANDARD
DTSTART:20261025T020000
TZOFFSETFROM:+0200
TZOFFSETTO:+0100
TZNAME:CET
END:STANDARD
END:VTIMEZONE
END:VCALENDAR