BEGIN:VCALENDAR
VERSION:2.0
PRODID:-//wp-events-plugin.com//7.2.3.1//EN
BEGIN:VEVENT
UID:589@x8ti.com
DTSTART;TZID=Africa/Casablanca:20260706T090000
DTEND;TZID=Africa/Casablanca:20260710T130000
DTSTAMP:20260216T162312Z
URL:https://x8ti.com/event/design-of-blast-resistant-buildings-in-petroche
 mical-facilities-3/
SUMMARY:Design of Blast Resistant Buildings in Petrochemical Facilities
DESCRIPTION:Introduction\n\nBlast loads\, concrete structures\, steel struc
 tures\, and dynamic material strengths are among the things that this Xcel
 erate Training Institute course will focus on regarding the design of blas
 t-resistant buildings in the oil and petrochemical industry. In this cours
 e\, participants will be given the necessary skills to develop dynamic ana
 lysis methods that will utilize materials such as the CFRP to protect diff
 erent structures against blast load.\n\nThoroughly prepared by experts and
  experienced professionals\, this course will give an understanding of the
  current guidelines for steel and concrete structural design. This is done
  to resist blast in any petrochemical project. In addition to designing ne
 w buildings and structures\, a guide on how to upgrade the already existin
 g to conform to the new standards will also be given. Typical and in-depth
  details and ancillaries such as dynamic materials usage\, doors and windo
 ws\, allowable response criteria\, design procedures\, and analysis techni
 ques and methods will also be covered.\n\nVarious dynamic analysis methods
  will be taught in this course\, including details of how dynamic analysis
  is used for designing blast-resistant buildings\, simple and complex hand
  calculations\, existing graphical solutions\, computer-based software tha
 t is complex\, and an in-depth mixture of all these methods to produce the
  best results.\n\nProfessionals who wish to stand out in their career will
  greatly benefit from this course that will be modern and up to date to co
 ver the recently updated and revised ASCE publication for the design of bl
 ast-resistant buildings in the petrochemical industry.\n\nLearning Objecti
 ves\n\nThe main objectives of this course are to enable participants to:\n
 \n 	Examine in detail the existing structures to ensure they follow the be
 st blast-resistant design\n 	Thoroughly understand the design process of d
 eveloping blast-resistant structures\n 	Review the existing documentation 
 on the designs used in any of the petrochemical industry buildings and str
 uctures\n 	Predict accurately in risks involved in the current designs of 
 the blast-resistant buildings\n 	Use enhanced tools and techniques to upgr
 ade existing buildings and structures to meet the minimum requirements and
  recommendations for petrochemical buildings\n 	Contribute to organization
 al development by ensuring best practices and international standards are 
 followed\n 	Familiarize the participants with the standards\, challenges\,
  issues\, and procedures used to design the best structures that resist bl
 ast load\n 	Develop basic competence in the use and application of existin
 g engineering methods for calculating blast load and dynamic structural re
 sponse\n 	Understand the existing problems and how to effectively solve th
 em in the concrete structures that are used in the petrochemical industry\
 n 	Provide a comprehensive overview of the design approach used for typica
 l construction materials such as masonry\, steel\, concrete\, and systems\
 n 	Provide in-depth knowledge of the principles of dynamic analysis\n\nTra
 ining Methodology\n\nThis course is prepared and will be delivered by indu
 stry best professionals who have years of experience in both their fields 
 and teaching. Different methods will be used\, such as notes\, presentatio
 ns\, lectures\, and case studies. The course is designed to ensure the par
 ticipants have the best comprehension rates with better retention of what 
 will be taught.\n\nParticipants are highly encouraged to be active and eng
 aging during the delivery to ensure maximum utilization of the course.\n\n
 Benefits For Your Organization\n\nOrganizations that will have professiona
 ls who have undertaken this course stand to benefit in the following ways:
 \n\n 	Detailed risk assessment of the existing petrochemical facilities st
 ructures\n 	Conformance to the international standards and best practices\
 n 	Well-managed organization due to reduced costs of repair that normally 
 arises from poor designs of blast-resistant buildings\n 	Improve the organ
 ization's structure behavior with up-to-date technology and techniques\n 	
 Protect the organizational structures and investments by designing structu
 res that can withstand blast load\n 	Improve the organizational credibilit
 y by improving the quality of designs\n 	Regular and continuous training o
 f other employees due to working alongside experienced professionals\n\nBe
 nefits For You\n\nProfessionals who will opt to take this course will bene
 fit in the following ways:\n\n 	Deep understanding of the structure of dyn
 amic behavior\n 	A sense of pride contributes to organizational developmen
 t and credibility\n 	Increased and improved skills to review the engineeri
 ng of blast resistance building\n 	Enhanced foresight to combat risks that
  can come up due to poorly designed buildings\n 	Greater potential to mana
 ge organizational costs by reducing poor designs\n 	Update execution phase
  for blast resistance\n\nTarget Audience\n\nThis course will greatly benef
 it the following:\n\n 	Engineering managers who want to improve the design
 s of their teams\n 	Construction civil engineers who are responsible for d
 esigning buildings and structures\n 	Project engineers that oversee design
 s and construction of blast-resistant buildings\n 	Construction structural
  engineers\n 	Senior construction engineers\n 	Junior structural engineers
 \n 	Other professionals who are interested in designing blast-resistant bu
 ildings\n\nCourse Outline\n\nCharacteristics that can be found in Blast Lo
 ads\n\n 	Load combination with blast loads\n 	Reason for blast loads\n 	Pr
 essure vs Time characteristics\n 	Response to blast loads\n 	Blas load eff
 ect and calculations\n\nHandling Blast Loads\n\n 	Joint ductility\n 	Progr
 essive collapse\n 	The special detailing of blast-resistant structures\n 	
 Negative phase duration\n 	The positive impact of the blast\n 	Fragment bl
 ast impact\n 	Damages foresight\n 	The behavior of structural members\n\nB
 last Loads in Various Design Codes\n\n 	BS and ACI code utilization in des
 ign of concrete\n 	Controlling the design of the industrial projects\n 	In
 dustrial structures load blast definitions\n 	The details of the design ma
 nagement process\n\nCharacteristics of Various Materials under Blast Load\
 n\n 	Evaluation of the existing structures\n 	Deformation has known limits
 \n 	Maintenance and thorough inspection plans\n 	Dynamic increase factor\n
  	Plastic deformation due to Blast loads\n\nDynamic Materials and Others\n
 \n 	Dynamic materials properties\n 	Strengths of dynamic materials\n 	Elem
 ent types in structural materials\n 	Handling dynamic materials\n 	Dynamic
  materials types\n 	Blasting effects\n 	Structural analysis of dynamic mat
 erials\n 	Loads in dynamic view\n 	Dynamic response\n\nCase Study\n\n 	Des
 ign procedures\n 	Concrete structures analysis\n 	Construction precautions
  to achieve design requirements\n 	How to upgrade existing buildings\n 	Dy
 namic analysis methods\n 	Typical detail for the connections\n 	Steel stru
 cture workshop\n\nCFRP for Blast Resistance\n\n 	Doors and Walls resistanc
 e specs to resist blast load\n 	The inspection and monitoring procedure to
  control the construction\n 	Advanced materials for protection\n 	CFRP pri
 nciples and design\n 	Precaution in control room design\n\nModern Design P
 rocedure\n\n 	Shear wall building design example\n 	Ancillary and architec
 tural considerations\n 	Metal building design examples\n 	Design procedure
 s\n 	Dynamic analysis methods\n 	Types of constructions\n 	General conside
 rations\n 	How to determine loads\n 	Response criteria\n 	Masonry retrofit
  design\n\n&nbsp\;
ATTACH;FMTTYPE=image/jpeg:https://x8ti.com/wp-content/uploads/2024/11/What
 sApp-Image-2024-10-25-at-9.27.44-AM3.jpeg
CATEGORIES:Construction Management &amp; Civil Engineering
LOCATION:Casablanca Training Courses\, Four Seasons Hotel Casablanca\, Casa
 blanca\, Morrocco\, Morocco
X-APPLE-STRUCTURED-LOCATION;VALUE=URI;X-ADDRESS=Four Seasons Hotel Casablan
 ca\, Casablanca\, Morrocco\, Morocco;X-APPLE-RADIUS=100;X-TITLE=Casablanca
  Training Courses:geo:0,0
END:VEVENT
BEGIN:VTIMEZONE
TZID:Africa/Casablanca
X-LIC-LOCATION:Africa/Casablanca
BEGIN:STANDARD
DTSTART:20260322T030000
TZOFFSETFROM:+0000
TZOFFSETTO:+0100
TZNAME:+01
END:STANDARD
END:VTIMEZONE
END:VCALENDAR