BEGIN:VCALENDAR
VERSION:2.0
PRODID:-//wp-events-plugin.com//7.2.3.1//EN
BEGIN:VEVENT
UID:2525@x8ti.com
DTSTART;TZID=Europe/Madrid:20260504T090000
DTEND;TZID=Europe/Madrid:20260508T130000
DTSTAMP:20260201T154643Z
URL:https://x8ti.com/event/cybersecurity-awareness-for-everyday-profession
 als/
SUMMARY:Cybersecurity Awareness for Everyday Professionals
DESCRIPTION:Introduction\nIn today’s interconnected world\, cybersecurity
  is a shared responsibility. Cyber threats are evolving rapidly\, targetin
 g individuals and organizations alike. This 5-day Cybersecurity Awareness 
 for Everyday Professionals Training Course by © 2024 Xcelerate Training I
 nstitute aims to empower professionals with practical knowledge and skills
  to identify\, prevent\, and respond to cyber threats\, fostering a cultur
 e of security awareness in workplaces.\n\nThis Cybersecurity Awareness for
  Everyday Professionals Training Course by © 2024 Xcelerate Training Inst
 itute comprehensive program equips participants with the skills and confid
 ence to safeguard themselves and their organizations in an ever-evolving d
 igital landscape.\nLearning Objectives\nBy the end of this Cybersecurity A
 wareness for Everyday Professionals Training Course by © 2024 Xcelerate T
 raining Institute\, participants will:\n\n 	Understand the fundamentals of
  cybersecurity and its relevance in daily work life.\n 	Identify common cy
 ber threats\, vulnerabilities\, and attack techniques.\n 	Learn practical 
 strategies to protect personal and organizational data.\n 	Develop safe on
 line communication habits and digital work practices.\n 	Respond effective
 ly to cybersecurity incidents\, minimizing damage and risk.\n\nTraining Me
 thodology\nAt Xcelerate Training Institute\, we prioritize interactive\, h
 ands-on learning. This course includes:\n\n 	Expert-Led Lectures: Simplifi
 ed concepts explained by experienced cybersecurity professionals.\n 	Pract
 ical Demonstrations: Hands-on use of cybersecurity tools and technologies.
 \n 	Case Studies: Real-world examples of cyberattacks and lessons learned.
 \n 	Scenario-Based Exercises: Simulated activities to identify and mitigat
 e threats.\n 	Group Discussions: Peer learning through shared insights and
  challenges.\n 	Assessments: Interactive quizzes and assignments to reinfo
 rce learning.\n\nBenefits for You\nParticipants will:\n\n 	Gain confidence
  in handling cybersecurity challenges in their professional and personal l
 ives.\n 	Understand how to recognize and respond to potential threats.\n 	
 Build safe habits to protect sensitive data and maintain online security.\
 n 	Enhance career prospects by developing a highly sought-after skill set.
 \n\nBenefits for Your Organization\nOrganizations will:\n\n 	Reduce the ri
 sk of data breaches and cyberattacks through trained staff.\n 	Improve emp
 loyee accountability in maintaining cybersecurity.\n 	Strengthen the organ
 ization’s overall cybersecurity posture.\n 	Build a culture of proactive
  risk management and digital resilience.\n\nTarget Audience\nThis course i
 s ideal for:\n\n 	All professionals who use digital tools and systems in t
 heir work.\n 	Team leaders and managers responsible for overseeing digital
  operations.\n 	Individuals with limited or no prior cybersecurity knowled
 ge.\n 	Organizations seeking to improve staff awareness and reduce cyber r
 isks.\n\nCourse Outline\nFoundations of Cybersecurity\n\n 	Overview of cyb
 ersecurity: Why it matters to everyone\, not just IT teams.\n 	Key concept
 s: Threats\, vulnerabilities\, risks\, and mitigation strategies.\n 	Types
  of cyberattacks: Malware\, phishing\, ransomware\, and social engineering
 .\n 	Activity: Identify vulnerabilities in a simulated workspace.\n\nRecog
 nizing and Mitigating Cyber Threats\n\n 	How cyber criminals operate: Meth
 ods and motivations.\n 	Identifying\, phishing emails\, malicious links\, 
 and scams.\n 	Understanding the role of human error in cyberattacks.\n 	Pr
 actical Exercise: Analyzing phishing attempts and spotting red flags.\n\nD
 ata Protection and Digital Workspace Security\n\n 	Importance of data priv
 acy and security policies.\n 	Protecting sensitive data: Encryption\, pass
 words\, and multi-factor authentication.\n 	Securing devices: Laptops\, sm
 artphones\, and IoT devices.\n 	Safe internet usage: Avoiding unsafe websi
 tes and downloads.\n 	Hands-On Workshop: Implementing security settings on
  personal and work devices.\n\nSafe Online Communication and Incident Resp
 onse\n\n 	Best practices for secure email\, messaging\, and file sharing.\
 n 	How to handle suspicious communications and potential threats.\n 	Incid
 ent response: Steps to take when encountering a security breach.\n 	Report
 ing procedures: Who to notify and what to document.\n 	Case Study: Respons
 e strategies for a simulated data breach.\n\nBuilding a Cybersecurity-Firs
 t Culture\n\n 	Developing long-term habits for cybersecurity awareness.\n 
 	Promoting security best practices within teams and organizations.\n 	The 
 future of cybersecurity: Emerging threats and technologies.\n 	Final asses
 sment: Applying learned concepts to a real-world scenario.\n 	Course Wrap-
 Up: Actionable tips and resources for continued learning.\n\nCourse Copyri
 ght Notice\n© 2024 Xcelerate Training Institute. All rights reserved.\nNo
  part of this course\, including but not limited to the training materials
 \, content\, or presentations\, may be reproduced\, distributed\, or trans
 mitted in any form or by any means without prior written permission from X
 celerate Training Institute. Unauthorized use or distribution of any part 
 of this course constitutes a violation of copyright law.\n\n&nbsp\;
ATTACH;FMTTYPE=image/jpeg:https://x8ti.com/wp-content/uploads/2025/04/IMG-
 20250331-WA0060.jpg
CATEGORIES:Trending
LOCATION:Barcelona Training Courses\, Le Méridien Barcelona Hotel\, Barcel
 ona\, Spain\, Spain
X-APPLE-STRUCTURED-LOCATION;VALUE=URI;X-ADDRESS=Le Méridien Barcelona Hote
 l\, Barcelona\, Spain\, Spain;X-APPLE-RADIUS=100;X-TITLE=Barcelona Trainin
 g Courses:geo:0,0
END:VEVENT
BEGIN:VTIMEZONE
TZID:Europe/Madrid
X-LIC-LOCATION:Europe/Madrid
BEGIN:DAYLIGHT
DTSTART:20260329T030000
TZOFFSETFROM:+0100
TZOFFSETTO:+0200
TZNAME:CEST
END:DAYLIGHT
END:VTIMEZONE
END:VCALENDAR