BEGIN:VCALENDAR
VERSION:2.0
PRODID:-//wp-events-plugin.com//7.2.3.1//EN
BEGIN:VEVENT
UID:7@x8ti.com
DTSTART;TZID=Europe/Paris:20261005T090000
DTEND;TZID=Europe/Paris:20261016T130000
DTSTAMP:20260227T131014Z
URL:https://x8ti.com/event/contract-management-seminar-training/
SUMMARY:Contract Management
DESCRIPTION:Master the art of contract management and gain the skills to na
 vigate agreements confidently.\nThis course by Xcelerate Training Institut
 e equips you to:\n\n 	Interpret contracts: Understand key clauses and term
 s to ensure favorable outcomes.\n 	Manage risk: Proactively identify and m
 itigate potential issues.\n 	Negotiate effectively: Secure the best deals 
 through persuasive communication.\n 	Ensure legal compliance: Grasp contra
 ct law fundamentals and navigate regulations.\n 	Improve dispute resolutio
 n: Develop strategies for efficient conflict resolution.\n\nTarget Audienc
 e:\n\n 	Contract and project managers\n 	Lawyers\, including litigators an
 d in-house counsel\n 	Engineers\, human resource professionals\, and other
  business professionals\n 	Individuals involved in procurement and supply 
 chain management\n\nCourse Benefits:\n\nOrganizations:\n\n 	Reduced risk: 
 Implement strategies for clear contracts and effective risk management.\n 
 	Enhanced protection: Safeguard interests in unforeseen circumstances.\n 	
 Improved governance: Establish strong contract management practices.\n 	Co
 st savings: Optimize contracts for better value.\n\nIndividuals:\n\n 	Broa
 der understanding: Gain a comprehensive view of contract management.\n 	En
 hanced communication: Collaborate effectively with stakeholders.\n 	Career
  development: Develop valuable negotiation and legal interpretation skills
 .\n\nCourse Structure:\n\nThe course follows a "Do-Review-Learn-Apply" mod
 el\, combining:\n\n 	Lectures and presentations\n 	Interactive group discu
 ssions\n 	Practical case studies and exercises\n 	Assignments to solidify 
 learned concepts\n\nCourse Content:\n\nPlanning and Execution\n\n 	Pre-con
 tract negotiation strategies\n 	Contract management process overview\n 	Co
 ntract administration best practices\n 	Negotiating and managing performan
 ce using Service Level Agreements (SLAs)\n 	Establishing a strong contract
  management team\n 	Developing key performance indicators (KPIs) for effec
 tive monitoring\n\nContract Types and Clauses\n\n 	Understanding different
  contract types and their applications\n 	Identifying potential risks and 
 drafting preventive measures\n 	Statement of Work (SOW) creation and manag
 ement\n 	Change order procedures for contract modifications\n 	Outsourcing
  contracts and essential checklists\n\nIntellectual Property Management\n\
 n 	Protection of patents\, trademarks\, copyrights\, and other intellectua
 l property\n\nPrinciples of Good Contracting\n\n 	Importance of contracts 
 in business\n 	Key steps in contract creation\n 	Essential elements for a 
 valid contract\n 	Tendering and contract award process – advantages and 
 pitfalls\n 	Distinguishing price from value\n 	Understanding other obligat
 ion documents: bonds\, guarantees\, letters of intent\, etc.\n\nLegal Fram
 ework\n\n 	Basic contract and tort law principles\n 	Construction industry
  legal framework and standard forms of contract\n 	Introduction to Securit
 y of Payment (SOP) legislation and claim procedures\n 	Dispute resolution 
 processes overview\, including case studies and practical exercises\n\nDra
 fting\n\n 	Drafting process and structure development\n 	Defined terms and
  key contract sections\n 	Boilerplate provisions and clear language usage\
 n\nPerformance Management\n\n 	Negotiating variations to contracts and avo
 iding legal issues\n 	Effective use of extension and renewal clauses\n 	As
 sessing completion of work against original expectations\n 	Legalities of 
 contract withdrawal\n 	Termination procedures and post-termination conside
 rations\n\nContract Documentation\n\n 	Robust record-keeping practices for
  evidence\n 	Version control and document security\n\nTermination and Reme
 dies\n\n 	Understanding methods for contract discharge (performance\, agre
 ement\, frustration)\n 	Recognizing and pursuing various remedies for brea
 ch of contract\, including damages\, injunctions\, and specific performanc
 e\n\nDispute Resolution\n\n 	Evaluating different dispute resolution metho
 ds (litigation\, arbitration\, mediation)\n 	Structuring an efficient disp
 ute resolution clause\n
ATTACH;FMTTYPE=image/jpeg:https://x8ti.com/wp-content/uploads/2024/08/cont
 ract-img.png
CATEGORIES:Contract Management &amp; Law
LOCATION:Paris Training Courses\, Maison Colbert Meliá Collection\, Paris\
 , France\, France
X-APPLE-STRUCTURED-LOCATION;VALUE=URI;X-ADDRESS=Maison Colbert Meliá Colle
 ction\, Paris\, France\, France;X-APPLE-RADIUS=100;X-TITLE=Paris Training 
 Courses:geo:0,0
END:VEVENT
BEGIN:VTIMEZONE
TZID:Europe/Paris
X-LIC-LOCATION:Europe/Paris
BEGIN:DAYLIGHT
DTSTART:20260329T030000
TZOFFSETFROM:+0100
TZOFFSETTO:+0200
TZNAME:CEST
END:DAYLIGHT
END:VTIMEZONE
END:VCALENDAR