BEGIN:VCALENDAR
VERSION:2.0
PRODID:-//wp-events-plugin.com//7.2.3.1//EN
BEGIN:VEVENT
UID:579@x8ti.com
DTSTART;TZID=Europe/Paris:20261214T090000
DTEND;TZID=Europe/Paris:20261218T130000
DTSTAMP:20260215T160928Z
URL:https://x8ti.com/event/construction-supervision/
SUMMARY:Construction Supervision
DESCRIPTION:Introduction\n\nConstruction supervision entails taking respons
 ibility for on-site management\, logistics\, smooth operations\, and safet
 y in addition to other issues and duties in a highly risky and challenging
  environment. This Xcelerate Training Institute course will help the parti
 cipants to hone the skills to handle these responsibilities effectively an
 d understand standards and best practices to keep their project site safe.
  It will help them stand out with unique skills from their peers.\n\nConst
 ruction supervision course will involve rigorous and well-prepared trainin
 g that will be poised to help those who will be taking the course to gain 
 practical knowledge which can elevate their careers. It will feature the n
 ecessary and important practical strategies that are required to achieve p
 rofessional competency in construction supervision. Supervision is part of
  the life cycle of any project\, which includes preliminary designs\, proc
 urement\, feasibility study\, advanced design\, and construction\, and the
 refore\, it is considered a very important part of the project.\n\nThe nat
 ure\, importance\, and level of supervision that is required in any constr
 uction site will majorly depend on the expected outcome by the client and 
 management. It will consider the risk management level that is carried out
  by the main contractor on the site. Supervision should be specifically as
 signed to a certain individual or group of people to avoid vagueness as it
  can be risky. Important questions such as who will be supervising or whic
 h kind of supervision plan is in place are critical to the success of any 
 project. Different workers require different types of supervision\; it is\
 , therefore\, important to have a supervision plan in place to answer thes
 e questions.\n\nSome typical functions of a supervisor that professionals 
 will learn to include planning\, allocating work\, compliance\, building t
 eamwork\, monitoring performance\, making critical decisions\, and ensurin
 g everyone is involved. Everyone is important and critical in ensuring the
  successful completion of any construction project\; learning these skills
  will help the participant to handle everyone properly and effectively.\n\
 nSupervision’s main task is to understand both managerial and supervisio
 n skills in addition to technical knowledge that is compulsory for constru
 ction sites supervision. Any construction site must be well managed to ens
 ure the environment is risk-free and increase the chances for the project 
 to succeed. With poor supervision\, the risk and impact of it failing is v
 ery high. This course will introduce the participants to the practical too
 ls and techniques to control the construction process and cost during the 
 project’s time.\n\nLearning Objectives\n\nThe main objectives of this co
 urse are to enable the participants to be able to:\n\n 	Learn cost control
 \n 	Assess and control work methods\, systems\, collaborations\, and resou
 rces to meet site work detailed requirements\n 	Learn and understand progr
 ess payment administration\n 	Manage changes\, evaluate claims\, resolve d
 isputes amicably\, and develop a welcoming and productive working relation
 ship\n 	Effectively manage the performance of every individual and team by
  leading team meetings\n\nTraining Methodology\n\nXcelerate Training Insti
 tute will ensure that this course is delivered by industry best profession
 als who are experts in their areas of domain. This course will be delivere
 d through the utilization of lectures\, class notes\, short videos\, photo
 s\, and presentations. Case studies will be provided where necessary.\n\nA
 ll those who will be undergoing this course are encouraged to be active an
 d engaging during training facilitation to ensure maximum understanding. L
 ike all our acclaimed courses\, this program also follows the ‘Do-Review
 -Learn-Apply’ model.\n\nBenefits For Your Organization\n\nOrganizations 
 that will have professionals who have undertaken this course stands to ben
 efit in the following ways:\n\n 	Improved site supervision handled by well
 -trained professionals with experience\n 	Reduce construction costs by red
 ucing costs arising from legal issues due to poor management and consequen
 tly increasing profits\n 	Biter risk mitigation and navigation by skilled 
 professionals on the complex construction projects with better handling of
  issues\, problems\, claims\, and challenges\n 	Improved the credibility o
 f the organization and enhanced development\n 	Better client satisfaction\
 n 	Better and high-quality site supervision to ensure smooth running and c
 oordination by different construction stakeholders\n 	Continuous improveme
 nt of other works due to working alongside experienced and professionals' 
 employees\n\nBenefits For You\n\nParticipants who will be taking this cour
 se will benefit in the following ways:\n\n 	Thorough understanding of the 
 main concepts of construction supervision\n 	Better understanding of how t
 o handle issues\, challenges\, and problems in complex construction sites\
 n 	Milestones management such as planning\, scheduling\, and resourcing at
  different stages of the construction process\n 	Effective communication a
 nd challenging environment handling\n 	Effective supervision and better ma
 nagement of projects\n 	Improved technical skills to elevate them into new
  career levels\n 	Better application of dispute resolution tools and techn
 iques\, improved counterclaim handling\, and better changes application\n 
 	Improved confidence and skills backed up with knowledge\n\nTarget Audienc
 e\n\nThis course will be a great fit for the following professionals\, but
  it is not in any way limited to only them:\n\n 	Construction managers who
  would wish to upscale their skills\n 	Site Engineers\n 	New construction 
 project professionals\n 	Cost engineers who would wish to cut down the exp
 enditures\n 	New construction project professionals to effectively manage 
 their projects\n 	Site superintendents\n\nCourse Outline\n\nControl\, Plan
 ning\, Monitoring\, and Scheduling\n\n 	Site compliance and corrective act
 ion\n 	Communication and updating the existing schedules\n 	Managing the f
 oreseeable and anticipated risks\n 	Gathering information using the feedba
 ck plan\n 	Managing non-foreseeable and unanticipated risks\n 	Factors aff
 ecting progress and how to monitor the KPIs\n 	Scheduling and resourcing i
 ssues\n 	Dealing with challenges and the way forward\n\nHealth and Safety 
 in the Organization\n\n 	Healthy compliance management\n 	Contractual issu
 es and exposures in any new or existing construction site\n 	Ensuring safe
 ty of construction equipment\n 	Clear characteristic and types of roles an
 d responsibilities\n 	Safety and sustainability compliance management\n 	J
 ob site conditions to remove all hazards\n 	Environmental safety complianc
 e\n 	Basic safety guidelines\n\nDispute Resolution\, Claims\, Changes\, an
 d Developing Counterclaims\n\n 	The ADR (Alternative Dispute Resolution) m
 ethods and techniques\n 	How to handle claims\n 	Resolving disputes in an 
 amicable way\n 	Dealing with complex changes\n 	Dispute management and han
 dling\n 	Causes of rapid changes and how to manage this kind of changes\n 
 	Negotiation strategies to handle various challenges and disputes\n\nHandl
 ing the Key Site Players\n\n 	Team phases and how to handle them\n 	Leadin
 g an owner and contractor meeting\n 	Controlling various security hazards\
 n 	Managing and matching expectations\n 	How to deal with confined spaces\
 , utilities\, lack of services\, and structures erected for temporary use\
 n 	Harmonization\n 	Master schedule\n\n 	Line-of-balance\n 	Network logic\
 n 	Bar chart\n\n\n 	Developing a good development plan\n\nTechnical Skills
  Requirement\n\n 	Skills checklist\n\n 	Soil investigation handling and re
 port writing\n 	Construction elements synchronization\n 	Reading design dr
 awings\n 	Introduction to reinforced concrete use and concrete\n\n\n 	Soil
  investigation development and soil mechanics challenges\n 	Project cash f
 low and progress payment\n 	Observing precaution during construction found
 ations\n 	Handling quality issues when it comes to concrete\n\nAlternative
  Dispute Resolution (ADR) Tools for Construction Dispute Handling\n\n 	Ar
 bitration\n 	Med-adjudication\n 	Conciliation\n 	Third-party opinion and m
 ediation\n 	Neutral fact finding\n 	Consumers rights act\n 	Early neutral 
 evaluation\n 	Outside court settlement\n\nWork Scheduling\n\n 	Quantitativ
 e scheduling\n 	PERT (Program evaluation and review technique)\n\n 	Expect
 ed time\n 	Most likely time\n 	Optimistic time\n 	Pessimistic time\n\n\n 	
 Resources oriented scheduling\n 	Using Gantt charts\n 	Last planner system
 \n 	Critical path method\n\nHandling Workers\n\n 	Celebrating wins\n 	Enga
 ging the workers regularly\n 	Utilize collaborative systems\n 	Reducing st
 ress in workplace\n 	Daily tasks assignment\n 	Setting clear expectation\n
 \n&nbsp\;
ATTACH;FMTTYPE=image/jpeg:https://x8ti.com/wp-content/uploads/2024/11/What
 sApp-Image-2024-10-25-at-9.27.46-AM.jpeg
CATEGORIES:Construction Management &amp; Civil Engineering
LOCATION:Paris Training Courses\, Maison Colbert Meliá Collection\, Paris\
 , France\, France
X-APPLE-STRUCTURED-LOCATION;VALUE=URI;X-ADDRESS=Maison Colbert Meliá Colle
 ction\, Paris\, France\, France;X-APPLE-RADIUS=100;X-TITLE=Paris Training 
 Courses:geo:0,0
END:VEVENT
BEGIN:VTIMEZONE
TZID:Europe/Paris
X-LIC-LOCATION:Europe/Paris
BEGIN:STANDARD
DTSTART:20261025T020000
TZOFFSETFROM:+0200
TZOFFSETTO:+0100
TZNAME:CET
END:STANDARD
END:VTIMEZONE
END:VCALENDAR