BEGIN:VCALENDAR
VERSION:2.0
PRODID:-//wp-events-plugin.com//7.2.3.1//EN
BEGIN:VEVENT
UID:562@x8ti.com
DTSTART;TZID=Africa/Cairo:20261102T000000
DTEND;TZID=Africa/Cairo:20261106T000000
DTSTAMP:20260215T161354Z
URL:https://x8ti.com/event/construction-and-building-envelope-inspection/
SUMMARY:Construction and Building Envelope Inspection
DESCRIPTION:Introduction\n\nConstruction projects always have approved desi
 gns and procedures documentation. Inspection of construction and building 
 envelope ensures that these procedures are conformed to with strict adhere
 nce to best practices and industry standards. This course will give the pa
 rticipants detailed knowledge and understanding of inspection and various 
 testing methods for concrete buildings and structures\, steel structures\,
  and various building envelopes. The nature and importance of this functio
 n cannot be overemphasized in any scenario\, and this course ensures that 
 professionals understand to great depth how to perform and dispense these 
 functions efficiently.\n\nAll the types of inspection and testing methods 
 and techniques involved in different construction projects will be covered
  thoroughly in this course. The skills and knowledge acquired from this co
 urse are part of mandatory training for any professional who wants to main
 tain quality and ensure proper workmanship is followed in their projects.\
 n\nThis Xcelerate Training Institute course is well designed to ensure the
  participants understand the building blocks\, procedures\, and standards 
 when it comes to the construction and building envelope field. It will cov
 er in detail some aspects of inspection such as why inspection and testing
  activities are important\, how to focus on the practical and theoretical 
 inspection ways\, various quality management systems\, integration of new 
 inspection methods into the work domain\, and how to apply the learnt skil
 ls of inspection and testing to the construction field.\n\nLearning Object
 ives\n\n 	Enable participants to interpret well the necessary skills used 
 in the inspection of construction projects\n 	Familiarize the undertakers 
 of this course with the knowledge and skills required for workmanship and 
 maintaining quality work in the building and construction field\n 	Help th
 e participants learn and apply various processes used in the inspection an
 d testing of all construction projects\n 	Enable learning\, practice\, and
  exercise of the techniques and methods used in testing engineering materi
 als\n 	Facilitate knowledge acquiring of how to properly be involved in th
 e standards conformance of any construction project\n 	Enable participants
  to apply the utmost and appropriate maintenance inspection practices to e
 nsure equipment and processes remain to provide and deliver the intended q
 uality capabilities most cost-effectively\n 	Facilitate the practice and e
 xercise of all the necessary procedures used in inspecting building envelo
 pes\n\nTraining Methodology\n\nThis program from Xcelerate Training Instit
 ute Talent Solutions is highly interactive and practical. All the content 
 and exercises will be facilitated by well-trained and professional individ
 uals who have vast knowledge and experience in their areas of operation. I
 t will involve individual exercises and group interactions for everyone to
  showcase how much they have learnt and understood. Each day will begin an
 d end with a reflective exercise that will test how much learning each par
 ticipant has done.\n\nThe following methods will be employed during the tr
 aining of this course\n\n 	Group discussions\n 	Class notes\n 	Lectures\n 
 	Presentations\n 	Case studies and relevant examples\n\nBenefits For Your 
 Organization\n\nOrganizations that will engage professionals who have take
 n this course stand to benefit in the following ways:\n\n 	Improved and be
 tter cost reduction by avoiding unnecessary costs due to failed constructi
 on projects or buildings due to lack of proper inspection\n 	Better and en
 hanced quality inspection procedures and techniques that will improve the 
 overall quality of any organization\n 	Better and improved maintenance sch
 emes\n 	Detailed inspection of all construction projects and building enve
 lopes\n 	Well-managed revenue from avoiding regulation breaches\n 	Applica
 tion of advanced and enhanced tools in the inspection process\n 	Regular i
 mprovement of the quality of other employees by working alongside a well-t
 rained professional\n\nBenefits For You\n\nProfessionals who will undergo 
 this training will benefit in the following ways:\n\n 	A thorough and comp
 lete understanding of the inspection process\n 	Greater understanding and 
 deep knowledge of how to ensure the inspection process is followed to grea
 ter detail\n 	A sense of pride and achievement contributes to saving reven
 ue to tunes of thousands by avoiding legal repercussions which are associa
 ted with poorly inspecting construction projects\n 	Enhanced foresight int
 o the construction problems and risks\n 	Better understanding and exposure
  to working with improved and enhanced tools and technologies while applyi
 ng the right methods and techniques\n 	Increased knowledge and confidence 
 to spearhead the inspection process\n 	Enhanced skill sets and capabilitie
 s to assume higher-level responsibilities\n\nTarget Audience\n\n 	Chief ar
 chitects work in different functions of building designs to ensure quality
  is adhered to while performing inspections\n 	Project managers oversee th
 e day-to-day construction activities and operations\n 	Contractors underta
 ke the responsibilities of building different construction projects\n 	Lab
  personnel are responsible for testing and ensuring adherence to quality s
 tandards\n 	Practicing and already experienced construction inspectors who
  wish to update their knowledge and techniques to modern ways\n 	Civil eng
 ineers\n 	Technicians and technologists who are involved with building con
 structions\n\nCourse Outline\n\nInspecting Steel Structures\n\n 	Welding j
 oints and connections inspection\n 	Floor flatness and levelness testing m
 ethods for determining the F-Numbers\n 	Various techniques for fireproofin
 g and assurance inspection\n 	Non-destructive testing methodology and tech
 nologies\n 	Engineering needs serving while handling soil classification\n
  	Level II and Level III NDE\n 	Hold-downs systems\, anchor bolts\, joints
 \, and Dowels inspection\n 	Inspecting steel structural constructions\n\nF
 ield Quality Assurance and Inspection\n\n 	What are the minimum components
  requirements for special inspection?\n 	Total quality management and asse
 ssment systems\n 	What is inspection and why does it matter?\n 	Special in
 spectors\; roles and responsibilities\n 	Couple walls inspection\n 	Connec
 tions of structural elements\n 	Shear walls construction and nailing\n\nSt
 andard Architectural Inspection Guidelines\n\n 	Woodwork standards and ins
 tallation guidelines for inspection\n 	Insulation installation\, types\, a
 nd quality inspection\n 	Architectural roofing types\, installations\, and
  quality inspection\n 	What makes up a building envelope?\n 	Foundation wo
 rks\n\n 	Foundation standards\n 	Rough plumbing\n 	Damp-proof course\n 	Pr
 oper soil handling and treatment for insects\n 	Depth below finished grade
 \n 	Foundation size\n 	Anchoring devices or systems\n 	Amount and placemen
 t of reinforcing steel\n 	Factors affecting the specified foundation\n\n\n
  	Building construction structures\n\n 	Form works and scaffolding\n 	Colu
 mns\, slabs\, staircases\, general structure\n 	Elevation techniques\n\n\n
  	Mechanical requirements\n 	Framing works’\n\n 	Walls\n 	Doors\n 	Windo
 ws\n 	Stair\n 	Openings\n\n\n 	Finishes\n 	Safety\n\nInspection Tools\n\n 
 	Sound meters\n 	Laser meter and how to ensure safety\n 	Wheel meters hand
 ling\n 	Tape measures readings\n 	Earth resistance meters and counterpart 
 testers\n 	Concrete structure scanners (GSSI)\n 	Pocket digital light mete
 r\n 	Radiation meter\n 	Completer\n 	Dust monitor\n 	Torque wrench\n\nDigi
 tal Tools and How to Handle Them\n\n 	Digital moisture meter inspection ki
 t\n 	Digital camera\n 	Digital Schmidt hammer\n 	Digital voltmeter\n 	Repa
 irs and accuracy calibration\n\nSoil Inspection Guidelines and Procedures\
 n\n 	Asphalt concrete inspection\n 	On-site soil inspection\n 	Earthwork a
 nd other techniques inspection\n 	Road construction inspection\n 	Field in
 spectors’ responsibilities\n 	Detailed analysis\n 	Sample collection\n\n
 General Guidelines for Inspection\n\n 	Concrete NDT\n 	Concrete structures
  and buildings inspection\n 	Field Inspectors\n 	Shotcrete inspection\n 	S
 teel reinforced bars inspection\n 	Structural masonry inspection\n\nStages
  of Construction Inspection\n\n 	Handover Inspection and how to ensure eve
 rything works correctly\n 	Footing and overall inspection\n 	Slab quality 
 and standards inspection\n 	Frame inspection\n 	Lock-up details and qualit
 y inspection\n 	Fixing procedures and stage\n 	Practical operational stage
 \n\nJoints and Connections Inspection\n\n 	Introduction\n 	The basic proce
 ss of welding\n 	Fillet joints\n 	Welding problems\n 	LRFD of Welded conne
 ctions\n 	Qualified welds\n 	Eccentric shear in Welds\n 	General provision
 s in connections\n 	Types of structural bolts and bolted connections\n 	Se
 lecting standard connections using manuals\n 	Weld types in structural con
 struction and their applications\n\n&nbsp\;
ATTACH;FMTTYPE=image/jpeg:https://x8ti.com/wp-content/uploads/2024/11/What
 sApp-Image-2024-10-25-at-9.27.46-AM1.jpeg
CATEGORIES:Construction Management &amp; Civil Engineering
LOCATION:Cairo Training Courses\, Kempinski Nile Hotel Garden City Cairo\, 
 Cairo\, Egypt\, Egypt
X-APPLE-STRUCTURED-LOCATION;VALUE=URI;X-ADDRESS=Kempinski Nile Hotel Garden
  City Cairo\, Cairo\, Egypt\, Egypt;X-APPLE-RADIUS=100;X-TITLE=Cairo Train
 ing Courses:geo:0,0
END:VEVENT
BEGIN:VTIMEZONE
TZID:Africa/Cairo
X-LIC-LOCATION:Africa/Cairo
BEGIN:STANDARD
DTSTART:20251102T000000
TZOFFSETFROM:+0200
TZOFFSETTO:+0200
TZNAME:EET
END:STANDARD
END:VTIMEZONE
END:VCALENDAR