BEGIN:VCALENDAR
VERSION:2.0
PRODID:-//wp-events-plugin.com//7.2.3.1//EN
BEGIN:VEVENT
UID:455@x8ti.com
DTSTART;TZID=Asia/Riyadh:20261116T090000
DTEND;TZID=Asia/Riyadh:20261120T130000
DTSTAMP:20260211T151554Z
URL:https://x8ti.com/event/compliance-officer-5/
SUMMARY:Compliance Officer
DESCRIPTION:Course Overview\nApplied law and compliance are aspects critica
 l to the maintenance of operational hygiene for the success of a business.
  Applied law refers to the rules\, regulations\, policies and clauses appl
 icable and applied to various areas of operations within an organization\,
  which encompass processes\, infrastructure\, business transactions\, empl
 oyees and clients.\n\nCompliance training refers to conformance or adheren
 ce to a rule or set of rules placed out through policy\, law or specificat
 ion. This conformance could be to internal systems and/or external rules. 
 Compliance is undertaken to ensure that an organization is meeting legal o
 bligations to protect the health\, welfare and safety of others.\n\nLaws a
 re agents to modernization and social change for the better. They act as c
 atalysts in the process of social transformation of people. Applied law an
 d compliance are extremely necessary to ensure that an organization is mov
 ing in the correct direction and adhering to the standards set out at the 
 start to achieve the end objective of success.\n\nRegulatory compliance i
 s an organization’s efforts to keep regular checks and regulate operatio
 ns\, processes and policies to ensure that it is conforming to relevant st
 andards\, laws and policies that have been accepted universally. Many corp
 orates have a corporate compliance program to maintain compliance in all a
 reas of their operations.\n\nCompliance training is extremely important to
  educate employees about various rules and regulations about their industr
 y. Further\, training will increase understanding of the reason and object
 ive behind various laws and rules and will help an organization and its em
 ployees take advantage of the various benefits that these rules have to of
 fer.\n\nAn organization performs various activities that qualify as law ad
 herence or compliance\, such as obtaining licenses and necessary permissio
 ns for its activities or paying taxes\, among others. Compliance is the ba
 sic means by which an organization can decrease risks of paying fines or p
 enalties.\n\nHiring a compliance expert is also one of the methods to ensu
 re that the organization is up to date with all prescribed standards and r
 ules. While compliance is a very critical aspect of good governance\, it c
 ould sometimes require enforcement.\n\nThis Xcelerate Training Institute t
 raining course will empower you with an in-depth understanding of applied 
 law and compliance\, right from initiation to realization.\n\nIt will prov
 ide you with the necessary knowledge\, information and experience to not o
 nly play an important part in ensuring that your organization is compliant
  with industry standards but will also provide you with the confidence to 
 be part of setting the required standards or influencing decision making r
 elated to this.\n\nThe information and skills gained through this course w
 ill help you understand rules and regulations as well as relevant policies
  in-depth to help derive maximum advantage from the benefits that these po
 licies and laws have to offer.\n\nIt will also help you assume positions o
 f influence and responsibility that impact colleagues and your organizatio
 n at large\, thus providing a larger platform to demonstrate talent and ab
 ility to foster future growth and progression.\nCourse Objectives\nThe mai
 n objective of this Certified Compliance Officer course is to empower work
 ing professionals with—\n\n 	complete knowledge and information related 
 to applied law and compliance training\n 	in-depth understanding of the ob
 jectives and motives behind certain rules and policies\, which in turn wil
 l help them derive maximum benefits out of these policies\n 	the required 
 skill and awareness to understand and prepare for possible fraud and non-c
 ompliance-related issues\n 	experience and exposure to understand and/or i
 dentify business process vulnerability to unethical and undesirable action
 s\n 	the required skill and ability to assess risks when preparing contrac
 ts to secure one’s organization beforehand\n 	the necessary know-how and
  capability to play an important role in compliance and compliance-related
  initiatives for one’s organization\, in turn fostering career growth an
 d progression through passive and experiential learning\n\nTraining Method
 ology\nEach training course at Zoe Talent Solutions is customized to the m
 inutest detail possible. While the course modules and content are prepared
  in advance\, these are reviewed before each training session to identify 
 necessary changes and customization to suit the audience to foster relativ
 ity and better learning.\n\nThe training involves face-to-face discussions
 \, interactions and presentations. Group learning through activities\, com
 petitions\, etc. promote two-way participation. Case studies and role-play
 s help the training audience relate to real-life\, practical scenarios.\n\
 nFurther\, the trainer also discusses current compliance issues being face
 d by trainees or their organizations and helps the trainees find ways to o
 vercome these using the knowledge and experience gained through the course
 .\n\nLike all Xcelerate Training Institute courses\, this course too fol
 lows the unique yet effective Do–Review–Learn–Apply Model.\nOrganiza
 tional Benefits\nWith professionals attending this Certified Compliance Of
 ficer course\, their organizations will benefit in the following ways:\n\n
  	Naturally trained and experienced employees who ensure compliance and pl
 ay an important part in up-gradation of policies and processes with changi
 ng standards\n 	Better risk assessment before or during contract preparati
 on\, resulting in more risk-free and appropriate contracts for any busines
 s association\n 	Reduced costs because of lesser need and opportunities to
  pay fines and penalties for non-adherence\n 	Better preparedness to handl
 e fraud and other illegal and unethical incidents\n 	Regular internal audi
 ts and revisions to protect against fraud and ensure adherence to relevant
  standards\n 	Better framed policies setting out all possibilities and pre
 cautions by the law and compliance requirements\n 	Improved brand image am
 ong prospective employees and clients because of adherence to universally 
 acceptable standards\, thus improving credibility\n 	Higher employee reten
 tion because of employee-friendly policies and processes\n\nPersonal Bene
 fits\nProfessionals undertaking this Certified Compliance Officer course w
 ill benefit in the following ways:\n\n 	Increased knowledge and understand
 ing of applied law and compliance\n 	Greater awareness of risks to busines
 s operations and processes and more exposure to make relevant changes in t
 hese\n 	Better preparedness to handle incidents of fraud and other illegal
  and unethical practices\n 	Increased skill and capabilities to understand
  the objective behind rules and regulations set out in policies to take ma
 ximum advantage of the benefits they have to offer\n 	Increased ability to
  partake in internal audits to ensure adherence and compliance\n 	Increase
 d skill to be part of policymaking while ensuring that all important aspec
 ts are taken care of when framing the policies\n 	Greater experience and c
 onfidence to demonstrate one’s abilities and potential to assume higher 
 roles and responsibilities\, thus favoring career growth and development\n
 \nWho Should Attend?\n\n 	Senior members and top management of organizatio
 ns responsible for ensuring that organizations and their processes and tra
 nsactions are compliant with the required standards\n 	Internal and extern
 al auditors responsible for undertaking regular audits of systems and proc
 esses to check adherence and conformance to law and standards\n 	Policymak
 ers responsible for creating policies including all necessary components t
 o foster adherence to universally set standards\n 	Financial investigators
  responsible for auditing and investigating finance statements to confirm
  ethical business operations throughout\n 	Law enforcement agencies respon
 sible for ensuring that laws applicable to certain organizations and indus
 tries are being followed by them\n 	Mid-level managers and human resource 
 professionals responsible for overseeing the audit process and ensuring ad
 herence to systems and processes at a day-to-day level\n 	Any other profes
 sional interested in understanding and knowing more about applied law and 
 compliance\n\n Course Outline\nThe Certified Compliance Officer course w
 ill cover the following areas important for understanding applied law and 
 compliance:\nImportance of Law and Compliance\n\n 	Reduced legal problems\
 n 	Improved operations and safety\n 	Better public relations\n 	Higher emp
 loyee retention\n\nPurpose of Applied Law\n\n 	Establishing standards\n 	M
 aintaining order\n 	Resolving disputes\n 	Protecting liberties and rights\
 n\nTypes of Compliance\n\n 	With government-imposed standards\n 	With indu
 stry standards and codes of practice\n 	With external client contract spec
 ifications\n 	With licensing\, permits\, accreditations\, certifications\,
  etc.\n\nTypes of Compliance Risks\n\n 	Environmental risks\n 	Workplace h
 ealth and safety\n 	Corrupt practices\n 	Social responsibility\n 	Quality\
 n 	Process risks\n\nKey Elements of a Corporate Compliance Program\n\n 	Ri
 sk identification and assessment\n 	Standards\, policies\, procedures and 
 controls\n 	Leadership commitment\n 	Communication\, guidance and training
 \n 	Monitoring\, auditing and reviewing\n 	Discipline and reporting\n\nImp
 ortant Functions of a Compliance Department\n\n 	Identification (identify 
 risks and advise)\n 	Prevention (design and implement controls against ris
 ks)\n 	Monitoring and detection (monitor and report the effectiveness of c
 ontrols)\n 	Resolution (resolve compliance difficulties)\n 	Advisory (advi
 ce on rules and controls)\n\nKey Features of Enforcement\n\n 	Inspection\n
  	Investigation process\n 	Surveillance powers\n 	Imposition of remedial o
 r corrective action\n 	Imposition of fines and penalties\n\nHindrances to 
 Applied Law Adherence and Compliance\n\n 	Lack of real management support\
 n 	Prioritizing risk-taking\n 	Lack of employee awareness on purpose\n 	La
 ck of resources\n 	Lack of constancy\n 	Lack of integration among departme
 nts\n\n&nbsp\;
ATTACH;FMTTYPE=image/jpeg:https://x8ti.com/wp-content/uploads/2024/10/Scre
 enshot_20241008-134247_Chrome.jpg
CATEGORIES:Audit, Compliance and Governance
LOCATION:http://Online
END:VEVENT
BEGIN:VTIMEZONE
TZID:Asia/Riyadh
X-LIC-LOCATION:Asia/Riyadh
BEGIN:STANDARD
DTSTART:20251116T090000
TZOFFSETFROM:+0300
TZOFFSETTO:+0300
TZNAME:+03
END:STANDARD
END:VTIMEZONE
END:VCALENDAR