BEGIN:VCALENDAR
VERSION:2.0
PRODID:-//wp-events-plugin.com//7.2.3.1//EN
BEGIN:VEVENT
UID:2464@x8ti.com
DTSTART;TZID=Europe/Paris:20260615T090000
DTEND;TZID=Europe/Paris:20260619T130000
DTSTAMP:20260201T154948Z
URL:https://x8ti.com/event/blockchain-for-government-and-public-sector-tra
 ining-course-2/
SUMMARY:Blockchain for Government and Public Sector Training Course
DESCRIPTION:Introduction\nGovernments and public institutions globally are 
 embracing Blockchain to enhance transparency\, streamline operations\, and
  improve service delivery. This 5-day training\, offered by Xcelerate Trai
 ning Institute\, provides a comprehensive understanding of block chain’s
  potential in the public sector\, real-world use cases\, and practical app
 roaches to implementation.\n\nThis Blockchain for Government and Public Se
 ctor training course will equip participants with the knowledge and tools 
 needed to explore and implement block chain technology in the public secto
 r\, addressing both its potential and challenges.\nLearning Objectives\nAt
  the end of this Blockchain for Government and Public Sector training cour
 se\, participants will:\n\n 	Understand the foundational principles of blo
 ckchain and its applications in governance.\n 	Analyze blockchain's role i
 n improving efficiency\, transparency\, and accountability in government o
 perations.\n 	Learn real-world use cases such as voting systems\, land reg
 istries\, and tax collection.\n 	Explore regulatory\, legal\, and policy f
 rameworks for blockchain adoption.\n 	Gain practical skills to evaluate an
 d implement blockchain solutions in the public sector.\n 	Develop a strate
 gic action plan for blockchain integration in their respective organizatio
 ns.\n\nTraining Methodology\nThis Blockchain for Government and Public Sec
 tor training course by Xcelerate Training Institute employs interactive an
 d hands-on methodologies\, including:\n\n 	Expert Lectures: Delivered by l
 eading blockchain practitioners and public sector experts.\n 	Case Studies
 : Analysis of successful blockchain implementations worldwide.\n 	Workshop
 s &amp\; Simulations: Practical exercises to understand blockchain applica
 tions in real-time.\n 	Panel Discussions: Engaging in conversations with e
 xperts on blockchain and governance.\n 	Group Activities: Collaborative pr
 oblem-solving for blockchain challenges in the public sector.\n 	Assessmen
 ts: Quizzes\, assignments\, and project presentations for knowledge valida
 tion.\n\nTarget Audience\nThis Blockchain for Government and Public Sector
  training course is ideal for:\n\n 	Government officials\, civil servants\
 , and policymakers.\n 	Public sector employees in areas such as tax\, voti
 ng\, and land registration.\n 	IT professionals and blockchain developers 
 working with government systems.\n 	Legal and regulatory professionals foc
 used on blockchain governance.\n 	Consultants advising on technology adopt
 ion in the public sector.\n 	Academics and researchers studying blockchain
  and governance.\n\nBenefits for You\nParticipants will:\n\n 	Acquire adva
 nced knowledge of blockchain and its public sector applications.\n 	Unders
 tand how blockchain can address inefficiencies and promote transparency.\n
  	Enhance decision-making capabilities by leveraging blockchain solutions.
 \n 	Gain insights into global best practices and emerging trends in blockc
 hain governance.\n 	Boost career prospects with expertise in innovative te
 chnology reshaping public administration.\n\nBenefits for Your Organizatio
 n\nOrganizations will:\n\n 	Build internal capacity to explore blockchain 
 solutions for governance.\n 	Improve operational efficiency and transparen
 cy using blockchain.\n 	Foster innovation by adopting cutting-edge technol
 ogies.\n 	Strengthen public trust by ensuring secure and tamper-proof proc
 esses.\n 	Stay ahead of regulatory compliance and global technology trends
 .\n\nCourse Outline\nFoundations of Blockchain Technology\n\n 	Overview of
  blockchain principles: Decentralization\, transparency\, and security.\n 
 	Core components: Distributed ledgers\, cryptography\, smart contracts\, a
 nd consensus mechanisms.\n 	Blockchain vs. traditional systems in governan
 ce.\n 	Interactive workshop: Exploring blockchain networks and tools.\n\nB
 lockchain Applications in Public Sector Services\n\n 	Use cases in governm
 ent: Voting\, tax collection\, land registration\, and social services.\n 
 	Case studies: Estonia’s digital government\, India’s blockchain land 
 registry.\n 	Benefits and challenges of blockchain integration.\n 	Group a
 ctivity: Identifying potential blockchain opportunities in participants' s
 ectors.\n\nSpecialized Use Cases and Governance Models\n\n 	Blockchain in 
 Elections: Securing voter data\, ensuring transparency\, and reducing frau
 d.\n 	Blockchain in Land Registries: Fraud prevention\, transparency\, and
  record immutability.\n 	Public Finance and Tax Collection: Ensuring accou
 ntability and reducing tax evasion.\n 	Hands-on simulation: Designing a bl
 ockchain-based public service solution.\n\nRegulatory\, Legal\, and Implem
 entation Challenges\n\n 	Overview of blockchain regulations: Privacy\, com
 pliance\, and security.\n 	Addressing adoption barriers: Technical limitat
 ions\, political resistance\, and public perception.\n 	Panel discussion: 
 Perspectives from government\, legal\, and blockchain experts.\n 	Workshop
 : Developing a roadmap for blockchain adoption in government.\n\nFuture Tr
 ends and Action Planning\n\n 	Emerging trends: Decentralized Autonomous Or
 ganizations (DAOs) and blockchain-based public services.\n 	Blockchain's i
 mpact on public trust and democracy.\n 	Final project: Creating an impleme
 ntation strategy for a blockchain application in governance.\n\n\nCourse C
 opyright Notice\n© 2024 Xcelerate Training Institute. All rights reserved
 .\nNo part of this course\, including but not limited to the training mate
 rials\, content\, or presentations\, may be reproduced\, distributed\, or 
 transmitted in any form or by any means without prior written permission f
 rom Xcelerate Training Institute. Unauthorized use or distribution of any 
 part of this course constitutes a violation of copyright law.\n\n&nbsp\;
ATTACH;FMTTYPE=image/jpeg:https://x8ti.com/wp-content/uploads/2025/04/IMG-
 20250331-WA0065.jpg
CATEGORIES:Trending
LOCATION:Paris Training Courses\, Maison Colbert Meliá Collection\, Paris\
 , France\, France
X-APPLE-STRUCTURED-LOCATION;VALUE=URI;X-ADDRESS=Maison Colbert Meliá Colle
 ction\, Paris\, France\, France;X-APPLE-RADIUS=100;X-TITLE=Paris Training 
 Courses:geo:0,0
END:VEVENT
BEGIN:VTIMEZONE
TZID:Europe/Paris
X-LIC-LOCATION:Europe/Paris
BEGIN:DAYLIGHT
DTSTART:20260329T030000
TZOFFSETFROM:+0100
TZOFFSETTO:+0200
TZNAME:CEST
END:DAYLIGHT
END:VTIMEZONE
END:VCALENDAR