BEGIN:VCALENDAR
VERSION:2.0
PRODID:-//wp-events-plugin.com//7.2.3.1//EN
BEGIN:VEVENT
UID:403@x8ti.com
DTSTART;TZID=Europe/Madrid:20260803T090000
DTEND;TZID=Europe/Madrid:20260814T130000
DTSTAMP:20260211T150506Z
URL:https://x8ti.com/event/audit-interview-techniques-and-best-practices-2
 /
SUMMARY:Audit Interview Techniques and Best Practices
DESCRIPTION:Course Overview\nIn case of any fraudulent activity or miscondu
 ct\, the time taken for the investigation and the quality of investigation
  to ensure that the correct conclusions are drawn are of utmost importance
 .\n\nUnless such activities or misconduct is treated seriously and the gui
 lty receive disciplinary action\, no fear is created against such activiti
 es. However\, in doing so\, it must be assured that only the guilty receiv
 e disciplinary action and no innocent person is unnecessarily involved in 
 this entire process.\n\nTo be able to do so\, gathering evidence effective
 ly and accurately becomes a very critical aspect. Evidence can be obtained
  in many ways\, through inquiries\, questionnaires\, face-to-face discussi
 ons\, interviews\, physical searches\, etc. However\, in most cases\, phys
 ical searches may not reveal much because of the high risk of tampering or
  interference in the process.\n\nThe most effective way of gathering accur
 ate evidence is through investigative interviews. Given the importance and
  sensitivity of this means of evidence collection\, only specialized\, tra
 ined individuals can be part of the process. Possessing investigative inte
 rviewing skills is a mandate if one is to undertake this role.\n\nThis is 
 because the role is not only complex and risky but also needs the presence
  of mind\, creativity\, assertiveness and confidence through the interview
  process in order to deliver fruitful results.\n\nFor professionals in thi
 s role\, understanding laws of evidence\, identifying evidence\, cross-que
 stioning\, raising appropriate questions in the appropriate way and at the
  appropriate time\, comprehending evidence and devising definite next step
 s or follow-up questions are some of the key skills or attributes that the
 y need to possess.\n\nCurrent global economic trends and conditions are ex
 erting more pressure on individuals to seek financial gain through illegal
  means\, thus giving rise to a number of fraudulent practices that need in
 vestigation. In such cases\, investigative interviews need to be conducted
  in a robust\, ethical and transparent manner.\n\nConducting investigative
  interviews requires extreme focus and presence of mind since an interview
 er cannot be biased\, should not place forth his/her opinion and should pr
 obe intently to get the required answers through some form or the other. T
 hus\, training in gathering evidence and interviewing skills is a mandate 
 for professionals closely and remotely related to this process.\n\nThis Xc
 elerate’s Audit Interview Techniques and Best Practices training course 
 will empower you with all the necessary skills and knowledge to thoroughly
  understand evidence gathering and investigative interviewing skills and s
 uccessfully undertake roles in these areas.\n\nFurther\, this interviewing
  skills training course will help you with additional information of new a
 nd modern methods of gathering evidence and conducting interviews as well 
 as ideal practices to make the most of these opportunities.\n\nThis Audit 
 Interview Techniques and Best Practices training course will also enable y
 ou to conduct effective interviews to reach accurate conclusions with no b
 ias or influence. The skills and knowledge gained through this course will
  prepare you to assume roles with higher responsibilities and will provide
  you the confidence and experience to perform well in these roles\, eventu
 ally contributing to growth and development in your career.\n\nBy undertak
 ing this course\, you will become capable of ensuring that correct justice
  and judgements are passed in such cases.\nCourse Objectives\nThe main obj
 ective of this Audit Interview Techniques and Best Practices course is to 
 empower professionals with—\n\n 	detailed information and knowledge of t
 echniques related to evidence gathering and investigative interviewing\n 	
 the required experience and information to gain credibility and reliabilit
 y as an interviewer or official in charge of gathering evidence\n 	the req
 uired exposure and awareness to understand witness or subject psyche and m
 emory\n 	awareness of best practices of verbal and non-verbal communicatio
 n in case of evidence gathering and/or interview\n 	the required experienc
 e\, confidence and capability to manage difficult and challenging behavior
  during interviews\n 	the required skill and technique to be able to alter
  one’s approach when interviewing different kinds of people\, such as ki
 ds\, senior citizens\, aggressive persons\, etc.\n 	the necessary experien
 ce and ability to successfully gather and manage evidence\n 	additional kn
 owledge of advanced tools and techniques used for investigation and interv
 iewing\n\nTraining Methodology\nAll training courses at Xcelerate Trainin
 g Institute are customizable as per the requirement of the training audien
 ce. In the case of no special requirements or requests\, Zoe Talent Soluti
 ons reviews the training content each time to ensure that it relates to th
 e nature of the training audience. Batch sizes are kept limited to ensure 
 equal attention to and equal participation by all trainees.\n\nAudio-visua
 l presentations and lectures\, followed by case studies\, role-plays\, gro
 up activities and experience sharing\, form part of the training methods. 
 A practical approach to training is preferred over the theoretical approac
 h\, and this increases the participation and involvement of trainees in th
 e course.\n\nLike all Xcelerate Training Institute courses\, this one too 
 follows the unique and effective Do–Review–Learn–Apply Model.\nOrgan
 izational Benefits\nWith professionals undertaking this Audit Interview Te
 chniques and Best Practices training course\, their organizations will ben
 efit in the following ways:\n\n 	Experienced and trained employees to effe
 ctively gather evidence and/or conduct investigative interviews\n 	Faster 
 resolution to issues and conflicts because of complete transparency during
  the process and clear conclusions drawn from clear evidence\n 	Increased 
 credibility and reliability as an organization because of trained professi
 onals partaking in the entire process\n 	More objective conclusions and cl
 osures to investigation cases because of adequate evidence through effecti
 ve interviewing\n 	Growth of the organization because of more successful c
 losures to investigation cases\n 	Adequate information and evidence derive
 d from interviews and cross-questioning in a tactful manner\n 	Timely acti
 on for disciplinary cases because of early warning signals correctly ident
 ified and addressed by the trained professionals\n\nPersonal Benefits\nBy 
 undertaking this audit Interview Techniques and Best Practices training\,
  professionals will benefit in the following ways\n\n 	Complete understand
 ing of best practices and advanced techniques and methods of evidence gath
 ering and/or investigative interviewing\n 	Better decision making (more ob
 jective) as a result of clear evidence and transparent interviews with cle
 ar next steps\n 	Increased skill\, confidence and experience to use advanc
 ed tools and techniques for evidence gathering and investigative interview
 ing\n 	Greater confidence\, experience and capability to undertake more cr
 itical and difficult cases for resolution\, thus demonstrating the potenti
 al for future growth in one’s role\n 	Increased credibility and reliabil
 ity because of more successful closures to cases\n 	Higher awareness of be
 st practices of verbal and non-verbal communication\n 	Greater experience 
 and skill to predict changes or challenges in the interview process and al
 ter one’s questions or approach accordingly to derive maximum informatio
 n\n 	Increased control over one’s state of mind and emotions to conduct 
 unbiased\, un-opinionated interviews\n 	Greater potential and skill to ens
 ure justice and appropriate judgements are passed\n\nWho Should Attend?\n\
 n 	Senior members of organizations as they would be involved in decision m
 aking or fact presentation during the investigation process\n 	Human resou
 rce professionals who need to conduct investigative interviews for cases a
 t an organizational level\n 	Internal and external auditors and other inve
 stigators who will need to validate claims against facts for any sphere of
  work or function in an organization\n 	Forensic experts\, fraud investiga
 tors and private investigators responsible for conducting stringent invest
 igations in fraud cases\n 	Police officers and risk management agencies r
 esponsible for managing risks and addressing critical and sensitive instan
 ces requiring investigation\n 	Law enforcement agencies who need to ensure
  that all legal and regulatory standards are being adhered to and there is
  no misconduct or misbehavior within the organization\n 	Any other profess
 ional who\, by virtue of his/her role\, needs to be part of the evidence g
 athering and investigative interviewing process\n\nCourse Outline\nThe int
 erviewing skills training course will cover the following areas important 
 to understand and successfully carry forth evidence gathering and investig
 ative interviewing:\nTypes of Evidence\n\n 	Direct evidence\n 	Real eviden
 ce\n 	Documentary evidence\n 	Photos\, videotapes\, audiotapes\n 	Expert\,
  circumstantial\, corroborating evidence\n\nEvidence Gathering Techniques\
 n\n 	Inquiry\n 	Questionnaire\n 	Interviews\n 	Expert opinion\n 	Focus gro
 up\n 	External confirmation\n 	Surveys\n 	Internal searches\n\nBest Practi
 ces of Evidence Gathering\n\n 	Take notes\n 	Avoid touching exhibits\n 	Ha
 ndle exhibits as less as possible\n 	Label and identify exhibits carefully
 \n\nFeatures of an Interview\n\n 	Non-accusatory\n 	Fact seeking\n 	Conver
 sational\n\nImportant Aspects of an Interview\n\n 	Quality\n 	Preparation\
 n 	Warnings and representation\n 	Rapport building\n 	Investigative questi
 ons\n 	Behavioral analysis and conclusion\n\nPreparation for an Interview\
 n\n 	Devise strategy\n 	Plan scenario\n 	Include personnel\n 	Create a set
 ting\n 	Maintain sequence\n 	Minimize physical barriers\n 	Reduce distract
 ions\n 	Minimize observable body language\n\nSteps in an Investigative Int
 erview\n\n 	Preparation\n 	Deciding a logical sequence of questions\n 	Pos
 ing objective questions and probing\n 	Development of the topic\n 	Summary
  of the interview\n\nKey Skills of a Successful Investigator\n\n 	Communic
 ation and interviewing skills\n 	Control over emotions\n 	Honesty and eth
 ical conduct\n 	Knowledge of the law\n 	Critical thinking/problem solving\
 n 	Research skills\n 	Writing skills\n\n&nbsp\;
ATTACH;FMTTYPE=image/jpeg:https://x8ti.com/wp-content/uploads/2024/09/Scre
 enshot_20240917-143953_Chrome.jpg
CATEGORIES:Audit, Compliance and Governance
LOCATION:Barcelona Training Courses\, Le Méridien Barcelona Hotel\, Barcel
 ona\, Spain\, Spain
X-APPLE-STRUCTURED-LOCATION;VALUE=URI;X-ADDRESS=Le Méridien Barcelona Hote
 l\, Barcelona\, Spain\, Spain;X-APPLE-RADIUS=100;X-TITLE=Barcelona Trainin
 g Courses:geo:0,0
END:VEVENT
BEGIN:VTIMEZONE
TZID:Europe/Madrid
X-LIC-LOCATION:Europe/Madrid
BEGIN:DAYLIGHT
DTSTART:20260329T030000
TZOFFSETFROM:+0100
TZOFFSETTO:+0200
TZNAME:CEST
END:DAYLIGHT
END:VTIMEZONE
END:VCALENDAR