BEGIN:VCALENDAR
VERSION:2.0
PRODID:-//wp-events-plugin.com//7.2.3.1//EN
BEGIN:VEVENT
UID:384@x8ti.com
DTSTART;TZID=Asia/Riyadh:20261207T090000
DTEND;TZID=Asia/Riyadh:20261211T130000
DTSTAMP:20260211T195405Z
URL:https://x8ti.com/event/anti-corruption-and-anti-bribery-compliance-5/
SUMMARY:Anti Corruption and Anti Bribery Compliance
DESCRIPTION:Course Overview:\nCorruption is an illegal and dishonest way in
  which people in positions of power and authority engage in unethical and 
 illegal activities for personal gain. This leads to them taking undue adva
 ntage of others and to increase in their ability to influence or cause har
 m to those not adhering to their requests.\n\nBribery is a common means of
  corruption\, which includes receiving or giving gifts in exchange for per
 sonal favors out of the boundaries and limits defined for a job role. Corr
 uption is rampant in all sectors and causes major disturbance\, injustice 
 and harm to citizens and employees across these sectors.\n\nCorruption in 
 the government deprives worthy citizens of certain opportunities they dese
 rve\, while corruption in the workplace impacts many employees and the pro
 gress of the business. Undeserved promotion is a common example of favored
  progress\, which in turn negatively affects the career progression and de
 velopment of those employees who deserve a promotion purely because of exc
 eptional performance and sheer hard work.\n\nCorruption in the workplace h
 as become a hindrance to the quality and efficiency of service delivery by
  organizations. In short\, corruption has a negative impact on the perform
 ance of employees and eventually the profit of the organization. Corruptio
 n at the senior levels of management of an organization has a direct impac
 t on the progress of the organization and results in huge losses.\n\nForge
 ry of signatures and stamps at this level becomes very easy because of the
  authority and responsibility that rests with people at these levels. Give
 n the major setbacks corruption can cause to a business\, it is very impor
 tant for organizations to have regular and defined systems\, processes and
  checks in place to minimize its effect.\n\nDigitization is a very critica
 l aspect that can help combat corruption as it reduces manual intervention
  and interfaces with sensitive data and information\, thus reducing the ch
 ances of critical data being tampered with. Further\, digital systems also
  offer additional security features that not only prevent corruption but a
 lso help organizations identify attempts made by employees to tamper with 
 critical information and systems.\n\nOutsourcing important functions of th
 e business to neutral parties who would have no benefits tied to the infor
 mation or function they handle could be another way to prevent corruption.
  Besides these\, regular audits and checks as well as strict and evident d
 isciplinary actions for such cases help set a good example and discourage 
 employees from indulging in fraudulent activities.\n\nThis Xcelerate train
 ing course (Corruption in the Workplace) will empower you with a clear and
  in-depth understanding of all aspects of corruption in the workplace. It 
 will prepare you for all possible instances and opportunities that could b
 ring you face-to-face with corrupt individuals and practices and will prov
 ide you with the necessary knowledge\, awareness and confidence to deal wi
 th such situations.\n\nFurther\, by undertaking this Corruption in the Wor
 kplace course\, you will not only be able to confidently and successfully 
 manage instances of corruption but will have the necessary information\, a
 wareness and capability to predict or foresee corruption and take necessar
 y steps to prevent it.\n\nThe knowledge gained through this Corruption in 
 the Workplace course will increase your skills and ability to partake in i
 mplementing certain activities and initiatives within your organization th
 at will help keep a close watch on employees to ensure that there are no c
 orrupt practices followed.\n\nThis Corruption in the Workplace course will
  also broaden your perspective to devise modern ways and systems and to im
 plement these in your organization\, thus helping you demonstrate your tal
 ent and potential to invite future opportunities for career growth and pro
 gression.\nCourse Objectives\nThe main objective of this course is to empo
 wer working professionals with—\n\n 	complete knowledge and information 
 related to corruption and corrupt practices in the workplace\n 	the necess
 ary awareness to predict corruption and put in place necessary steps to pr
 event the occurrence\n 	the required skill and confidence to play an impor
 tant role in implementing systems\, processes and other steps to keep a re
 gular check on business operations and employee behavior\n 	the required s
 kill and capabilities to devise modern means to combat corruption in the w
 orkplace\n 	the awareness to consciously or sub-consciously not indulge in
  corrupt practices during business operations\n 	additional skills\, knowl
 edge\, confidence and exposure to play critical roles in combating corrupt
 ion in the workplace\, thus demonstrating one’s abilities to undertake h
 igher roles and responsibilities fostering growth and development\n\n&nbsp
 \;\nTraining Methodology\nXcelerate Training Institute offers customizatio
 n of all its training courses as per the training audience. The trainer de
 livers expert opinion and relevant information through detailed and simple
 -yet-attractive presentations and lectures. The trainer is most welcome to
  questions raised by the audience and patiently resolves these in the cont
 ext of the information presented.\n\nTo foster two-way participation\, the
  trainer indulges the audience in group activities and competitions\, smal
 l group presentations\, debates\, speeches\, etc. Case studies and role-pl
 ays enrich the learning experience. The trainer also encourages experienti
 al learning by allowing trainees to share their real-life experiences and 
 the steps they undertook to deal with corruption.\n\nLike other Xcelerate 
 Training Institute courses\, this course too follows the Do–Review–Le
 arn–Apply Model.\nOrganizational Benefits\nWith professionals attending 
 this course\, their organizations will benefit in the following ways:\n\n 
 	Trained and experienced employees aware of corruption and means to deal w
 ith corruption in the workplace &amp\; to maintain a healthy workplace en
 vironment\n 	Reduced or no corruption as a result of alert and informed em
 ployees keeping a check on minutest details and processes\n 	Modern system
 s and processes as well as regular internal checks to prevent corruption\n
  	Reduced costs for fighting corruption because of employees including reg
 ular checks and audits as part of their daily routine\n 	Greater credibili
 ty for investors because of reduced risks of corruption\n 	Economic growth
  and growth in the organization’s talent pool as a result of all ethical
  practices and processes and rightful promotions being undertaken within t
 he organization\n 	Good employer branding and greater employee retention b
 ecause of lack of corrupt practices and credible and deserved opportunitie
 s to employees\n\nPersonal Benefits\nProfessionals undertaking this Corrup
 tion in the Workplace course will benefit in the following ways:\n\n 	Incr
 eased knowledge and understanding of corruption in your workplace\n 	Great
 er experience and confidence to efficiently handle instances of corruption
  within your organization\n 	Increased awareness\, exposure and talent to 
 predict instances of corruption and to devise preventive steps against it\
 n 	Increased knowledge and information to implement modern means of preve
 nting corruption in one’s organization\n 	Better career prospects as a r
 esult of rightful and deserved promotions based on performance and hard wo
 rk\n 	Faster economic growth and development of one’s organization as a 
 result of no corruption\n 	Increased skill and capabilities to undertake a
 dditional roles and responsibilities within one’s organization\, thus fo
 stering faster career growth and progression\n\nWho Should Attend?\n\n 	Se
 nior management\, board members and directors responsible for economic gro
 wth and development within the organization\n 	Investors and shareholders 
 who would be interested in knowing the credibility of a firm before invest
 ing in it\n 	Financial officers responsible for keeping a check on the fin
 ancial assets of an organization and advising the organization regarding i
 ts assets and spending\n 	Policymakers responsible for framing policies th
 at set standards of work practices as well as disciplinary policies in the
  event of corruption\n 	Mid-level managers and human resource professional
 s responsible for driving a culture of values and ethical practices\n 	All
  other working professionals who need to thoroughly understand corruption 
 and means to handle corruption\n\nCourse Outline\nThe course will cover th
 e following areas important for understanding and managing corruption:\nSc
 ales of Corruption\n\n 	Petty corruption\n 	Grand corruption\n 	Systemic c
 orruption\n\nSectors of Corruption\n\n 	Political corruption\n 	Police cor
 ruption\n 	Judicial corruption\n 	Corruption in educational institutions\n
  	Corruption within labor unions\n 	Corruption in religion\n 	Corruption i
 n philosophy\n 	Corporate corruption\n\nDifferent Types of Corruption in t
 he Workplace\n\n 	Manager to manager corruption\n 	Manager to supplier cor
 ruption\n 	Mid-level manager to junior staff corruption\n 	Junior staff to
  junior staff corruption\n 	Junior staff to subordinate corruption\n\nMeth
 ods of Corruption\n\n 	Payoffs and bribes\n 	Grafts and embezzlement\n 	Bl
 ackmail and extortion\n 	Favoritism/nepotism\n 	Influence peddling\n 	Netw
 orking\n 	Abuse of discretion\n\nForms/Types of Bribery\n\n 	Bribery and k
 ickbacks\n 	Bribery to a public official\n 	Bribery to a foreign official\
 n 	Bribery to a witness\n 	Banking bribes\n 	Sporting bribes\n\nWays to De
 al with Bribery\n\n 	Assess the situation\n 	Maintain presence of mind\n 	
 Notify supervisor immediately\n 	Do not promise\n 	Make necessary document
 ation\n 	Monitor third-party agents\n\nCauses of Corruption\n\n 	Personal 
 greed\n 	Lack of ethical sensitivity\n 	Low awareness\n 	Lack of ethical c
 ultural environment\n 	Lack of courage and transparency\n 	Inefficient con
 trols\n 	Slow judicial processes\n 	Ignoring corruption charges\n 	High ma
 rket and political monopolization\n 	High levels of bureaucracy\n 	Low lev
 els of democracy\n\nEffect of Corruption on Business\n\n 	Inefficiency\n 	
 Loss of resources\n 	Weakened development (lesser investments)\n 	Increase
 d crimes\n 	Financial losses\n 	Damaged business image\n\nWays to Stop Cor
 ruption\n\n 	Clear protocols\n 	Open communication\n 	Oversight for financ
 ial transactions\n 	Review systems\n 	Robust ethics/governance\n 	Stringen
 t action\n\n&nbsp\;
ATTACH;FMTTYPE=image/jpeg:https://x8ti.com/wp-content/uploads/2024/09/Scre
 enshot_20240917-142949_Chrome.jpg
CATEGORIES:Audit, Compliance and Governance
LOCATION:http://Online
END:VEVENT
BEGIN:VTIMEZONE
TZID:Asia/Riyadh
X-LIC-LOCATION:Asia/Riyadh
BEGIN:STANDARD
DTSTART:20251207T090000
TZOFFSETFROM:+0300
TZOFFSETTO:+0300
TZNAME:+03
END:STANDARD
END:VTIMEZONE
END:VCALENDAR