BEGIN:VCALENDAR
VERSION:2.0
PRODID:-//wp-events-plugin.com//7.2.3.1//EN
BEGIN:VEVENT
UID:1614@x8ti.com
DTSTART;TZID=Europe/Istanbul:20261123T090000
DTEND;TZID=Europe/Istanbul:20261204T130000
DTSTAMP:20260208T142203Z
URL:https://x8ti.com/event/advanced-energy-finance-training-course-3/
SUMMARY:Advanced Energy Finance Training Course
DESCRIPTION:Introduction \nEnergy Finance encompasses the study of finance
  related to the production\, supply\, and consumption of energy within soc
 ieties. It involves analyzing energy resources\, their production costs\, 
 commodities\, and availability for future planning. Energy finance aims to
  develop policies that ensure the cost-effective\, sustainable\, and relia
 ble supply of energy.\nLearning Objectives\nThe Energy Finance training pr
 ogram aims to equip professionals with:\n\n 	Knowledge of processes and sy
 stems for energy conversion and distribution.\n 	Understanding of the econ
 omic rationale behind energy exploration\, development\, capital budgeting
 \, option pricing\, and risk management.\n 	Insight into the relationship 
 between energy and environmental problems.\n 	Awareness of various energy 
 resources\, their advantages\, and disadvantages\, and their roles in mode
 rn society.\n 	Comprehension of the interrelationships between energy use\
 , industrial progress\, and environmental issues.\n 	Fundamentals of micro
 economic principles in energy finance.\n 	Techniques for valuing forwards\
 , futures\, swaps\, and vanilla options (calls and puts).\n 	Understanding
  of risk management in the context of energy.\n 	Skills and experience to 
 train others in best practices of energy finance.\n 	Exposure to addressin
 g aspects of climate change and energy policy.\n 	Capabilities to manage e
 nergy finance effectively and identify career growth opportunities.\n\nTra
 ining Methodology\nXcelerate Training Institute offers customized training
  based on the background of the participants. The course content is review
 ed and updated before each session. Training is delivered by experienced p
 rofessionals using live audio-visual presentations and encourages two-way 
 interaction through group activities and projects. The unique Do–Review
 –Learn–Apply Model ensures maximum engagement and learning.\nBenefits 
 for Your Organization\nOrganizations will benefit from:\n\n 	Better manage
 ment of energy finance.\n 	Understanding new opportunities for financing e
 nergy projects.\n 	Detailed assessment and mitigation of risks by experts.
 \n 	Improved prediction and assessment of energy demand to increase profit
 s.\n 	Higher client satisfaction due to balanced energy supply and demand\
 , preventing delays.\n 	Application of advanced concepts and models to enh
 ance productivity.\n 	Regular training on best practices and advancements 
 in energy finance.\n\nBenefits for You\nParticipants will gain:\n\n 	Under
 standing of all critical aspects of energy finance.\n 	Improved analytical
  skills to assess energy demand and supply.\n 	Confidence and skills to tr
 ain others in best practices.\n 	Knowledge of modern techniques in energy 
 finance\, enabling higher responsibilities.\n 	Strategic skills to work wi
 th different systems and manage energy finance.\n 	Ability to predict and 
 mitigate risks.\n 	Skills to drive energy supply\, consumption\, and distr
 ibution.\n 	Pride in contributing to organizational growth through effecti
 ve energy finance management.\n\nTarget Audience\nThis course is ideal for
 :\n\n 	Executives and managers responsible for energy finance management.\
 n 	Policymakers creating organizational energy policies.\n 	Senior manager
 s and directors needing detailed understanding of energy finance.\n 	Finan
 cial analysts and officers involved in energy finance.\n 	Strategists and 
 analysts performing detailed energy demand and supply analyses.\n 	Employe
 rs interested in global energy finance.\n\nCourse Outline\nEnergy and Its 
 Types\n\n 	Basics of energy and renewable energy project finance\n 	Power\
 , coal\, oil\, and gas\n 	Nuclear power\n 	Biofuel production\n 	Technolog
 ical and physical constraints of energy\n 	Project finance in specific ene
 rgy sectors\n 	Transmission lines\n\nEnergy as Trade\n\n 	Energy infrastru
 cture financing\n 	Contracts specific to energy\n 	Trading of energy and c
 ommodity markets\n 	Financial and physical carbon markets\n\nSustainable C
 limatic Goals and Energy\n\n 	Current climate change issues\n 	Development
  of green technologies in energy\n 	Climatic goals and policies\n 	Strateg
 ies for green technology development\n\nStrategies in Energy\n\n 	Strategi
 es in the energy sector\n 	Energy in the corporate sector\n 	Energy-sensit
 ive industries\n\nEnergy Financing\n\n 	Principles of non-recourse finance
 \n 	Market of project finance\n 	Differences between energy project financ
 e and other project financing\n 	Principles of project finance\n\nEnergy P
 rojects Financing\n\n 	Energy products and projects\n 	Commodities and mar
 kets\n 	Project finance for power generation\, LNG terminals\, transmissio
 n lines\, pipelines\, refineries\, and oil &amp\; gas exploration\n\nBusin
 ess with Energy\n\n 	Business models in the energy sector\n 	Revenue model
 s: production profiles\, contract types\, off-take agreements\n 	Pricing: 
 auctions\, markets\, fixed\n 	Operational costs: fixed\, variable\, workin
 g capital\n\nProject Funding and Resources\n\n 	Sources and instruments of
  finance\n 	Funding lifecycle of a project\n 	Classes of funding\n 	Fundam
 entals of financing instruments\n 	Islamic financing structures\n 	Repayme
 nt methods\, interest calculations\, credit ratios\n\nCash Flow Management
  and Investment\n\n 	Cash flow model\n 	Project analysis and structuring\n
  	Sensitivity and scenario analysis\n 	Debt sizing\n 	Credit and investmen
 t decisions\n 	Refinancing debt\, secondary equity sale\n\nRisk Assessment
  and Liquidity\n\n 	Risk assessment and strategy\n 	Identifying risks: cre
 dit\, market interest\, liquidity\, supply\, currency\, political issues\n
  	Structures to allocate\, finance\, or mitigate risk\n 	Impact on financi
 al model\n\nContracts of Energy Projects\n\n 	Contractual and legal framew
 ork of energy projects\n 	Critical contracts: loan agreements\, project im
 plementation agreements\n 	Energy project contracts\, O&amp\;M contracts\,
  power purchase agreements\, corporate documentation\, land agreements\, b
 ond documentation\n 	Bankruptcy of debt or equity providers\n 	Insurance\n
  	Anti-corruption and anti-money laundering\n
ATTACH;FMTTYPE=image/jpeg:https://x8ti.com/wp-content/uploads/2025/01/96a0
 ddf1-b15e-4cf9-b82c-07911d7a5b22.jpg
CATEGORIES:Accounting &amp; Finance
LOCATION:Istanbul Training Courses\, Four Seasons Hotel Istanbul At The Bos
 phorus\, Istanbul\, Turkey\, Turkey
X-APPLE-STRUCTURED-LOCATION;VALUE=URI;X-ADDRESS=Four Seasons Hotel Istanbul
  At The Bosphorus\, Istanbul\, Turkey\, Turkey;X-APPLE-RADIUS=100;X-TITLE=
 Istanbul Training Courses:geo:0,0
END:VEVENT
BEGIN:VTIMEZONE
TZID:Europe/Istanbul
X-LIC-LOCATION:Europe/Istanbul
BEGIN:STANDARD
DTSTART:20251123T090000
TZOFFSETFROM:+0300
TZOFFSETTO:+0300
TZNAME:+03
END:STANDARD
END:VTIMEZONE
END:VCALENDAR