BEGIN:VCALENDAR
VERSION:2.0
PRODID:-//wp-events-plugin.com//7.2.3.1//EN
BEGIN:VEVENT
UID:46@x8ti.com
DTSTART;TZID=Africa/Cairo:20261109T090000
DTEND;TZID=Africa/Cairo:20261113T100000
DTSTAMP:20260212T194405Z
URL:https://x8ti.com/event/advanced-business-writing-skills-training-semin
 ar/
SUMMARY:Advanced Business Writing Skills
DESCRIPTION:Course Overview\nPresentation matters a great deal in today’s
  business world. There was a time when the actual business was the crux of
  a customer’s interest. However\, in the age of competitive executive pr
 esence and virtual realities\, every brand needs to showcase phenomenal ta
 lent in the area of its presentation.\n\nBe it a government\, private or p
 ublic enterprise\, written communication has gained precedence like never 
 before. At ‘Xcelerate’\, we take a keen interest in developing the inn
 ate writing skills of our participants by providing close guidance and sho
 wing them how they can apply master techniques to build expertise in Busin
 ess Writing.\n\nThe Advanced class on this subject will take our delegates
  a step ahead on their ability to communicate on behalf of their organizat
 ion in a distinguished manner. Our research and work over the years have h
 elped us create a database of the most appreciated norms in business writi
 ng\, which will enable our participants to keep up to the high standards o
 f succinct.\n\nIt has been globally observed that candidates who can expre
 ss fluency in writing through a wide vocabulary stand a higher chance of a
  promotion\, winning a new project and taking a business to greater height
 s.\n\nThrough the course on Business writing\, we not only endeavour to he
 lp you achieve a distinction in this skill\, but also seek to nurture disc
 ipline in your life – one that lets you alter your behaviour to practice
  the right habits. This way\, participants acquire real growth in their sk
 ills at a deeper level and not just theoretical knowledge.\n\nThis Xcelera
 te training course will empower you to become an expert in business writin
 g. Through this course\, you will be able to apply the skill of presenting
  your message in a well-structured format through your writing in any busi
 ness communication.\n\nBy ensuring the application of all the elements in 
 professional business writing\, your message will be received exactly as i
 ntended. The information and practice gained through this course will also
  bridge the gap in your writing skills. You will resultantly be better pos
 itioned to contribute to your organisation in your communication with your
  stakeholders and your customer.\nCourse Objectives \nThe main objective o
 f this Advanced Business Writing Skills Training Course from Xcelerate Tra
 ining Institute is to empower professionals with—\n\n 	the ability to wr
 ite emails\, memos\, white paper\, press-releases and digital content for 
 their business in a structured manner\, in keeping with their organisation
 al brand values\n 	real-time feedback on their written communication\n 	th
 e ability to recognise language and formatting errors in their own writing
 \n 	capability to correct their own errors in writing and errors in any ot
 her potential publication material before publishing\n 	understanding of t
 he requisites of a good business document\n 	express ideas fluently throug
 h any written medium\n 	edit and perfect a draft before sending it out\n 	
 understand the potential of well-written content in the business world\n\n
 Training Methodology \nXcelerate Training Institute designs training cours
 es to cater to our training audience and their distinctive professional ba
 ckground and experience. Classroom sessions with presentations by a highly
  experienced facilitator form a major part of our training programmes. We 
 encourage trainee participation through group discussions\, role-plays\, g
 roup activities\, assessments and more.\n\nTrainees are also requested to 
 share their experiences\, issues\, concerns and best practices from their 
 respective organisations\, which are facilitated by the trainer to optimis
 e learning for the entire participant group.\n\nIn alignment with the Xcel
 erate Training Institute’ unique training methodology\, this course foll
 ows the Do–Review–Learn–Apply Model.\nOrganisational Benefits\nOrgan
 isations whose professionals undertake this Advanced Business Writing Skil
 ls Training Course will benefit in the following ways:\n\n 	Individuals be
 come better at written communication and their skills will reflect positiv
 ely for your business\n 	More calibration and streamlining in writing in k
 eeping with the brand values of your organization\n 	Greater credibility f
 or the individual and the organisation\n 	Increased respect for your organ
 ization in the market\n 	The decrease in confusion over instructions and a
 mbiguous written communication\n 	Market credibility increases because of 
 stakeholder recommendations\n 	Improved individual performance and sense o
 f esteem for the organization\n 	Better dispute management\n 	Lower attrit
 ion as individuals feel invested in\, listened to\, valued and motivated\n
 \nPersonal Benefits\nProfessionals attending this Advanced Business Writin
 g Skills Training Course will benefit in the following ways:\n\n 	A clear 
 understanding of the role of written skills\n 	Increased self-awareness of
  one’s ability to write good content\n 	Access to examples\, videos and 
 practice sessions exclusively owned and run by Xcelerate Training Institut
 e\n 	Ability to identify one’s area of opportunity to recognise and corr
 ect common writing errors\n 	Understanding the impact of not maintaining a
  global standard of excellence in written communication\n 	A sense of acco
 mplishment contributing to a steady application of this skill\n 	Overall i
 mprovement in individual performance\n 	The ability to role-model this ski
 ll in the organisation for subordinates to learn from and imitate\n\nWho S
 hould Attend?\n\n 	Secretaries of Presidents\, Vice-presidents and Senior 
 Management who may need to write communication for business every day\n 	M
 arketing and Sales managers deployed in content creation roles\n 	responsi
 ble for online content creation and editing\n 	Executives who write emails
  and other communication on a daily basis\n 	Trainers\, teaching staff\, e
 ducators and administrators responsible for interacting with students and 
 faculty\n 	Human Resource Managers\, Executives and Leaders responsible fo
 r employee engagment\, performance and organisational development\n 	Gover
 nment officials responsible for communication and administration in govern
 ment sectors\n 	Hospital staff\, support staff in volunteer camps and facu
 lty communicating with external stakeholders\n 	Any other professional who
  would like to improve their written communication at an advanced level\n\
 nCourse Outline\nThe Advanced Business Writing Skills Training Course will
  cover the following areas that are essential in understanding the importa
 nce of Business Writing Skills and increasing the participants’ ability 
 to practice this skill effectively.\nIntroduction to Business Writing\n\n 
 	Fluency of thoughts and ideas\n 	Associating similar and opposite ideas\n
  	Translate thoughts into words\n 	Practice Assignment (Pre-work)\n\nEleme
 nts of Business Writing\n\n 	Global Business Writing Formats\n 	Statement 
 of Purpose\n 	Indentation and Formatting\n 	Presentation\n 	Conciseness in
  Writing\n 	Practice Assignment &amp\; Feedback\n\nGrammar &amp\; Punctuat
 ion\n\n 	Common Grammatical Errors\n 	Archived English\n 	Redundant Phrase
 s\n 	Punctuation and Tone\n 	Clichés and how to avoid them\n 	Practice Ac
 tivities &amp\; Feedback\n\nPurposes of Business Correspondence\n\n 	Intro
 duction | Defining the Purpose\n 	Requesting\n 	Placing Orders / Consignme
 nts\n 	Letters of Acknowledgement\n 	Congratulatory / Expressing Gratitude
 \n 	Conveying Bad News\n\nEffective Business Writing\n\n 	Introduction to 
 the 5 C Principles\n 	Clarity and Conciseness\n 	Complete and Correct\n 	C
 ourtesy | Using a professional tone\n 	Self-Assessment\n\nTypes of Busines
 s Letters\n\n 	Business Letters\n 	Memorandums\n 	Business Emails\n 	Faxes
 \n 	Practice Exercises &amp\; Feedback\n\nWriting Templates\n\n 	Business 
 Letter Template\n 	Business Report Template\n 	Proposals and Executive Sum
 mary\n 	Minutes of the Meeting\n 	Worksheets and Practice\n\nAdvanced Busi
 ness Writing \n\n 	Rewrite a Poorly Written Message\n 	Respond to Written 
 Complaint\n 	The Golden Art of Writing a CV\n 	Drafting the Perfect Job Ad
 vertisement\n 	Cross-cultural Communication on Email/Chat\n 	Summary &amp\
 ; Feedback\n\n&nbsp\;
ATTACH;FMTTYPE=image/jpeg:https://x8ti.com/wp-content/uploads/2022/10/13-1
 .png
CATEGORIES:Communication &amp; Writing Skills
LOCATION:Cairo Training Courses\, Kempinski Nile Hotel Garden City Cairo\, 
 Cairo\, Egypt\, Egypt
X-APPLE-STRUCTURED-LOCATION;VALUE=URI;X-ADDRESS=Kempinski Nile Hotel Garden
  City Cairo\, Cairo\, Egypt\, Egypt;X-APPLE-RADIUS=100;X-TITLE=Cairo Train
 ing Courses:geo:0,0
END:VEVENT
BEGIN:VTIMEZONE
TZID:Africa/Cairo
X-LIC-LOCATION:Africa/Cairo
BEGIN:STANDARD
DTSTART:20251109T090000
TZOFFSETFROM:+0200
TZOFFSETTO:+0200
TZNAME:EET
END:STANDARD
END:VTIMEZONE
END:VCALENDAR