BEGIN:VCALENDAR
VERSION:2.0
PRODID:-//wp-events-plugin.com//7.2.3.1//EN
BEGIN:VEVENT
UID:1593@x8ti.com
DTSTART;TZID=Asia/Riyadh:20260720T090000
DTEND;TZID=Asia/Riyadh:20260724T130000
DTSTAMP:20260207T233308Z
URL:https://x8ti.com/event/accounting-assistant-training-course-2/
SUMMARY:Accounting Assistant Training Course
DESCRIPTION:Introduction\nThe role of an Accounting Assistant is rapidly ev
 olving due to advancements in technology. Traditional bookkeeping has shif
 ted towards digital accounting\, allowing accounting assistants to work vi
 rtually from anywhere and access global clients. This evolution has transf
 ormed accountants into business advisors who focus on strategy rather than
  just number-crunching.\nLearning Objectives\nBy the end of the Accounting
  Assistant Training Course\, participants will:\n\n 	Develop an understand
 ing of basic accounting concepts and principles under the Double-entry sys
 tem.\n 	Comprehend the significance of accounting.\n 	Apply qualitative ch
 aracteristics to prepare financial statements.\n 	Use the rules of Debit a
 nd Credit under traditional and accounting equation approaches.\n 	Practic
 e recording financial transactions and reporting them in financial stateme
 nts.\n\nTraining Methodology\nThis course includes:\n\n 	Classroom session
 s with presentations by experienced trainers\n 	Group discussions\n 	Probl
 em-solving exercises\n 	Group activities and projects\n 	Sharing experienc
 es and best practices from participants' organizations Xcelerate Training 
 Institute follows the ‘Do–Review–Learn–Apply’ model for effectiv
 e learning.\n\nBenefits for Your Organization\nOrganizations will benefit 
 from:\n\n 	Increased awareness of business finance principles and practice
 s.\n 	Improved collaboration and communication with finance and commercial
  functions.\n 	Faster month-end and year-end account closures\, reducing c
 osts.\n 	Effective use of the latest technologies for smooth transaction p
 rocessing.\n\nBenefits for You\nParticipants will gain:\n\n 	Enhanced comm
 unication and connection with finance and commercial colleagues.\n 	Better
  understanding of business and accounting cycles for smooth transaction pr
 ocessing.\n 	Skills to quickly close monthly and year-end accounts.\n 	Abi
 lity to prepare and present financial statements with ease.\n 	Use of adva
 nced technologies to reduce costs and time for the organization.\n\nTarget
  Audience\nThis course is suitable for:\n\n 	Accounting assistants\, admin
 istrative assistants\, junior accountants\, accounting trainees\, accounts
  clerks\, administrative secretaries working with accounts\, and support s
 taff. No prior accounting experience is required.\n\nCourse Outline\nTheor
 etical Framework\n\n 	Meaning and Scope of Accounting\n 	Accounting Concep
 ts\, Principles\, and Conventions\n 	Accounting Terminology – Glossary\n
  	Capital and Revenue Expenditure\, Capital and Revenue Receipts\, Conting
 ent Assets and Liabilities\n 	Accounting Policies\n\nBasic Accounting Proc
 ess\n\n 	Double Entry System\n 	Advantages of Double Entry System\n 	Rules
  of Debit and Credit\n 	Accounting Equation Approach\n 	Traditional Approa
 ch\n 	Modern Classification of Accounts\n 	Recording Transactions in Journ
 al\n\nRecording Transactions in Subsidiary Books\n\n 	Distinction Between 
 Subsidiary and Principal Books\n 	Purchases Book\n 	Sales Book\n 	Sales Re
 turns Book or Returns Inward Book\n 	Purchase Returns or Returns Outward B
 ook\n 	Cash Books\n 	Importance of Journal\n\nLedgers\n\n 	Introduction to
  Ledger\n 	Specimen of Ledger Accounts Posting\n 	Balancing an Account\n\n
 Closing the Accounts\n\n 	Bank Reconciliation Statement\n 	Recording Depre
 ciation for Fixed Assets\n 	Valuing Inventories\n 	Recording Outstanding E
 xpenses\n 	Recording Provision for Doubtful Debts\n\nPreparation of Trial 
 Balance\n\n 	Objectives of Preparing Trial Balance\n 	Limitations of Trial
  Balance\n 	Methods of Preparation of Trial Balance\n 	Adjusted Trial Bala
 nce (Through Suspense Account)\n 	Rules of Preparing Trial Balance\n\nPrep
 aration of Financial Statements\n\n 	Five Elements of Financial Statements
  (Equity\, Income\, Expense\, Assets\, Liabilities)\n 	Objective of Financ
 ial Statements\n 	Primary Financial Statements\n\n 	Statement of Financial
  Position or Balance Sheet\n 	Statement of Profit or Loss\n 	Statement of 
 Cash Flows\n 	Statement of Changes in Equity\n\n\n 	Notes to Financial Sta
 tements\n\nAccounting in Digital Environment\n\n 	Salient Features of Digi
 tal Accounting\n 	Codification and Grouping of Accounts\n 	Maintaining the
  Hierarchy of Ledgers\n 	Accounting Software\n 	Enterprise Resource Planni
 ng (ERP) Using Accounting Software\n
ATTACH;FMTTYPE=image/jpeg:https://x8ti.com/wp-content/uploads/2025/01/dd4a
 223d-6b9b-4614-b873-c99ad30c376a.jpg
CATEGORIES:Accounting &amp; Finance
LOCATION:http://online
END:VEVENT
BEGIN:VTIMEZONE
TZID:Asia/Riyadh
X-LIC-LOCATION:Asia/Riyadh
BEGIN:STANDARD
DTSTART:20250720T090000
TZOFFSETFROM:+0300
TZOFFSETTO:+0300
TZNAME:+03
END:STANDARD
END:VTIMEZONE
END:VCALENDAR