BEGIN:VCALENDAR
VERSION:2.0
PRODID:-//wp-events-plugin.com//7.2.3.1//EN
BEGIN:VEVENT
UID:93@x8ti.com
DTSTART;TZID=Europe/London:20261207T090000
DTEND;TZID=Europe/London:20261211T130000
DTSTAMP:20260209T203808Z
URL:https://x8ti.com/event/21848/
SUMMARY:Fraud Investigator
DESCRIPTION:Course Overview\nOne of the key aspects to ensure good quality 
 investigation in case of fraudulent or unethical practices is to be able t
 o interview witnesses effectively and appropriately and gather maximum evi
 dence in the purest form.\n\nOf the entire process\, gathering appropriate
  and important evidence is extremely crucial\, and for this\, effectively 
 Fraud Investigator Certification is the most important aspect and the bigg
 est challenge.\n\nVulnerable and intimidated witnesses include children\, 
 elderly and frail individuals\, individuals with physical and mental disab
 ilities\, individuals under pressure or threat\, etc. Thus\, investigative
  interviews for vulnerable and intimidated witnesses cannot be conducted i
 n the conventional form\, else the entire evidence gathering process suffe
 rs a setback.\n\nThis raises the need for trained professionals and specia
 l measures for such interviews. A courtroom setting can be a fearful and o
 verwhelming experience for many\, especially first-time witnesses. Many wi
 tnesses suffer extreme fear and stress during the investigation\, caused b
 y the questions\, the surrounding\, the people around and many other major
  factors.\n\nWhen witnesses are vulnerable or feel intimidated\, special m
 easures are undertaken to conduct the investigation to not hamper the accu
 racy and legitimacy of the information provided by the witnesses. These sp
 ecial measures are also undertaken to improve the experience of testimony 
 for the witnesses so that they can give their best evidence.\n\nSuch measu
 res include different modes of interviewing\, indirect and direct\, differ
 ent locations\, presence of support systems and individuals\, etc. Profess
 ionals conducting such interviews should be well trained and should have t
 he necessary focus to alter questions\, flow\, etc. as per the behavioral 
 responses of the witness.\n\n‘Special privileges are not granted to all 
 witnesses on request. There are stringent criteria to qualify for special 
 measures for the investigative interview. However\, in most cases\, if the
  criteria are fulfilled\, both prosecution and defense witnesses can avail
  these special privileges\, except the accused.\n\nThis Xcelerate training
  course will empower you with a thorough understanding and knowledge of ha
 ndling vulnerable and intimidated witnesses. It will provide you with the 
 necessary experience to successfully identify witnesses requiring special 
 measures of the interview.\n\nFurther\, through this Fraud Investigator Ce
 rtification course\, you will gain the necessary skill\, experience and ex
 posure to interview vulnerable and intimidated witnesses and alter your in
 terview flow and questions as per the need\, thus ensuring that the best e
 vidence is gathered in the process.\n\nThe course will also provide you wi
 th the required knowledge and skill to undertake investigative interviews 
 of vulnerable and intimidated witnesses under special circumstances and wi
 ll help you with some tips and best practices to make the witness comforta
 ble so that he/she can provide all possible information critical for passi
 ng an appropriate judgement in the trial.\n\nThis Fraud Investigator Certi
 fication training course will enhance your skills and capabilities and wil
 l help you to undertake more specialized roles as an interviewer or as par
 t of the interview process for vulnerable and intimidated witnesses.\nCour
 se Objectives\nThe main objective of this Fraud Investigator Certification
  course is to empower legal professionals with—\n\n 	a thorough understa
 nding and enriched experience of Fraud Investigator Certification\n 	the r
 equired experience and skill to identify vulnerable and intimidated witnes
 ses and adopt accurate measures early enough in the process to gather evid
 ence and information effectively\n 	the required focus to alter one’s in
 terview process and style as per the behavioral response of the witness du
 ring the investigative process\n 	adequate confidence and enhanced skill a
 nd capabilities to use special measures for investigative interviewing of 
 vulnerable and intimidated witnesses\n 	the needed experience to gain cred
 ibility and reliability as an interviewer and to win the trust of the witn
 ess so that he/she is comfortable in sharing information\, with no hesitat
 ion\n 	consciousness and presence of mind to not impose one’s opinion or
  thought on the vulnerable and intimidated witnesses\, allowing them to sh
 are their experience and the information they possess\n 	enhanced skill an
 d capabilities to undertake specialized roles of interviewing special peop
 le through special measures\, thus demonstrating credibility and potential
 \n\nTraining Methodology\nXcelerate Training Institute has a unique approa
 ch to each training session that it prepares to undertake. The training co
 urses are extensively customizable to ensure relatability and relevance to
  the professional background and experience of the training audience.\n\nB
 esides presentations and lectures delivered by the trainer\, group discuss
 ion and debates among trainees ensure trainee activity and participation i
 n the programmer. Role-plays and case studies help break the monotony of t
 heoretical training delivery. Experiential learning is encouraged through 
 relevant experiences related by trainees and discussed in detail by the tr
 ainer.\n\nOverall\, this course follows Xcelerate Training Institute very 
 successful Do–Review–Learn–Apply Model.\nOrganizational Benefits\nOr
 ganizations whose professionals undertake this Fraud Investigator Certific
 ation course will benefit in the following ways:\n\n 	Skilled professional
 s to conduct sensitive and important investigative interviews of vulnera
 ble and intimidated witnesses\n 	Successful and effective evidence gatheri
 ng from vulnerable and intimidated witnesses\n 	Skilled professionals to c
 onduct investigative interviews through special means\n 	Early identificat
 ion of vulnerable and intimidated witnesses through behavioral traits so t
 hat special measures are made available for the investigative process and 
 the evidence or information gathering process does not suffer\n 	More succ
 essful and accurate closures to criminal and unethical instances because o
 f effective evidence gathering\n 	Reduced influence of threats and corrupt
 ion during the investigation process\n 	Deserved justice to victims of une
 thical or criminal acts\n 	Improved brand credibility and reliability beca
 use of more successful closures of cases\n\nPersonal Benefits\nProfessiona
 ls undertaking this Fraud Investigator Certification course will benefit i
 n the following ways:\n\n 	More thorough understanding and knowledge about
  Fraud Investigator Certification\n 	Increased skill\, confidence and expo
 sure to identify vulnerable and intimidated witnesses through behavioral t
 raits and other means\n 	Increased skill to use special measures to interv
 iew vulnerable and intimidated witnesses\n 	Higher focus and confidence as
  well as experience to build credibility and trust with the witness to hel
 p derive maximum information related to the case in question\n 	Enhanced s
 kill and capability to alter one’s interview flow and style as per the r
 esponse of the witness before or during the investigative process\n 	Enric
 hed skillset to undertake specialized roles for interviewing special witne
 sses through special measures\, thus paving the way for one’s career gro
 wth and development\n 	A sense of pride and contentment to contribute to j
 ustice to victims and rightful prosecution of the accused\n\nWho Should At
 tend?\n\n 	Senior members of legal organizations who would need to ensure 
 that they and their employees are aware of how to deal with vulnerable and
  intimidated witnesses\n 	Legal advisors responsible for providing advice 
 to organizations regarding their legal processes and procedures\n 	Public 
 and private investigators and law enforcement agencies responsible for ide
 ntifying appropriate witnesses and gathering accurate and adequate evidenc
 e\n 	Police officials who also partake in the initial parts of the investi
 gative process\n 	Human resource professionals and other special committee
  members of organizations who take part and conduct investigative discussi
 ons and interviews for cases reported within organizations\n 	Forensic exp
 erts who conduct extensive examination of physical evidence and who need t
 o relate this to the information or evidence provided by witnesses\n 	Any 
 other professional who would like to know more about investigative intervi
 ews for vulnerable and intimidated witnesses\n\nCourse Outline\nThe Fraud
  Investigator Certification course will cover the following areas importan
 t to understand how to successfully interview vulnerable and intimidated w
 itnesses:\nFeatures of an Investigative Interview\n\n 	Non-accusatory\n 	F
 act seeking\n 	Conversational\n\nImportant Aspects of an Interview\n\n 	Qu
 ality\n 	Preparation\n 	Warnings and representation\n 	Rapport building\n 
 	Investigative questions\n 	Behavioral analysis and conclusion\n\nSkills o
 f a Successful Interviewer\n\n 	Communication and interviewing skills\n 	C
 ontrol over emotions\n 	Honesty and ethical conduct\n 	Knowledge of the la
 w\n 	Critical thinking/problem solving\n\nTypes of Vulnerable and/or Intim
 idated Witnesses\n\n 	Children\n 	Individuals with intellectual\, mental o
 r physical disabilities\n 	Alleged victims of sexual offence\n 	Individual
 s fearful of harassment/retribution\n 	Elderly or frail persons\n 	Individ
 uals subjected to violence\n\nSpecial Measures for Investigative Interview
 s\n\n 	Screens\n 	Live links\n 	Evidence in private\n 	Removal of wigs and
  gowns by barristers and judges\n 	Video-recorded interview\n 	Examination
  through an intermediary\n 	Aids to communication\n\nExamples of Witness I
 ntimidation\n\n 	Witness asked to testify in a certain way\n 	Witness offe
 red a bribe\n 	Witness threatened with physical violence or property damag
 e\n 	Witness threatened with harm to family members and loved ones\n 	Witn
 ess prevented from attending legal proceedings\n 	Witness asked to lie\n 	
 Witness asked to destroy evidence\n\nPhases of Interviewing Vulnerable or 
 Intimidated Witnesses\n\n 	Preparation for the interview (witness backgrou
 nd check\, deciding pace and flow of interview\, etc.)\n 	Establish good r
 apport\n 	Obtain free narrative\n 	Present right questions in the right or
 der\n 	Offer meaningful closure to the interview\n\nStages of Support for 
 Vulnerable and Intimidated Witnesses\n\n 	Interview support\n 	Pre-trial s
 upport\n 	Court witness support\n 	Post-trial support\n 	FREE Consultation
  and Coaching provided during and after the course.\n\n&nbsp\;
ATTACH;FMTTYPE=image/jpeg:https://x8ti.com/wp-content/uploads/2024/09/Scre
 enshot_20240901-155112_Chrome.jpg
CATEGORIES:Audit, Compliance and Governance
LOCATION:London Training Courses\, The Ritz London Hotel\, London\, UK\, Un
 ited Kingdom
X-APPLE-STRUCTURED-LOCATION;VALUE=URI;X-ADDRESS=The Ritz London Hotel\, Lon
 don\, UK\, United Kingdom;X-APPLE-RADIUS=100;X-TITLE=London Training Cours
 es:geo:0,0
END:VEVENT
BEGIN:VTIMEZONE
TZID:Europe/London
X-LIC-LOCATION:Europe/London
BEGIN:STANDARD
DTSTART:20261025T010000
TZOFFSETFROM:+0100
TZOFFSETTO:+0000
TZNAME:GMT
END:STANDARD
END:VTIMEZONE
END:VCALENDAR