BEGIN:VCALENDAR
VERSION:2.0
PRODID:-//wp-events-plugin.com//7.2.3.1//EN
BEGIN:VEVENT
UID:117@x8ti.com
DTSTART;TZID=Africa/Cairo:20260504T090000
DTEND;TZID=Africa/Cairo:20260508T130000
DTSTAMP:20260209T192126Z
URL:https://x8ti.com/event/10-day-intensive-training-on-agriculture-and-fo
 od-business-management-2/
SUMMARY:10 Day Intensive Training on Agriculture and Food Business Manageme
 nt
DESCRIPTION:Introduction\nWhat will I learn in this 10 Day Intensive Traini
 ng on Agriculture and Food Business Management?\nThis course by Xcelerate 
 Training Institute delves into the complex relationship between business\,
  food\, and agriculture. It examines the interconnected value chains withi
 n the agriculture and food industries\, which have significantly evolved w
 ith technological and scientific advancements. Participants will gain the 
 skills and knowledge needed for various roles in the food and fiber sector
 \, agricultural businesses\, financial institutions\, research establishme
 nts\, retail food companies\, and other related fields. The course covers 
 a wide range of topics including agribusiness structure\, input procuremen
 t\, value addition\, marketing\, financing\, agricultural extension\, and 
 entrepreneurship.\nWhat are the advantages of doing this course with Xcele
 rate Training Institute?\nXcelerate Training Institute offers an Internati
 onal Agribusiness MBA program based in a major agricultural hub. The cours
 e provides a comprehensive understanding of the supply chain from a techno
 logical\, developmental\, and responsible perspective. It emphasizes the i
 mportance of modern and innovative approaches to sustain and improve domes
 tic agricultural production.\n\nParticipants will develop strong managemen
 t skills encompassing finance\, supplier management\, accounting\, microfi
 nance\, and rural marketing. The agriculture and food industries offer div
 erse career paths\, including roles in technology\, commerce\, shipping\, 
 food and fiber technology\, and finance.\nLearning Objectives\nThe Agricul
 ture Management Program distinguishes itself from traditional MBA programs
  by focusing on agri-marketing\, agri-financing\, and agri-production. Key
  characteristics of the program include:\n\n 	Addressing long-term challen
 ges such as extended payback periods\, development cycles\, supply instabi
 lity\, food safety\, agricultural security\, and environmental impact.\n 	
 Covering the entire agribusiness ecosystem\, from agricultural productivit
 y to related industries like agrochemicals\, genetics\, equipment\, and tr
 ade.\n 	Acknowledging the long-term nature of agricultural planning and th
 e potential for significant market changes over time.\n\nTraining Methodol
 ogy\nThis curriculum emphasizes the creation and growth of new agricultura
 l ventures. It covers topics like aligning entrepreneurial goals with new 
 ventures\, business model development\, market assessment\, capital raisin
 g\, competitive advantage\, business planning\, franchising\, and growth m
 anagement. The courses promote academic integrity\, proper citation\, and 
 support for fellow students. This collaborative Mini MBA follows a “Do-R
 eview-Learn-Apply” model.\n\n \nBenefits for Your Organization\nBy part
 icipating in this course\, organizations can:\n\n 	Foster agri-entrepreneu
 rship to address industry challenges and improve farm profitability.\n 	Co
 nduct a thorough company assessment to identify strengths\, weaknesses\, a
 nd obstacles developments.\n 	Cultivate a culture of environmental respons
 ibility among employees.\n 	Develop long-term strategic thinkers and co-cr
 eators.\n 	Encourage healthy competition within the organization.\n 	Creat
 e a growth strategy for the company.\n\nBenefits for you \nGraduates of th
 is program can pursue various career paths. The industry experiences a sho
 rtage of skilled professionals in agriculture and food business management
 . Participants will develop financial and commercial decision-making abili
 ties. Graduates can find opportunities in both the private and public sect
 ors. The program provides a strong foundation in soil science\, plant grow
 th\, and sustainable agricultural practices. Graduates can contribute to a
 gricultural development and environmental conservation. The course offers 
 a comprehensive understanding of the food and fiber supply chain and relat
 ed business fundamentals.\nTarget Audience\nThis course is suitable for bo
 th aspiring and experienced professionals in the agriculture and food indu
 stry. Individuals seeking an MBA in Agriculture and those working in seed\
 , agrichemical\, and related companies are the primary target audience.\nC
 ourse Outline\nThe course is structured into ten modules covering various 
 aspects of agriculture and food business management:\nInfrastructure in Ag
 riculture:\n\n 	Focuses on food and agriculture production\n 	Input supply
 \n 	Financing\n 	Project management\n\nPlatforms for Financial Services:\n
 \n 	 Covers data selection\n 	Reporting\, human resource management\n 	In
 dividual attributes\n\nFundamentals of Business Law: \n\n 	Includes techno
 logy for managers\n 	Microeconomic theory\n 	Industry management\n 	Quanti
 tative techniques\n\nAdministration of Human Resources:\n\n 	 Covers info
 rmation technology application\n 	Group dynamics\n 	Governance\n 	Macroeco
 nomics\n 	Logistics management\n\nIndividual and Commercial Ethics:\n\n 	
  Addresses business ethics\n 	Community impact\n 	Research methods\n 	Cor
 porate finance\n 	Government processes\n 	Internet business\n\n Organizat
 ional Change:\n\n 	 Focuses on rural\n 	Economic and organizational conte
 xt\n 	Strategic planning\n 	Communication\n 	Agricultural policy\n\nFinanc
 ing for Agriculture:\n\n 	 Covers input and output management\n 	Food bus
 iness strategy\n 	Project planning\n 	Information assurance\n 	Internation
 al agri-food trade\n\nControl of the Value Chain:\n\n 	 Includes agribusi
 ness solutions\n 	Entrepreneurship\n 	Global farm and agribusiness\n 	Corp
 orate approaches\n\nMicrofinance Administration:\n\n 	 Covers food supply
  chain control\n 	Competitive development\n 	Carbon finance\n 	Government 
 policy\n\nBusiness in Agriculture:\n\n 	 Addresses agribusiness managemen
 t\n 	Future markets\n 	Agricultural value\n 	Food quality economics\n 	Tra
 de policy\n 	Power company management\n
ATTACH;FMTTYPE=image/jpeg:https://x8ti.com/wp-content/uploads/2024/09/agri
 .png
CATEGORIES:Agribusiness Sustainability
LOCATION:Cairo Training Courses\, Kempinski Nile Hotel Garden City Cairo\, 
 Cairo\, Egypt\, Egypt
X-APPLE-STRUCTURED-LOCATION;VALUE=URI;X-ADDRESS=Kempinski Nile Hotel Garden
  City Cairo\, Cairo\, Egypt\, Egypt;X-APPLE-RADIUS=100;X-TITLE=Cairo Train
 ing Courses:geo:0,0
END:VEVENT
BEGIN:VTIMEZONE
TZID:Africa/Cairo
X-LIC-LOCATION:Africa/Cairo
BEGIN:STANDARD
DTSTART:20250504T090000
TZOFFSETFROM:+0200
TZOFFSETTO:+0200
TZNAME:EET
END:STANDARD
END:VTIMEZONE
END:VCALENDAR