BEGIN:VCALENDAR
VERSION:2.0
PRODID:-//wp-events-plugin.com//7.2.3.1//EN
BEGIN:VEVENT
UID:1752@x8ti.com
DTSTART;TZID=Asia/Riyadh:20260810T090000
DTEND;TZID=Asia/Riyadh:20260814T130000
DTSTAMP:20260209T022631Z
URL:https://x8ti.com/event/understanding-finance-for-strategic-decision-ma
 king-training-course-2/
SUMMARY:Understanding Finance for Strategic Decision Making Training Course
DESCRIPTION:Introduction \nFinancial decision-making is crucial for all bu
 sinesses to sustain and grow. Every aspect of business operations\, from s
 etting up an enterprise to daily activities like purchasing inventories\, 
 hiring employees\, and marketing\, hinges on finance. A proper understandi
 ng and strategic management of finance distinguish successful businesses f
 rom unsuccessful ones. This course emphasizes the importance of understand
 ing finance for effective strategic decision-making.\nLearning Objectives\
 nUpon completing the Understanding Finance for Strategic Decision-Making c
 ourse\, participants will:\n\n 	Apply fundamental principles of finance to
  business strategy and policymaking.\n 	Appreciate the correlation between
  finance and strategy.\n 	Understand how strategic decision-making can max
 imize shareholder wealth and create value.\n 	Comprehend various finance f
 unctions and their impact on the firm's well-being.\n 	Value assets and ma
 nage financial risk effectively.\n 	Understand key concepts related to wor
 king capital management\, evaluation techniques\, financial analysis\, and
  the time value of money.\n\nTraining Methodology\nThis collaborative trai
 ning program includes:\n\n 	Interactive lecture sessions\n 	Problem-solvin
 g sessions\n 	Presentations\n 	Case studies\n 	Financial modelling\n 	Grou
 p discussions\n 	Management games Xcelerate Training Institute employs the
  ‘Do-Review-Learn-Apply’ model for effective learning.\n\nBenefits for
  Your Organization\nOrganizations will benefit from:\n\n 	Implementing eff
 ective capital budgeting techniques for prudent investment decisions.\n 	E
 valuating various sources of finance using techniques like EBIT-EPS analys
 is.\n 	Understanding the cost of capital in relation to the firm's objecti
 ves.\n 	Gaining insight into the time value of money and its impact on fin
 ancial results.\n 	Designing an optimal capital structure mix.\n 	Identify
 ing and mitigating financial risks.\n 	Setting financial goals that align 
 with organizational objectives.\n\nBenefits for You\nParticipants will gai
 n:\n\n 	Knowledge of various financial concepts and terminologies.\n 	Expa
 nded expertise in finance.\n 	Enhanced job opportunities in the field of f
 inance.\n 	A foundation for further job-related training.\n 	Improved lear
 ning and decision-making abilities.\n\nTarget Audience\nThis course is ide
 al for:\n\n 	Budding entrepreneurs and start-up founders\n 	Financial mana
 gers and credit managers\n 	General managers\, corporate managers\, and op
 erations managers\n 	Business policymakers\n 	Departmental heads\, manager
 s\, and executives\n 	Financial analysts\n 	Investors\n\nCourse Outline\nI
 ntroduction to Basics of Finance and Its Relation to Strategy\n\n 	Financi
 al Management\n 	Role of Finance and Finance Functions\n 	Role of Finance 
 Managers\n 	Agency Theory: Management vs. Shareholders\n 	Types of Financi
 al Strategies\n 	Working Capital Management\n\nConcept of Time Value of Mo
 ney\n\n 	Time Value of Money\n 	Future Value and Present Value\n 	Cash Flo
 ws and Annuity\n 	Discounting and Compounding\n\nRisk and Return: Trade-Of
 f\n\n 	Calculation of Risks Using Standard Deviation and Variance\n 	Beta 
 Estimation\n 	Systematic and Unsystematic Risk\n 	Asset Pricing Models: Ca
 pital Asset Pricing Model\n\nCapital Budgeting\n\n 	Investment Decisions\n
  	Investment Evaluation Criteria\n 	Investment Decision-Making Techniques:
  NPV\, IRR\n 	Impact of Capital Budgeting on Strategy Formulation\n 	Risk 
 Analysis\n\nInvestment Strategy\n\n 	Capital Investments\n 	Investment Dec
 isions and Corporate Strategy\n 	Capital Rationing\n\nCapital Structure\n\
 n 	Capital Structure Theory\n 	Understanding Debt Trap\n 	Financial Levera
 ge\n 	EBIT-EPS Analysis\n 	Weighted Average Cost of Capital\n\nValue Maxim
 ization and Risk Management\n\n 	Corporate Restructuring\n 	Value Creation
 \n 	Corporate Strategy and Mergers &amp\; Acquisitions\n 	Leveraged Buy-Ou
 ts\n 	Risk Hedging\n 	Risk Management Strategy\n\nFinancial Planning and A
 nalysis\n\n 	Strategic Financial Planning\n 	Interrelating Financial Plann
 ing and Strategy\n 	Financial Statement Analysis: Ratio Analysis\n 	Compar
 ative Statement Analysis\n 	DuPont Analysis\n 	Case Study\n
CATEGORIES:Accounting &amp; Finance
LOCATION:http://online
END:VEVENT
BEGIN:VTIMEZONE
TZID:Asia/Riyadh
X-LIC-LOCATION:Asia/Riyadh
BEGIN:STANDARD
DTSTART:20250810T090000
TZOFFSETFROM:+0300
TZOFFSETTO:+0300
TZNAME:+03
END:STANDARD
END:VTIMEZONE
END:VCALENDAR