BEGIN:VCALENDAR
VERSION:2.0
PRODID:-//wp-events-plugin.com//7.2.3.1//EN
BEGIN:VEVENT
UID:2592@x8ti.com
DTSTART;TZID=Europe/Berlin:20270614T090000
DTEND;TZID=Europe/Berlin:20270618T130000
DTSTAMP:20250826T112811Z
URL:https://x8ti.com/event/telecom-radio-network-rn-l1-to-l3-6/
SUMMARY:Telecom Radio Network (RN) L1 to L3
DESCRIPTION:Introduction\nThis comprehensive course by Xcelerate Training I
 nstitute provides a deep dive into radio network fundamentals. It covers t
 he evolution of mobile networks\, radio frequency principles\, cellular co
 ncepts\, and network architecture. The course also explores key technologi
 es like GSM\, WCDMA\, LTE\, and Wi-Fi\, as well as their integration and i
 nteroperability.\nLearning Objectives\nUpon completion\, participants will
  gain a solid understanding of radio network fundamentals\, including netw
 ork architecture\, radio frequency principles\, and cellular concepts. The
 y will be able to analyze network performance\, identify optimization oppo
 rtunities\, and contribute to network planning and design.\nTraining Metho
 dology\nThe course combines theoretical knowledge with practical examples 
 to provide a comprehensive learning experience. Participants will engage i
 n interactive discussions\, case studies\, and hands-on activities to appl
 y their knowledge.\nBenefits for Your Organization\nOrganizations investin
 g in this course can expect improved network performance\, optimized resou
 rce utilization\, and enhanced network planning capabilities.\nBenefits fo
 r You\nIndividuals will develop a strong foundation in radio network engin
 eering\, expanding their career opportunities in the telecommunications in
 dustry.\nTarget Audience\nThis course is designed for engineers and techni
 cal professionals involved in the planning\, design\, and operation of rad
 io networks.\nCourse Outline\nIntroduction to Telecom Radio Networks\n\n 	
 \nBasics of Telecommunications\n\n 	Overview of telecommunications princip
 les\n 	Types of communication systems (wired vs. wireless)\n 	Key terminol
 ogy and concepts\n\n\n 	\nIntroduction to Radio Communications\n\n 	Basics
  of radio wave propagation\n 	Frequency bands and their applications\n 	Co
 mponents of a radio communication system\n\n\n 	\nRadio Network Architectu
 re\n\n 	Overview of radio network elements (Base Stations\, Repeaters)\n 	
 Understanding radio access technologies (GSM\, CDMA\, LTE\, etc.)\n 	Intro
 duction to network topologies\n\n\n 	\nBasic Radio Measurements\n\n 	Under
 standing key performance indicators (KPIs)\n 	Introduction to tools for me
 asuring radio signals (spectrum analyzers\, power meters)\n 	Basic trouble
 shooting techniques\n\n\n\nIntermediate Telecom Radio Networks\n\n 	\nAdva
 nced Radio Propagation\n\n 	Factors affecting radio wave propagation (terr
 ain\, buildings)\n 	Introduction to propagation models\n 	Real-world appli
 cations of propagation analysis\n\n\n 	\nNetwork Planning and Design\n\n 	
 Site survey methodologies\n 	RF planning tools and software\n 	Capacity pl
 anning and traffic modeling\n\n\n 	\nRadio Network Optimization\n\n 	Techn
 iques for optimizing radio networks\n 	KPI monitoring and analysis\n 	Hand
 s-on optimization exercises\n\n\n 	\nSecurity and Regulatory Consideration
 s\n\n 	Overview of telecommunications regulations\n 	Security challenges i
 n radio networks\n 	Best practices for compliance and security management\
 n\n\n\nAdvanced Telecom Radio Networks\n\n 	\nAdvanced Radio Technologies\
 n\n 	Deep dive into 5G technologies and beyond\n 	Understanding MIMO and b
 eamforming\n 	Emerging technologies (e.g.\, IoT\, NB-IoT)\n\n\n 	\nNetwork
  Management and Automation\n\n 	Introduction to network management systems
  (NMS)\n 	Automation in radio network management\n 	Use of AI and machine 
 learning in network optimization\n\n\n 	\nCase Studies and Real-World Appl
 ications\n\n 	Analysis of successful radio network implementations\n 	Chal
 lenges faced and solutions applied\n 	Group discussions on future trends\n
 \n\n 	\nCapstone Project\n\n 	Hands-on project to design\, simulate\, and 
 optimize a radio network\n 	Presentation of findings and solutions\n 	Peer
  reviews and feedback sessions\n\n\n\n&nbsp\;
ATTACH;FMTTYPE=image/jpeg:https://x8ti.com/wp-content/uploads/2024/12/IMG-
 20241019-WA0123.jpg
CATEGORIES:Telecommunication
LOCATION:Berlin Training Courses\, Hotel Adlon Kempinski Berlin\, Berlin\, 
 Germany\, Germany
X-APPLE-STRUCTURED-LOCATION;VALUE=URI;X-ADDRESS=Hotel Adlon Kempinski Berli
 n\, Berlin\, Germany\, Germany;X-APPLE-RADIUS=100;X-TITLE=Berlin Training 
 Courses:geo:0,0
END:VEVENT
BEGIN:VTIMEZONE
TZID:Europe/Berlin
X-LIC-LOCATION:Europe/Berlin
BEGIN:DAYLIGHT
DTSTART:20270328T030000
TZOFFSETFROM:+0100
TZOFFSETTO:+0200
TZNAME:CEST
END:DAYLIGHT
END:VTIMEZONE
END:VCALENDAR