BEGIN:VCALENDAR
VERSION:2.0
PRODID:-//wp-events-plugin.com//7.2.3.1//EN
BEGIN:VEVENT
UID:698@x8ti.com
DTSTART;TZID=Asia/Riyadh:20261116T090000
DTEND;TZID=Asia/Riyadh:20261120T130000
DTSTAMP:20260209T194935Z
URL:https://x8ti.com/event/sustainable-agriculture-and-farm-management-cou
 rse-5/
SUMMARY:Sustainable Agriculture and Farm Management Course
DESCRIPTION:Introduction\nThis course by Xcelerate Training Institute focus
 es on sustainable agriculture and farm management. It addresses the challe
 nges of modern farming practices\, which deplete resources and create uneq
 ual food distribution. Participants will learn about best management pract
 ices\, water quality\, and land and nutrient management. The course also c
 overs business strategies for starting or expanding agribusinesses.\nLearn
 ing Objectives\nUpon completion\, participants will be able to analyze bus
 iness performance\, develop business plans\, understand global agricultura
 l systems\, create marketing strategies\, explore sustainable agriculture 
 concepts\, optimize water use\, analyze plant roles in ecosystems\, assess
  ecosystem sustainability\, plan for sustainable transitions\, and identif
 y career opportunities.\nTraining Methodology\nThis practical\, results-or
 iented course uses adult learning principles. Participants will engage in 
 discussions\, role-playing\, and hands-on activities. The curriculum empha
 sizes key themes and provides opportunities for questions\, discussions\, 
 and action planning. Teaching methods include expert lectures\, case studi
 es\, and group discussions.\nBenefits for Your Organization\nOrganizations
  benefitting from this course can establish long-term goals\, develop sust
 ainability plans\, enhance organizational viability\, foster environmental
  awareness\, and encourage employee engagement.\nBenefits for you \nPartic
 ipants will gain knowledge of agricultural history\, ecosystem characteris
 tics\, and the comparison of different farming systems. They will understa
 nd the interplay of culture\, economics\, politics\, and science in agricu
 lture. Participants will also assess soil fertility\, water management\, p
 lant ecology\, ecosystem sustainability\, and transition strategies.\nTarg
 et Audience\nThis course is designed for agribusiness managers\, environme
 ntal stewards\, farm community representatives\, banking institutions\, fi
 nancial experts\, and organizations interested in sustainable agriculture.
 \nCourse Outline\nStrategy Formulation:\n\n 	Develop long-term agribusines
 s plans\n 	Farm-wide strategies\n 	Land management programs\n 	Training me
 thods\n 	Compare conventional farming practices\n\nEconomic Fundamentals:\
 n\n 	Create and implement business plans\n 	Consider farm business locatio
 n\n 	Manage expansion\n 	Make financial contributions\n\nProject Planning 
 and Management Resources:\n\n 	Focus on land management\n 	Business startu
 ps\n 	Management styles\n 	Promotion\n\nAgro-ecology and Environmental Con
 cepts:\n\n 	Explore agro-ecology\n 	Ecosystem characteristics\n 	Environme
 ntal principles\n 	Ecological planning\n 	Naturalistic gardening\n\nSustai
 nable Agriculture Fundamentals:\n\n 	Understand soil fertility\n 	Biodiver
 sity\n 	Pest management\n 	Resource reduction\n\nWater Resource Management
 :\n\n 	Prioritize natural resource conservation\n 	Ecosystem management\n 
 	Long-term ecosystem benefits\n\nAchieving Long-Term Sustainability:\n\n 	
 Analyze past agro ecological systems\n 	Adopt environmentally friendly pra
 ctices\n 	Enhance agricultural efficiency\n\nTraditional vs. Sustainable S
 ystems:\n\n 	Compare specific approaches\n 	Soil purity\n 	Biogeochemical 
 cycles\n\nImproving Soil Fertility:\n\n 	Implement water management\n 	Bio
 diversity enhancement\n 	Resource conservation strategies\n\nReduced Input
 :\n\n 	Focus on resource conservation\n 	Ecosystem management\n 	Animal hu
 sbandry\n\n&nbsp\;
ATTACH;FMTTYPE=image/jpeg:https://x8ti.com/wp-content/uploads/2024/09/What
 sApp-Image-2024-10-25-at-8.51.16-AM.jpeg
CATEGORIES:Agribusiness Sustainability
LOCATION:http://Online
END:VEVENT
BEGIN:VTIMEZONE
TZID:Asia/Riyadh
X-LIC-LOCATION:Asia/Riyadh
BEGIN:STANDARD
DTSTART:20251116T090000
TZOFFSETFROM:+0300
TZOFFSETTO:+0300
TZNAME:+03
END:STANDARD
END:VTIMEZONE
END:VCALENDAR