BEGIN:VCALENDAR
VERSION:2.0
PRODID:-//wp-events-plugin.com//7.2.3.1//EN
BEGIN:VEVENT
UID:2308@x8ti.com
DTSTART;TZID=Europe/Madrid:20260921T090000
DTEND;TZID=Europe/Madrid:20260925T130000
DTSTAMP:20260219T143415Z
URL:https://x8ti.com/event/risk-based-inspection-rbi-procedure-and-methodo
 logy-training-course-4/
SUMMARY:Risk Based Inspection (RBI) Procedure and Methodology Training Cour
 se
DESCRIPTION:Introduction\n\nWhat is RBI methodology?\n\nOil\, gas and chemi
 cal industries’ installations are increasingly becoming complex and larg
 e globally. They have great economic values. Stakeholders are globally int
 erdependent on their smooth functioning. Their health (integrity) must be 
 sustained using Risk Based Inspection (RBI) and Condition Monitoring (CM).
  If equipment and piping of these installations fail in operation\, they n
 ot only have production and economic loss but also serious incidents havin
 g adverse Health\, Safety and Environmental (HSE) consequences. Depending 
 upon stakes and risks involved\, the concerned industry must pay due atten
 tion to RBI and the associated procedures and methodology.\n\nHow are risk
 -based inspections implemented?\n\nRBI should be preceded by baseline (ini
 tial) inspection to record where equipment and piping originally stand wit
 h regards to their original condition (health). Subsequent RBI’s record 
 how their health conditions are maintaining or deteriorating and help the 
 engineers to plan the timely replacements to avert disastrous failures whi
 le in operation.\n\nThis Xcelerate Training Institute course will empower 
 attendees with comprehensive knowledge of the need and procedures for Cert
 ification in Risk Based Inspection (RBI): Procedure &amp\; Methodology.\n\
 n&nbsp\;\n\nLearning Objectives\n\n 	Learn fundamentals of Risk\n 	Compreh
 end Risk Assessment Matrix and Risk Based Inspection\n 	Underline RBI/Asse
 t Integrity Management as an important element of Process Safety Managemen
 t (PSM)\n 	Learn types\, procedures\, methodology and details of various i
 nspections\n 	Understand Inspection of Static equipment and piping\n 	Appr
 eciate Condition monitoring of rotating equipment\n 	Learn Non-Destructive
  Testing (NDT)\n 	Note relationship between inspection and Predictive/Prev
 entive Maintenance\n 	Comprehend the importance of inspection recommendati
 on Close-out\n 	Cascade lessons learnt from the inspection results into de
 sign documents\n 	Understand and address Insurance\, Legal and Statutory a
 spects of inspection\n 	Learn Management’s Maintenance Strategy and its 
 relationship with RBI\n\nTraining Methodology\n\n 	Lectures (Tutor-assiste
 d online and classroom as per prevailing situations/requirements)\n 	Semin
 ars &amp\; Presentations\n 	Group Discussions\n 	Assignments\n 	Case Studi
 es &amp\; Functional Exercises\n\nBenefits for Your Organization\n\n 	Mini
 mize adverse impact on business continuity by preventing the live failure 
 incidents through implementation of recommended actions from the inspectio
 ns.\n 	Reduce greatly the costs associated with failure incidents such as 
 insurance premiums\, compensation to employees\, legal fees and regulatory
 /statutory penalties\n 	The culture of RBI leaves a positive impact on cus
 tomers\, lenders\, insurance underwriters\, management system certificatio
 n agencies\, regulatory &amp\; statutory authorities\, industry and societ
 al spectrum at large.\n\nBenefits for You\n\n 	Development of confidence b
 y practicing techniques\, procedures and methods involving RBI\, and thus 
 proving to be a successful professional.\n 	Since interrelationship betwee
 n Inspection/Asset Integrity Management and HSE excellence is seen as an i
 mportant aspect in Process Safety Management (PSM)\, this course will help
  develop a very important aspect in their professional journey which will 
 eventually benefit whichever company they would work for.\n 	An individual
  develops an PSM attitude towards his professional\, personal\, family and
  social life with knowledge gained in this training course.\n\nTarget Audi
 ence\n\n 	Engineering/Technical Design professionals at all levels (traine
 es\, interns\, technicians\, officers\, managers and others)\n 	All steady
  state line-functions at all levels – trainees\, interns\, officers\, an
 d managers\n 	Senior managers in operation\, maintenance\, inspection\, en
 gineering\, and other line disciplines\n 	Middle Management and Senior Man
 agement (a smaller customized part of this course)\n 	Non-line functions s
 uch as office managers.\n\nCourse Outline\n\nFundamental of Risk and Risk 
 Assessment Matrix\n\n 	Concept of Risk\n 	Risk Assessment Matrix (RAM)\n 	
 Risk Based Inspection (RBI)\n 	Why Risk Based Inspection?\n 	RBI/Asset Int
 egrity Management | An element of Process Safety Management (PSM)\n 	How s
 mall failures turn into major disruptions and incidents!\n 	Group discussi
 ons and assessment\n\nTypes of Various Inspections and Reporting\n\n 	Base
  line (Initial) inspection\n 	Subsequent Risk Based Inspections\n 	Inspect
 ion Reporting procedure: Informal and formal/ Immediate and Routine\n 	Pre
 paration of Inspection Statistics\n 	Presentation to the Management Inform
 ation System (MIS)\n 	Internal and external Inspection Reports\n\nProcedur
 es\, Methodology and Details of Various Inspections-1\n\n 	Inspection of S
 tatic equipment and piping (Online/Live and offline/shutdown)\n 	API/ASME 
 Standards of inspection of pressure vessels\n 	API/ASME Standards of inspe
 ction of Piping\n 	Visual Inspections\n 	Non-Destructive Examinations: DPT
 \, MPT\, ECT\, MPT\, RT\, MFL\, Metallography\, AE etc.\n 	Pressure/Pneuma
 tic Testing\n\nProcedures\, Methodology and Details of Various Inspections
 -2\n\n 	Inspection of Rotating equipment\n 	Vibration Analysis\n 	Vibratio
 n probes and instruments\n 	Online Orbit Analysis\n 	Bearing Analysis\n\nM
 iscellaneous Inspections – Electrical \n\n 	Electrical equipment Inspec
 tion.\n 	Transformers\n 	Oil Analysis\n 	Zone compatibility.\n 	Explosion-
 proof testing\n 	Intrinsic safety\n 	Insulation Tests\n\nMiscellaneous Ins
 pections – Instrument and Control Equipment\n\n 	Visual Inspection of in
 strument and control equipment\n 	Functional Inspection of instrument and 
 control equipment\n 	Safety Instruments System Inspections. Probability of
  Failure on Demand. Proof tests\n 	Zone compatibility\n 	Intrinsic safety\
 n 	Insulation Tests\n\nMiscellaneous Inspections – Civil/Structural\n\n 
 	Inspection for structural integrity\n 	Aging\n 	Seismic compatibility\n 	
 Wind compatibility\n 	Temperature compatibility\n 	Corrosion Compatibility
 \n 	Fatigue Compatibility\n\nBest Inspection Practices\n\n 	Publication of
  Loss of Containment Incidents\n 	Inspection\, Testing &amp\; Maintenance 
 of Safety Critical Equipment e.g.\, F&amp\;G Detection System\, Active and
  Passive Fire Protection System\, Relieve Systems\, Safety instrumented Sy
 stems etc.\n 	Predictive and Preventive maintenance. Don’t wait for brea
 kdown.\n 	Management Review on actions\n 	Record results in analysis-enabl
 ed and data retrievable software\n 	Trend the deterioration. Where applica
 ble\, find remainder life\n 	Dispersion effect study. Consequence Analysis
 \n 	Plan repair or replacement\n\nIncidents from Live Equipment Failures\n
 \n 	Failure incidents having roots in poor design\n 	Failure incidents hav
 ing roots in poor inspection\, maintenance\, and operation practices\n 	Fa
 ilure analysis such as RCA\, FMEA\, Bowtie\, Taproot\, top-set etc\n 	Trai
 ning &amp\; Continuous Professional Development\n\nMiscellaneous\n\n 	Impo
 rtance of inspection recommendation Close-out\n 	Cascade lessons learnt fr
 om the inspection results into design documents\n 	Understand and address 
 Insurance\, Legal and Statutory aspects of inspection\n 	Review disastrous
  consequences from ignorance of RBI\n 	Management’s Maintenance Strategy
  and its relationship with RBI\n 	Management Commitment and Responsibility
 .\n 	Mutual Respect between Blue and White-collar functions\n\n&nbsp\;
ATTACH;FMTTYPE=image/jpeg:https://x8ti.com/wp-content/uploads/2025/03/Risk
 -Based-Inspection-RBI-Procedure-and-Methodology-Training.jpg
CATEGORIES:Mechanical Engineering
LOCATION:Barcelona Training Courses\, Le Méridien Barcelona Hotel\, Barcel
 ona\, Spain\, Spain
X-APPLE-STRUCTURED-LOCATION;VALUE=URI;X-ADDRESS=Le Méridien Barcelona Hote
 l\, Barcelona\, Spain\, Spain;X-APPLE-RADIUS=100;X-TITLE=Barcelona Trainin
 g Courses:geo:0,0
END:VEVENT
BEGIN:VTIMEZONE
TZID:Europe/Madrid
X-LIC-LOCATION:Europe/Madrid
BEGIN:DAYLIGHT
DTSTART:20260329T030000
TZOFFSETFROM:+0100
TZOFFSETTO:+0200
TZNAME:CEST
END:DAYLIGHT
END:VTIMEZONE
END:VCALENDAR