BEGIN:VCALENDAR
VERSION:2.0
PRODID:-//wp-events-plugin.com//7.2.3.1//EN
BEGIN:VEVENT
UID:408@x8ti.com
DTSTART;TZID=America/Toronto:20260803T090000
DTEND;TZID=America/Toronto:20260807T130000
DTSTAMP:20260214T191814Z
URL:https://x8ti.com/event/public-speaking-and-presentation-skills-4/
SUMMARY:Public Speaking and Presentation Skills
DESCRIPTION:Course Overview\n\nIt is indeed an art to be able to say someth
 ing in a way that it is heard and acted upon in a desirable manner by the 
 recipient. Be it on a political stage or in a board room meeting\, careers
  can flourish or end depending on the effectiveness of speeches.\n\nGreat 
 presentations are known to have successfully motivated the dullest of mind
 s and directed many-a-lost agenda to a focused goal. We at Xcelerate Train
 ing Institute believe\, that this is more of an art than a science because
  delivering a message requires a great amount of skill and intuition which
  then combines with the emotional intelligence of the speaker to activate 
 further skills like adding humor to build rapport\, asking the right kind 
 of questions\, constructing a sentence that works as a thought catalyst an
 d more.\n\nThis is why\, at ‘Xcelerate Training Institute’\, we take a
  keen interest in paving the way for excellence for our participants by pr
 oviding close guidance and showing them how they can apply master techniqu
 es to the skill of Public Speaking and Making Effective Presentations.\n\n
 This Advanced Course will assuredly take our delegates a step ahead in the
 ir ability to become impactful speakers. Our active work in this field\, o
 ver the years\, has helped us reach an in-depth understanding of the globa
 lly appraised personalities and techniques when it comes to delivering a m
 essage incredibly well! We guarantee that candidates who can speak fearles
 sly and with innate confidence are the first candidates for a promotion\, 
 a new project or an award.\n\nOur Public Speaking and Presentation Skills 
 Training Course will help you to not only achieve mastery of these skills 
 but will also nurture your ability to initiate and lead a conversation wit
 h people across cultures\, one that you can use in other areas of your lif
 e as well. This way\, you will acquire real growth in your core skills and
  not just theoretical knowledge.\n\nThis Xcelerate training course will em
 power you to sound\, feel and be confident on any stage at any given occas
 ion. Through this course\, you will be able to apply presentation skills d
 ynamically and learn how to make a positive and lasting impression.\n\nYou
  will learn techniques to help your readers draw factual and tangible conc
 lusions. By ensuring the application of these tips and methods\, your mess
 age will be received as intended\, leaving no room for misinterpretation.\
 n\nThe information and practice gained through this course will also bridg
 e the gap in your current skill and knowledge when it comes to making effe
 ctive presentations. You will resultant be better positioned to add value 
 to your business through your dealings with your stakeholders and your cus
 tomer.\n\nLearning Objectives \n\nThe main objective of this course is to 
 empower professionals with —\n\n 	the ability to speak confidently in fr
 ont of any audience on a business platform\n 	real-time feedback on their 
 overall presentation's skills (virtual as well as physical)\n 	the ability
  to recognize areas of personal development\n 	tips to use one’s own tal
 ents to build a unique selling feature for oneself\n 	capability to creati
 vely choose and use visual aids that suit the subject\n 	understanding of 
 the requisites of a great speech and a phenomenal presentation\n 	ability 
 to cater to one’s grooming\, self-image and body language\n 	prepare con
 tent delivery techniques keeping the audience in mind\n 	work on language 
 and words in advance and keep the content simple and relevant\n 	the abili
 ty to identify the effect of adding humor and asking questions to build en
 gagement\n 	to work on one’s fears and triggers\n 	to overcome stress by
  the effective use\n\nTraining Methodology \n\nXcelerate Training Institut
 e Solutions designs training courses to cater to our training audience and
  their distinctive professional background and experience. Classroom sessi
 ons with presentations by a highly experienced facilitator form a major pa
 rt of our training programs.\n\nWe encourage trainee participation through
  group discussions\, role-plays\, group activities\, assessments and more.
  Trainees are also requested to share their experiences\, issues\, concern
 s and best practices from their respective organizations\, which are facil
 itated by the trainer to optimize learning for the entire participant grou
 p.\n\nIn alignment with the Xcelerate Training Institute unique training m
 ethodology\, this course follows the Do–Review–Learn–Apply Model.\n\
 nBenefits For Your Organization\n\nOrganizations whose professionals under
 take this course will benefit in the following ways:\n\n 	As employees bec
 ome effective speakers\, their performance will reflect positively for you
 r business. They will become positive ambassadors for your brand.\n 	Rise 
 in their earning potential on behalf of your organization\n 	Greater credi
 bility for the individual and your organization\n 	Increased demand for bu
 siness with your organization in the market\n 	Accuracy in presentation de
 livery means no confusion over important business communication\n 	Market 
 credibility increase as a result of stakeholder recommendations\n 	Improve
 d individual performance and sense of esteem for the organization\n 	Lower
  attrition as individuals feels invested in\, listened to\, valued and mot
 ivated\n\nBenefits For You\n\nProfessionals attending this course will ben
 efit in the following ways:\n\n 	A whole new view of Public Speaking\n 	A 
 clear understanding of the approach to making Presentations purposeful and
  effective\n 	Increased self-awareness of one’s ability to communicate i
 n front of a large audience\n 	Access to examples\, videos and practice se
 ssions exclusively owned and run by Xcelerate Training Institute\n 	Abilit
 y to identify one’s area of opportunity to recognize and correct common 
 errors in speech\n 	The techniques to work on building self-confidence\n 	
 A sense of accomplishment and pursuit of excellence in similar endeavors\n
  	Overall improvement in an individual’s self-esteem and performance\n 	
 The ability to role-model this skill in the organization for subordinates 
 to learn from and imitate\n\nTarget Audience\n\n 	Assistant Managers\, Ind
 ividuals who need to address an audience\n 	Leaders of teams\, small busin
 esses\, large enterprises\n 	Self-employed trainers\, artists\, large-grou
 p facilitators\n 	Aspiring Motivational Speakers\, Vlogger\, Social Media 
 influence\n 	Journalists and Executives in News Agencies\n 	Administration
  executives responsible for making suggestions to the business\n 	Executiv
 es\n 	Trainers\, teaching staff\, educators and administrators responsible
  for communicating to large forums of people\n 	Human Resource Executives 
 responsible for employee induction\, town-halls etc.\n 	Government officia
 ls and officials involved in administration in government sectors\n 	Hospi
 tal staff and support staff in volunteer camps who need to make presentati
 ons\n 	Any other professional who would like to work on their public speak
 ing and presentation skills\n\nCourse Outline\n\nThe course will cover the
  following areas that are important in the skill of Public Speaking and Pr
 esentation Skills. It aims to increase the participants’ ability to prac
 tice these skills following globally commendable techniques taught exclusi
 vely at Xcelerate Training Institute.\n\nKnow Your Audience\n\n 	Importanc
 e of KYA Analysis\n 	How to Identify your Target Audience\n 	3 Types of Au
 diences\n 	The Iceberg Model\n 	Case-study and Group Discussion\n\nIntrodu
 ction to Public Speaking\n\n 	Principles of Public Speaking\n 	The Modern 
 Demand for Public Speaking\n 	Evolution of Public Speaking\n 	7 Elements o
 f Public Speaking\n 	Ethos\, Logos and Pathos\n 	Practice Assessment &amp\
 ; Assignment\n\nIntroduction to Presentation Skills\n\n 	The Importance of
  Presentation Skills\n 	Presentation Pr-work\n 	Creative Presentations\n 	
 Elements of a Good Presentation\n 	Summary\, Assessment &amp\; Feedback\n\
 nDelivering the Content – ‘The Message’\n\n 	The Impact of a Powerfu
 l Story line\n 	Designing Audience-Centrist Content\n 	Defining Personal F
 ears and Triggers\n 	Overcoming Fears\n 	Tips to Exhibit Confidence\n 	How
  to Stay in Control of your Content\n 	Practice and Real-time Feedback\n\n
 Managing Stress | Before &amp\; During Your Presentation\n\n 	Identify Str
 ess Cues\n 	Transform Stress to Confidence\n 	The Role of Preparation and 
 Planning\n 	Impact of Positive Self-Affirmations\n 	Conscious Competence M
 atrix Model\n 	Practice Assignments and Assessment\n\nRapport Building | C
 onnect with Your Audience\n\n 	Rapport Building in Public Speaking\n 	Why 
 Rapport Matters\n 	5 Simple Ways to Improve Rapport\n 	Rapport and Vulnera
 bility\n 	Examples of Rapport Building Techniques\n 	Practice and Real-tim
 e Feedback\n\nVisual Aids in Presentations\n\n 	Types of Visual Aids\n 	Us
 e and Practicality of Visual Aids\n 	Choosing a Visual Aid\n 	Preparing Vi
 sual Aids\n 	Keeping it Simple and Relevant\n 	Guidelines to Present Visua
 l Aids\n 	Maintaining a Balance\n 	Recap and Summary\n\nTone and Body Lang
 uage in Presentation \n\n 	First Impressions\n 	Creating an Impact through
  your Voice\n 	Aspects of Effective Speaking\n 	Constructing Meaningful Se
 ntences\n 	Employing Recommendable\n 	Application and Real-time Feedback\n
 \n&nbsp\;
ATTACH;FMTTYPE=image/jpeg:https://x8ti.com/wp-content/uploads/2024/09/What
 sApp-Image-2024-10-29-at-10.00.31-PM2.jpeg
CATEGORIES:Communication &amp; Writing Skills
LOCATION:Boston Training Courses\, Boston Harbor Hotel\, Boston\, USA\, Uni
 ted States
X-APPLE-STRUCTURED-LOCATION;VALUE=URI;X-ADDRESS=Boston Harbor Hotel\, Bosto
 n\, USA\, United States;X-APPLE-RADIUS=100;X-TITLE=Boston Training Courses
 :geo:0,0
END:VEVENT
BEGIN:VTIMEZONE
TZID:America/Toronto
X-LIC-LOCATION:America/Toronto
BEGIN:DAYLIGHT
DTSTART:20260308T030000
TZOFFSETFROM:-0500
TZOFFSETTO:-0400
TZNAME:EDT
END:DAYLIGHT
END:VTIMEZONE
END:VCALENDAR