BEGIN:VCALENDAR
VERSION:2.0
PRODID:-//wp-events-plugin.com//7.2.3.1//EN
BEGIN:VEVENT
UID:731@x8ti.com
DTSTART;TZID=Europe/Amsterdam:20260601T090000
DTEND;TZID=Europe/Amsterdam:20260605T130000
DTSTAMP:20260217T190300Z
URL:https://x8ti.com/event/public-relations-strategy-and-tactics-2/
SUMMARY:Public Relations Strategy and Tactics
DESCRIPTION:Introduction\nPublic relations (PR) involves shaping public per
 ception of an organization. A successful PR strategy is crucial for any bu
 siness. It offers numerous benefits\, including improved reputation\, cust
 omer attraction\, and increased online visibility. Both online and offline
  PR channels are used to reach the target audience. Effective PR requires 
 strong corporate communication and positive media relations. Building rela
 tionships with the community and organizing events also enhance an organiz
 ation's image. A well-crafted PR strategy encompasses various areas like m
 edia relations\, crisis management\, and event planning. Adapting to local
  trends is essential for organizations with multiple locations.\nLearning 
 Objectives\nThis by Xcelerate Training Institutes course aims to equip pro
 fessionals with a comprehensive understanding of PR and its strategic impo
 rtance. Participants will develop the skills to contribute to and lead PR 
 initiatives within their organizations. The course emphasizes the ability 
 to create and implement effective PR strategies\, demonstrating talent and
  potential for career advancement.\nTraining Methodology\nThe training com
 bines classroom instruction with interactive activities. Participants are 
 encouraged to share their experiences and engage in discussions. The cours
 e follows a practical approach\, emphasizing learning through doing.\nBene
 fits for Your Organization\nBy enrolling their employees in this course\, 
 organizations can expect improved PR management\, more effective strategie
 s\, enhanced brand reputation\, increased investment\, better customer sat
 isfaction\, business growth\, talent acquisition\, and improved search eng
 ine rankings.\nBenefits for you \nParticipants will gain a deeper understa
 nding of PR\, the ability to develop and implement PR strategies\, career 
 advancement opportunities\, and the satisfaction of contributing to organi
 zational success.\nTarget Audience\nThis course is suitable for top manage
 ment\, investors\, marketing and sales professionals\, human resources per
 sonnel\, content creators\, PR agency members\, and individuals interested
  in a PR career.\nCourse Outline\nPublic Relations Strategy and Tactics\nT
 his course delves into the core elements of Public Relations (PR) and its 
 crucial role in corporate strategy. It will explore various PR techniques\
 , their benefits\, and the steps involved in developing and executing succ
 essful PR campaigns.\nPR Disciplines\nThis section provides an overview of
  different PR specializations including:\n\n 	Media relations\n 	Community
  engagement\n 	Corporate social responsibility\n 	Government affairs\n 	Cr
 isis management\n 	Social media and advertising\n 	Employee communications
 \n 	Integrated marketing communication\n\nAdvantages of Effective PR\nThis
  section highlights the positive impact of strong PR such as:\n\n 	Attract
 ing investors and clients\n 	Building a talented workforce\n 	Enhancing re
 putation\n 	Improving online visibility\n\nBuilding a Successful PR Strate
 gy\nThis section outlines the key components of a comprehensive:\n\n 	PR s
 trategy\n 	Covering internal and external communication\n 	Media managemen
 t\n 	Community engagement\n 	Crisis preparedness\n 	Event planning\n\nProv
 en PR Tactics\nThis section explores effective PR approaches including:\n\
 n 	Media partnerships\n 	Influencer collaborations\n 	Market research\n 	T
 echnology utilization\n 	Online reputation management\n 	Social responsibi
 lity initiatives\n\nMastering Media Relations\nThis section focuses on str
 ategies for successful media relations such as:\n\n 	Setting clear objecti
 ves\n 	Generating newsworthy content\n 	Creating media materials\n 	Mainta
 ining strong media relationships\n\nDeveloping a Corporate Communications 
 Strategy\nThis section outlines the steps for creating an effective corpor
 ate communication plan including:\n\n 	Internal and external analysis\n 	I
 dentifying key issues\n 	Stakeholder engagement\n 	Priority setting\n 	Str
 ategy finalization\n\nAdapting PR to Local Context\nThis section emphasize
 s the importance of tailoring PR efforts to local audiences including:\n\n
  	Storytelling\n 	Visual communication\n 	Building local connections\n\nPR
  Challenges\nThis section discusses the challenges inherent in PR such as:
 \n\n 	Limited control over messaging\n 	Unpredictable outcomes\n 	Difficul
 ty in measuring results\n\n&nbsp\;\n\n&nbsp\;
ATTACH;FMTTYPE=image/jpeg:https://x8ti.com/wp-content/uploads/2024/10/What
 sApp-Image-2024-10-19-at-9.15.30-AM.jpeg
CATEGORIES:Public Relations
LOCATION:Amsterdam Training Courses\, Waldorf Astoria Amsterdam Hotel\, Ams
 terdam\, Netherlands\, Netherlands
X-APPLE-STRUCTURED-LOCATION;VALUE=URI;X-ADDRESS=Waldorf Astoria Amsterdam H
 otel\, Amsterdam\, Netherlands\, Netherlands;X-APPLE-RADIUS=100;X-TITLE=Am
 sterdam Training Courses:geo:0,0
END:VEVENT
BEGIN:VTIMEZONE
TZID:Europe/Amsterdam
X-LIC-LOCATION:Europe/Amsterdam
BEGIN:DAYLIGHT
DTSTART:20260329T030000
TZOFFSETFROM:+0100
TZOFFSETTO:+0200
TZNAME:CEST
END:DAYLIGHT
END:VTIMEZONE
END:VCALENDAR