BEGIN:VCALENDAR
VERSION:2.0
PRODID:-//wp-events-plugin.com//7.2.3.1//EN
BEGIN:VEVENT
UID:477@x8ti.com
DTSTART;TZID=Africa/Cairo:20260504T090000
DTEND;TZID=Africa/Cairo:20260508T130000
DTSTAMP:20260217T184057Z
URL:https://x8ti.com/event/public-relations-pr-campaign-plan-strategies-an
 d-evaluation/
SUMMARY:Public Relations (PR) Campaign Plan\, Strategies and Evaluation
DESCRIPTION:Introduction\nEffective communication with target audiences is 
 crucial for businesses of all sizes. Public relations (PR) campaigns are s
 trategic tools to achieve this. These campaigns involve carefully planned 
 actions to meet specific goals. Successful PR campaigns rely on well-defin
 ed strategies and tactics. Strategies outline objectives\, target audience
 s\, and key messages\, while tactics are the specific actions taken to imp
 lement the strategy. PR campaigns vary in scope and duration\, from long-t
 erm image building to short-term product launches.\n\nThorough planning is
  essential for maximizing campaign effectiveness\, minimizing risks\, and 
 ensuring alignment with organizational goals. While PR campaigns are vital
  for building and maintaining relationships with target audiences\, variou
 s factors can impact their success. Therefore\, careful planning and execu
 tion are crucial. This course will provide comprehensive knowledge\, skill
 s\, and experience in PR campaign planning and execution. Upon completion\
 , participants will be equipped to independently lead successful PR campai
 gns and contribute to organizational growth. The course offers valuable in
 sights applicable to various roles and organizations.\nLearning Objectives
 \nThis course by Xcelerate Training Institutes aims to equip professionals
  with:\n\n 	In-depth understanding of PR campaign planning and execution\n
  	Skills and confidence to independently plan and manage PR campaigns\n 	A
 bility to anticipate and address challenges before campaign launch\n 	Expe
 rtise in branding and reputation management\n 	Confidence in managing exte
 rnal factors influencing campaign outcomes\n 	Knowledge and skills to meas
 ure campaign effectiveness\n 	Comprehensive skill set to drive organizatio
 nal growth through successful PR campaigns\n\nTraining Methodology\nXceler
 ate Training Institutes offers flexible and customizable training programs
 . The course combines theoretical knowledge delivered through audiovisual 
 presentations with practical learning through group activities\, case stud
 ies\, and participant sharing. The training follows a Do-Review-Learn-Appl
 y model.\nBenefits for Your Organization\nOrganizations whose employees co
 mplete this course will experience:\n\n 	Improved ability to plan and exec
 ute PR campaigns\n 	Enhanced visibility\, branding\, and reputation manage
 ment\n 	Stronger customer relationships and crisis management\n 	Increased
  credibility through successful PR campaigns\n 	Organizational growth and 
 development\n 	Higher investment returns due to improved branding and visi
 bility\n 	Accurate measurement of campaign outcomes\n 	Reduced marketing a
 nd advertising costs\n 	Mitigated impact of external factors\n\nBenefits f
 or you \nCourse participants will benefit from:\n\n 	Comprehensive knowled
 ge and experience for career advancement\n 	Increased confidence to indepe
 ndently lead innovative campaigns\n 	Enhanced skills in measuring campaign
  performance\n 	Improved ability to anticipate and address challenges\n 	S
 tronger client relationships and organizational credibility\n 	Contributio
 n to organizational growth through effective PR campaigns\n\nTarget Audien
 ce\nThis course is designed for:\n\n 	Senior management seeking to underst
 and PR campaign essentials\n 	Public relations professionals responsible f
 or campaign planning and execution\n 	Marketing professionals involved in 
 press releases and related activities\n 	Human resource professionals cont
 ributing to organizational branding and reputation management\n 	Investors
  evaluating business prospects based on PR strategies\n 	Anyone interested
  in learning about PR campaign planning and execution\n\nCourse Outline\nT
 his course delves into the essential elements for planning and implementin
 g successful public relations campaigns.\nPublic Relations Campaign Fundam
 entals\nThis section explores the core components of a public relations ca
 mpaign:\n\n 	Defining clear objectives\n 	Crafting compelling messages\n 	
 Effectively targeting the intended audience\n\nStages of a Public Relation
 s Campaign\nThis section outlines the sequential phases involved:\n\n 	In 
 a public relations campaign\n 	Initial positioning to measuring outcomes\n
 \nBuilding Blocks of Public Relations Campaigns\nThis section focuses on t
 he key elements that form the foundation of a public relations campaign in
 cluding:\n\n 	Message development\n 	Audience identification\n 	Media stra
 tegies\n\nExternal Influences on Public Relations Campaigns\nThis section 
 analyzes the various external factors that can impact the success of a pub
 lic relations campaign such as:\n\n 	Environmental\n 	Political\n 	Economi
 c conditions\n\nPlanning and Executing Public Relations Campaigns\nThis se
 ction provides a step-by-step:\n\n 	Guide to planning and implementing\n 	
 Effective public relations campaigns\n 	Message prioritization to impact a
 ssessment\n\nThe Value of Public Relations Campaigns\nThis section highlig
 hts the benefits of public relations campaigns including:\n\n 	Increased v
 isibility\n 	Enhanced credibility\n 	Cost savings\n\nPublic Relations and 
 Management\nThis section examines the role of public relations in various 
 management functions such as:\n\n 	Relationship building\n 	Crisis managem
 ent\n 	Reputation management\n\nChallenges in Public Relations\nThis secti
 on discusses common challenges faced in public relations campaigns includi
 ng:\n\n 	Talent acquisition\n 	Objective definition\n 	Measuring return on
  investment\n\n&nbsp\;
ATTACH;FMTTYPE=image/jpeg:https://x8ti.com/wp-content/uploads/2024/10/What
 sApp-Image-2024-10-19-at-9.15.29-AM-1.jpeg
CATEGORIES:Public Relations
LOCATION:Cairo Training Courses\, Kempinski Nile Hotel Garden City Cairo\, 
 Cairo\, Egypt\, Egypt
X-APPLE-STRUCTURED-LOCATION;VALUE=URI;X-ADDRESS=Kempinski Nile Hotel Garden
  City Cairo\, Cairo\, Egypt\, Egypt;X-APPLE-RADIUS=100;X-TITLE=Cairo Train
 ing Courses:geo:0,0
END:VEVENT
BEGIN:VTIMEZONE
TZID:Africa/Cairo
X-LIC-LOCATION:Africa/Cairo
BEGIN:STANDARD
DTSTART:20250504T090000
TZOFFSETFROM:+0200
TZOFFSETTO:+0200
TZNAME:EET
END:STANDARD
END:VTIMEZONE
END:VCALENDAR