BEGIN:VCALENDAR
VERSION:2.0
PRODID:-//wp-events-plugin.com//7.2.3.1//EN
BEGIN:VEVENT
UID:719@x8ti.com
DTSTART;TZID=Europe/Madrid:20260608T090000
DTEND;TZID=Europe/Madrid:20260612T130000
DTSTAMP:20260217T190459Z
URL:https://x8ti.com/event/public-relations-pr-and-communication-course-2/
SUMMARY:Public Relations (PR) and Communication Course
DESCRIPTION:Introduction\nPublic relations is a strategic communication pro
 cess used by organizations to build positive relationships with the public
 . It involves planning and executing actions to shape public perception of
  an organization. Public relations can be seen as a marketing tool to enha
 nce brand awareness and customer relationships. A public relations special
 ist develops communication plans\, manages media relations\, and creates c
 ontent to maintain a positive brand image.\n\nMedia relations focuses on b
 uilding and maintaining relationships with the media to share information 
 and improve the organization's reputation. Due to the sensitive nature of 
 media relations\, specialized skills are required to manage information fl
 ow and protect the organization's image. This course provides comprehensiv
 e knowledge of public relations and media skills to enhance career opportu
 nities and contribute to organizational success.\nLearning Objectives\nThi
 s course by Xcelerate Training Institutes aims to equip professionals with
  in-depth knowledge of public relations and media skills. Participants wil
 l develop the ability to understand the impact of media on an organization
 's image\, effectively communicate with media professionals\, and manage m
 edia relations to protect the brand. The course also focuses on developing
  skills to create and disseminate compelling press releases and build stro
 ng relationships with media personnel.\nTraining Methodology\nXcelerate Tr
 aining Institutes employs a practical approach to training\, emphasizing h
 ands-on learning through group activities\, role-plays\, and case studies.
  The course follows a "Do-Review-Learn-Apply" model.\nBenefits for Your Or
 ganization\nOrganizations that invest in this course will benefit from imp
 roved media coverage\, enhanced brand reputation\, effective media managem
 ent\, increased customer satisfaction\, and stronger relationships with me
 dia professionals.\nBenefits for you \nParticipants will gain a comprehens
 ive understanding of public relations and media skills\, leading to career
  advancement opportunities. They will develop the ability to manage media 
 relations\, create positive brand images\, and build strong relationships 
 with media personnel.\nTarget Audience\nThis course is designed for senior
  management\, marketing professionals\, branding agency members\, human re
 source professionals\, investors\, stakeholders\, and anyone interested in
  public relations and media skills.\nCourse Outline\nPublic Relations and 
 Communication Course\nThis course provides a comprehensive overview of pub
 lic relations and media skills. It covers a range of essential topics\, fr
 om understanding public opinion and developing communication strategies to
  managing media relations and building organizational reputation.\nPublic 
 Relations Functions\nThis section explores the core responsibilities of pu
 blic relations professionals including:\n\n 	Anticipating public sentiment
 \n 	Crafting communication plans\n 	Managing media content\n 	Organizing p
 ublic events\n 	Developing crisis management strategies\n 	Maintaining onl
 ine presence\n 	Engaging with government agencies\n 	Handling investor rel
 ations\n 	Building relationships with external stakeholders\n\nPublic Rela
 tions Examples\nThis section provides practical examples of public relatio
 ns activities such as:\n\n 	Press conferences\n 	Community outreach progra
 ms\n 	Investor meetings\n 	Industry events\n 	Internal communication initi
 atives\n\nImportance of Public Relations\nThis section highlights the crit
 ical role of:\n\n 	Public relations in building and protecting organizatio
 nal image\n 	Identifying opportunities\n 	Enhancing brand value\n 	Fosteri
 ng strong community relationships\n\nAdvantages of Public Relations\nThis 
 section emphasizes the benefits of effective public relations including:\n
 \n 	Building goodwill and brand awareness\n 	Improving industry relationsh
 ips\n 	Cultivating media partnerships\n 	Strengthening investor relations\
 n 	Enhancing internal communication\n\nChallenges in Public Relations\nThi
 s section discusses the challenges faced by public relations professionals
  such as:\n\n 	Limited control over media coverage\n 	Unpredictable outcom
 es\n 	Difficulty in measuring results\n\nTypes of Media\nThis section intr
 oduces the different types of media including:\n\n 	Paid\n 	Earned\n 	Owne
 d\n 	Shared media\n\nNecessary Media Skills\nThis section outlines the ess
 ential skills required for successful media relations such as:\n\n 	Storyt
 elling\n 	Effective phone communication\n 	Social media proficiency\n 	Acc
 urate information sharing\n 	Professional demeanor\n\nResponsibilities of 
 a Media Relations Officer\nThis section defines the key roles and responsi
 bilities of a media relations officer including:\n\n 	Media content creati
 on\n 	Brand protection\n 	Media relationship building\n 	News management\n
  	Communication channel development\n 	Acting as a media spokesperson\n\n&
 nbsp\;
ATTACH;FMTTYPE=image/jpeg:https://x8ti.com/wp-content/uploads/2024/10/What
 sApp-Image-2024-10-19-at-9.15.29-AM-3.jpeg
CATEGORIES:Public Relations
LOCATION:Barcelona Training Courses\, Le Méridien Barcelona Hotel\, Barcel
 ona\, Spain\, Spain
X-APPLE-STRUCTURED-LOCATION;VALUE=URI;X-ADDRESS=Le Méridien Barcelona Hote
 l\, Barcelona\, Spain\, Spain;X-APPLE-RADIUS=100;X-TITLE=Barcelona Trainin
 g Courses:geo:0,0
END:VEVENT
BEGIN:VTIMEZONE
TZID:Europe/Madrid
X-LIC-LOCATION:Europe/Madrid
BEGIN:DAYLIGHT
DTSTART:20260329T030000
TZOFFSETFROM:+0100
TZOFFSETTO:+0200
TZNAME:CEST
END:DAYLIGHT
END:VTIMEZONE
END:VCALENDAR