BEGIN:VCALENDAR
VERSION:2.0
PRODID:-//wp-events-plugin.com//7.2.3.1//EN
BEGIN:VEVENT
UID:2290@x8ti.com
DTSTART;TZID=Europe/Madrid:20260914T090000
DTEND;TZID=Europe/Madrid:20260918T130000
DTSTAMP:20260219T142625Z
URL:https://x8ti.com/event/process-equipment-design-and-controls-for-opera
 tors-engineers-training-course-4/
SUMMARY:Process Equipment Design and Controls for Operators & Engineers Tra
 ining Course
DESCRIPTION:Introduction\n\nThe mechanical reliability of process equipment
  and piping systems can only be attained if they are designed by knowledge
 able engineers and utilized and maintained efficiently. How can organizati
 ons address the challenges of process design?\n\nWhat is process equipment
  design?\n\nThe most effective equipment is designed based on precise and 
 dependable predictions\, as well as proper monitoring and control mechanis
 ms. This Xcelerate training program will provide its participants with an 
 all-inclusive combination of fundamentals\, best practices. Delegates will
  realize real-world tools to enhance the capabilities and develop the perf
 ormance of design. Operation\, and maintenance technical professionals wil
 l bring value to their organizations and enhance safety and reliability of
  its plants.\n\n What are engineering control measures?\n\nThis course al
 so focuses on discussing mechanical engineering principles and other engin
 eering techniques including inspection\, monitoring\, and condition evalua
 tion\, which enable mechanical engineers to design and maintain the equipm
 ent required by process engineers.\n\nThis Xcelerate training course will 
 provide you with an introduction to the fundamentals of process engineerin
 g\, mechanical engineering\, and equipment and materials design.\n\nLearni
 ng Objectives\n\n 	Study the different aspects of process design that impa
 ct process safety\n 	Implement a fundamentally safer design for the operat
 ion of the entire process plant\n 	Assess the mechanical reliability of pr
 ocess equipment\n 	Recognize the hazards related to process fluids in term
 s of their impact on material degradation\n 	Abide by the code requirement
 s for sizing relief valves to handle relief streams\n 	Activate emergency 
 de-pressuring systems (EDP) in case of fire and gas explosions\n\nTraining
  Methodology\n\n 	Lectures\n 	Seminars &amp\; Presentations\n 	Group Discu
 ssions\n 	Assignments\n 	Case Studies &amp\; Functional Exercises\n\nBenef
 its for Your Organization\n\n 	Benefit from training your employees on the
  definition and importance of mechanical information\n 	Understand in deta
 il\, the Hydraulic System guidelines\n 	Learn and apply standards in equip
 ment identification\, equipment design features analysis and equipment per
 formance calculations\n 	Learn the nuances of safe operation and monitorin
 g of equipment\, and their maintenance\n 	Delegates will be able to apply 
 the gained knowledge through this course and practice skills and that will
  impact their respective companies\n 	Maintain better organizational safet
 y records\n\nBenefits for You\n\n 	Enhance your career opportunities acros
 s worldwide industries of oil and gas\, construction\, aeronautics\, autom
 obile\, etc.\n 	Secure a relevant job anywhere in the world with the right
  knowledge in Hydraulic Systems\n 	Get promoted in your current job in the
  Hydraulic System field\n 	Acquire the professional skills and knowledge r
 equired to accomplish your tasks with optimal competence and accuracy\n 	M
 aster the knowledge and techniques to see the future of an effective Hydra
 ulic System process\n 	Discover how to work well with your machines and th
 e risks of not being able to operate them accurately\n 	Contribute to your
  organization strategically with respect to equipment design and controls\
 n 	Get an opportunity to work through hands-on exercises in detail\n 	Will
  gain the skills needed to facilitate a Hydraulic System study\n 	Gain the
  skills to plan\, manage\, facilitate\, and scribe for a Hydraulic System 
 project\n\nTarget Audience\n\n 	Process engineers\n 	Project engineers and
  HSE professionals\n 	Petroleum engineers\n 	Maintenance &amp\; production
  engineers\n 	R&amp\;D chemists\n 	Plant chemists\n 	Technical professiona
 ls accountable for maintenance and repair of equipment\n 	Technical profes
 sionals working with risk assessment and integrity analysis\n 	Specialists
  involved in inspection and maintenance and repair\n\nCourse Outline\n\nFu
 ndamentals of Process Engineering\n\n 	Mass and energy balances\n 	Reactor
  types\n 	Process &amp\; Engineering Diagrams\n 	Flammability\n 	Electrica
 l area classification\n 	Risk Management and Hazard Studies\n\nOverview of
  Safety in Process Design\n\n 	Definition of Safety in Process Design\n 	T
 he Components of Process Safety\n 	Risk Identification and Safety Analysis
 \n 	Process Hazard Analysis: HAZOP\, LOPA\, FMEA\n 	Hazards Associated wit
 h Specific Plant Systems\n 	Elimination of Hazards through Process Design\
 n 	Obstruction of Human Error with Process Control and Monitoring Techniqu
 es\n\nInherently Safer Design\n\n 	Pre-Design and Design Phases\n 	What is
  inherently Safer Design?\n 	Materials of Construction and Optimized Fabri
 cation\n 	Process Fluids and Chemical Reaction Hazards\n 	Corrosion\, Eros
 ion\, and Material Degradation\n 	Leakage and Loss of Primary Containment\
 n 	Dispersion of Hydrocarbon Release\n 	Flammability of Chemicals\n\nCrude
  Oil Processing Equipment Design &amp\; Sizing\n\n 	Separator’s Technolo
 gy\n 	Operating Parameters and Operations Problems\n 	Elements of Calculat
 ion Standards\n 	Sizing A 2-Phase and 3-Phase Separator\n\nGas Processing 
 Equipment Design &amp\; Sizing\n\n 	Column’s Technology\n 	Selection Cri
 teria\n 	Operating Parameters\n 	Elements of Sizing\n 	Column Troubleshoot
 ing\n\nSafety of Process Equipment\n\n 	Hazard Associated with Process Equ
 ipment\n 	Safety Considerations in Reactor Design\n 	Design Procedure for 
 Safety of:\n\n 	Pressure Vessels\n 	Storage Tanks\n 	Reactors\n 	Heat Ex-c
 hangers\n\n\n 	Venting of Tanks and Vessels\n 	Standards and Best Practice
 s\n 	Piping System Design and Safety\n 	Design of Piping System Accessorie
 s\n 	Assessment of Material Degradation\n 	Monitoring\, Testing\, and Insp
 ection (NDT)\n\nDesign of Pressure Relief Systems\n\n 	Design of Safety Va
 lves\n 	Operation of Pressure Relief System\n 	Sizing of Pressure Relief S
 ystems Relief Loads\n 	Pressure Relief Valves vs. Rupture Discs\n 	Codes\,
  Standards and Best Practices\n 	Specifics of Pressure Relief Systems\n 	P
 rocess Plant Disposal Systems\n 	Disposal Hazards and Environmental Factor
 s\n\nProcess Monitoring and Control\n\n 	Safety Instrumented Systems\n 	Pr
 ocess Plant Monitoring and Control Systems\n 	Emergency De-Pressuring Syst
 ems (EDP)\n 	Prevention of Fire and Gas or Dust Explosions\n 	Safety Delib
 erations in Equipment Spacing and Plant Layout\n 	Supervision of Change an
 d Integrity Operation Window\n 	Plant Equipment Inspection and Maintenance
  Procedures\n\n&nbsp\;
ATTACH;FMTTYPE=image/jpeg:https://x8ti.com/wp-content/uploads/2025/03/Proc
 ess-Equipment-Design-and-Controls-for-Operators-Engineers.jpg
CATEGORIES:Mechanical Engineering
LOCATION:Barcelona Training Courses\, Le Méridien Barcelona Hotel\, Barcel
 ona\, Spain\, Spain
X-APPLE-STRUCTURED-LOCATION;VALUE=URI;X-ADDRESS=Le Méridien Barcelona Hote
 l\, Barcelona\, Spain\, Spain;X-APPLE-RADIUS=100;X-TITLE=Barcelona Trainin
 g Courses:geo:0,0
END:VEVENT
BEGIN:VTIMEZONE
TZID:Europe/Madrid
X-LIC-LOCATION:Europe/Madrid
BEGIN:DAYLIGHT
DTSTART:20260329T030000
TZOFFSETFROM:+0100
TZOFFSETTO:+0200
TZNAME:CEST
END:DAYLIGHT
END:VTIMEZONE
END:VCALENDAR