BEGIN:VCALENDAR
VERSION:2.0
PRODID:-//wp-events-plugin.com//7.2.3.1//EN
BEGIN:VEVENT
UID:2549@x8ti.com
DTSTART;TZID=Europe/Madrid:20260427T090000
DTEND;TZID=Europe/Madrid:20260501T130000
DTSTAMP:20260201T153558Z
URL:https://x8ti.com/event/presentation-skills-enhanced-by-ai-tools-traini
 ng-course-2/
SUMMARY:Presentation Skills Enhanced by AI Tools Training Course
DESCRIPTION:Introduction\nIn today’s fast-paced\, digital-first world\, e
 ffective communication is more crucial than ever. Presentation skills\, pa
 ired with innovative tools like AI-powered platforms (ChatGPT\, design too
 ls\, speech analytics)\, can take your ability to communicate ideas to new
  heights. This course from Xcelerate Training Institute is designed to pro
 vide professionals with the skills to craft impactful\, visually compellin
 g presentations and confidently present them. Participants will learn how 
 to leverage AI tools to streamline content creation\, enhance presentation
  design\, and deliver presentations with confidence and creativity.\nLearn
 ing Objectives\nBy the end of this course\, participants will:\n\n 	Unders
 tand how AI tools\, like ChatGPT and design platforms\, can enhance the pr
 esentation creation process.\n 	Master storytelling techniques to create a
  compelling narrative within presentations.\n 	Improve public speaking ski
 lls\, including effective delivery\, pacing\, and audience engagement.\n 	
 Learn to design visually captivating slides that complement the message an
 d foster engagement.\n 	Gain the ability to adapt presentations based on a
 udience feedback and needs\, using AI to fine-tune delivery and content.\n
 \nTraining Methodologies\nThe course combines interactive teaching methods
  to engage participants fully and ensure the learning is both comprehensiv
 e and practical:\n\n 	Hands-on Workshops: Participants will create present
 ations using AI tools in real-time\, applying the concepts taught.\n 	Live
  Demonstrations: Demonstrating how to use AI tools for content generation\
 , design\, and enhancing presentation delivery.\n 	Role-Playing: Participa
 nts will practice their presentation skills in realistic scenarios\, recei
 ving peer and instructor feedback.\n 	Group Discussions: Discussions on ef
 fective storytelling techniques and how to adapt presentations for differe
 nt audience types.\n 	Self-Assessment and AI Coaching: Using AI tools to a
 ssess and improve presentation skills\, with personalized feedback.\n\nBen
 efits for You\n\n 	Proficiency in AI Tools: Learn to use cutting-edge AI t
 ools to streamline the creation of presentations and enhance design.\n 	Ma
 ster Storytelling: Develop compelling storytelling skills that make presen
 tations memorable and persuasive.\n 	Improved Public Speaking: Improve tec
 hniques like pacing\, voice modulation\, and body language to enhance audi
 ence engagement.\n 	Boost Creativity: Combine traditional presentation ski
 lls with innovative AI-driven design to create presentations that stand ou
 t.\n 	Increased Confidence: Gain confidence in presenting ideas clearly\, 
 persuasively\, and effectively to a wide range of audiences.\n\nBenefits f
 or Your Organization\n\n 	Enhanced Presentation Skills: Equip employees wi
 th the skills to create impactful presentations that drive results.\n 	Imp
 roved Communication: Foster better internal and external communication by 
 improving the quality and clarity of presentations.\n 	Increased Creativit
 y: Encourage creativity through AI tools that streamline design and conten
 t generation.\n 	Better Client Engagement: Improve presentations to client
 s\, investors\, and stakeholders\, ensuring stronger relationships and suc
 cessful outcomes.\n 	Time Efficiency: Speed up the presentation creation p
 rocess\, allowing more time for strategic planning and content refinement.
 \n\nTarget Audience\nThis course is ideal for professionals who want to im
 prove their presentation skills\, including:\n\n 	Business Professionals a
 nd Managers\n 	Marketing\, Sales\, and Communication Teams\n 	Entrepreneur
 s and Startups\n 	Educators and Trainers\n 	Anyone looking to improve thei
 r public speaking and presentation skills using AI tools\n\nCourse Outline
 s\nIntroduction to AI in Presentation Creation\n\n 	Overview of AI Tools: 
 Introduction to AI tools such as ChatGPT\, design platforms\, and speech a
 nalysis tools.\n 	Benefits of AI in Presentations: How AI can transform co
 ntent creation\, design\, and delivery\, making presentations more impactf
 ul.\n 	Xcelerate's Approach: How Xcelerate Training Institute integrates A
 I into professional development to maximize effectiveness in communication
 .\n\nStorytelling for Impact\n\n 	The Art of Storytelling: Structuring a n
 arrative\, using pacing\, and maintaining audience engagement throughout t
 he presentation.\n 	Leveraging AI for Story Creation: How to use AI tools 
 like ChatGPT to generate compelling narratives and ideas.\n 	Crafting a St
 ory for Different Audiences: Tailoring your message to meet the needs of v
 arious types of audience (e.g.\, clients\, colleagues\, investors).\n 	Wor
 kshop: Participants will craft a short presentation using AI-generated con
 tent.\n\nPublic Speaking Fundamentals\n\n 	Confident Delivery Techniques: 
 How to use body language\, voice modulation\, and eye contact to engage au
 diences.\n 	Overcoming Presentation Anxiety: Strategies to manage nerves a
 nd feel confident during your presentations.\n 	Interactive Exercises with
  AI-Driven Feedback: Participants will practice their public speaking skil
 ls with real-time AI-generated feedback on delivery.\n 	Role-Playing: Part
 icipants will present short speeches or sections of presentations\, receiv
 ing constructive feedback.\n\nLeveraging AI for Presentation Design\n\n 	U
 sing AI Design Platforms: Introduction to tools that help create visually 
 engaging slides and graphics with minimal effort.\n 	Integrating Data and 
 Visual Storytelling: How to use AI-generated graphics to complement data a
 nd enhance the visual storytelling aspect of your presentations.\n 	Design
 ing Cohesive Presentations: Tips and tools for creating consistent and pro
 fessional slide designs using AI.\n 	Workshop: Participants will design sl
 ides for a sample presentation using AI tools.\n\nAdvanced AI Tools for Pr
 esentation Enhancement\n\n 	Personalizing Presentations with AI: How to ad
 apt your presentation for different audiences using AI tools to refine con
 tent and tone.\n 	Interactive AI Features: AI-driven suggestions for impro
 ving presentation flow\, content clarity\, and engagement.\n 	Incorporatin
 g AI-Powered Analytics: Using AI to evaluate presentation delivery and sug
 gest improvements based on audience response.\n 	Final Presentations and A
 I-Driven Evaluation: Participants will present their projects with AI tool
 s\, receiving AI-driven evaluations and personalized feedback for improvem
 ent.\n\nCourse Copyright Notice\n© 2024 Xcelerate Training Institute. All
  rights reserved.\nThis material\, including all lectures\, presentations\
 , and workshops\, is copyrighted by Xcelerate Training Institute. No part 
 of this course may be reproduced\, distributed\, or transmitted in any for
 m without prior written consent from Xcelerate Training Institute. Unautho
 rized use or distribution of any part of this course will be subject to le
 gal action.\n\n&nbsp\;
ATTACH;FMTTYPE=image/jpeg:https://x8ti.com/wp-content/uploads/2025/04/IMG-
 20250331-WA0059-1.jpg
CATEGORIES:Trending
LOCATION:Barcelona Training Courses\, Le Méridien Barcelona Hotel\, Barcel
 ona\, Spain\, Spain
X-APPLE-STRUCTURED-LOCATION;VALUE=URI;X-ADDRESS=Le Méridien Barcelona Hote
 l\, Barcelona\, Spain\, Spain;X-APPLE-RADIUS=100;X-TITLE=Barcelona Trainin
 g Courses:geo:0,0
END:VEVENT
BEGIN:VTIMEZONE
TZID:Europe/Madrid
X-LIC-LOCATION:Europe/Madrid
BEGIN:DAYLIGHT
DTSTART:20260329T030000
TZOFFSETFROM:+0100
TZOFFSETTO:+0200
TZNAME:CEST
END:DAYLIGHT
END:VTIMEZONE
END:VCALENDAR