BEGIN:VCALENDAR
VERSION:2.0
PRODID:-//wp-events-plugin.com//7.2.3.1//EN
BEGIN:VEVENT
UID:2280@x8ti.com
DTSTART;TZID=Africa/Cairo:20261116T090000
DTEND;TZID=Africa/Cairo:20261120T130000
DTSTAMP:20260222T094326Z
URL:https://x8ti.com/event/piping-engineering-and-pipe-stress-analysis-tra
 ining-course-6/
SUMMARY:Piping Engineering and Pipe Stress Analysis Training Course
DESCRIPTION:Introduction\n\nPiping engineering and stress analysis play a v
 ital role in the safe and secure design of pressurized systems. It also im
 pacts the decision-making on piping specifications\, layouts\, support arr
 angements\, and determines the requirements for flexible joints and other 
 design elements.\n\nAlthough piping engineering has been well-known for it
 s extremely complex models and monograms to establish secure configuration
 s\, the analysis software available in today’s times makes it a lot less
  time-consuming and a lot more accurate.\n\nThis course provides delegates
  with the required background to comply with piping codes\, carry out stre
 ss analysis\, and solve any design issues after evaluating the requirement
 s for pipe stress analysis and an efficient process workflow within organi
 zations.\n\nHow can individuals make the most of this “Piping Engineerin
 g and Pipe Stress Analysis Certification Course”? To get the full benefi
 t of the use of this training program\, delegates should expect to obtain 
 a good understanding of piping systems\, their components\, the behavior o
 f mechanical components\, engineering models\, and any rules that form the
  requirements of a pipe stress analysis.\n\nThis Xcelerate Training Instit
 ute course will empower you with an insight into the world of piping engin
 eering and stress analysis\, piping components\, responsibilities of pipin
 g professionals\, piping engineering deliverables\, and interfaces with ot
 her departments.\n\nLearning Objectives\n\n 	Understand the fundamental me
 thods of pipe engineering and stress analysis\n 	Learn how to solve any de
 sign issues in pipe engineering\n 	Perform calculations to code for pressu
 re situations in piping design\n 	Set out an efficient and capable process
  for pipe stress analysis\n 	Determine the requirement for formal analysis
  tools\n 	Understand what are the loads that normally act on a piping syst
 em\n 	Learn about the types of stresses that foster in pipes and piping co
 mponents\n 	Understand the engineering approaches to mitigate thermal stre
 sses in pipes\n 	Practice how to calculate thermal expansion and thermal s
 tresses in a pipe\n 	Check models for errors and revise layouts to solve t
 hese issues\n 	Present findings and potential risks\n 	Identify the differ
 ent types of supports and basic guidelines of how to use them in piping sy
 stems\n\nTraining Methodology\n\n 	Lectures\n 	Videos\n 	Seminars &amp\; P
 resentations\n 	Group Discussions\n 	Assignments\n 	Case Studies &amp\; Fu
 nctional Exercises\n\nBenefits for Your Organization\n\n 	Benefit from tra
 ining your employees on the definition and importance of mechanical inform
 ation\, along with the different roles played within the Piping Engineerin
 g and Pipe Stress Analysis guidelines\n 	Document your Piping Engineering 
 and Pipe Stress Analysis information systematically and efficiently\n 	Imp
 rove productivity by teaching your staff about the Piping Engineering and 
 Pipe Stress Analysis work process and how it fits into the overall organiz
 ational work processes\n 	Achieve improved Piping Engineering and Pipe Str
 ess Analysis\, higher employee morale\, increased productivity\, and reduc
 ed costs of damage control\n 	Assess your Piping Engineering and Pipe Stre
 ss Analysis rating by evaluating its effectiveness to reduce injuries and 
 illnesses and identifying and eliminating workplace hazards\n 	Reduce the 
 damages caused by inadequate Piping Engineering and Pipe Stress Analysis p
 rocesses\n\nBenefits for You\n\n 	Master the knowledge and techniques to s
 ee the future of an effective Piping Engineering and Pipe Stress Analysis\
 n 	Learn how to do a good job with your machines and why it is important t
 o do so\n 	Learn tips\, tricks\, and concepts to help you succeed as a mec
 hanical analyst\n 	Make a valuable contribution to your organization by be
 ing in a position to determine if you should implement a program at your s
 ite\, or better understand an existing program\n 	Get an opportunity to wo
 rk through hands-on exercises in detail to gain the skills needed to facil
 itate a Piping Engineering and Pipe Stress Analysis\n 	Gain the skills to 
 plan\, manage\, facilitate\, and scribe for Piping Engineering and Pipe St
 ress Analysis\n\nTarget Audience\n\n 	Piping Design Engineers\n 	Designers
 \n 	Mechanical Engineers\n 	Project Engineers\n 	Engineering Analysts\n 	T
 echnicians\n 	Those who are involved in the calculation\, selection\, desi
 gn\, manufacturing\, quality\, safety\, and maintenance of equipment and m
 echanical systems\n\nCourse Outline\n\nINTRODUCTION TO PIPING ENGINEERING\
 n\n 	Introduction to Piping Engineering\n 	Understanding various piping co
 mponents\n 	Typical EPC organogram\n 	Major duties\, responsibilities &amp
 \; deliverables of piping discipline\n 	Piping interface with other discip
 lines (Input &amp\; outputs)\n\nMORE ABOUT PIPING SYSTEMS\n\n 	What is a p
 iping system?\n 	What is pipe stress analysis?\n 	Why is a piping stress a
 nalysis required?\n 	Challenges of piping stress analysis\n\nBASICS OF STR
 ENGTH OF MATERIALS\n\n 	Stress and strain\n 	Engineering stress/strain ver
 sus true stress/strain\n 	The ductile material stress-strain relationship\
 n 	Poisson’s ratio\n 	Modulus of elasticity\n 	Linear coefficient of the
 rmal expansion\n 	Stresses due to forces and moments\n 	Normal and shear s
 tresses over inclined planes\n 	Modes of failures\n\nASME B31 PIPING DESIG
 N CODES\n\n 	Introduction to design codes\n 	Code sections\n 	Overview and
  specifications of piping codes\n\nPIPING LOADS AND PIPING STRESSES\n\n 	P
 rimary loads in piping systems\n 	Secondary loads in piping systems\n 	Pri
 ncipal stresses in piping systems\n 	Pipe stresses due to pressure\n 	Pipe
  stresses owing to forces and moments\n 	Combined loads in piping systems\
 n 	Total stresses in piping systems\n 	Failure theories\n 	Stress categori
 es\n\nFLEXIBILITY ANALYSIS AND STRESS LIMITS\n\n 	Basics of thermal stress
 \n 	Techniques to mitigate thermal stresses in piping systems\n 	When is f
 ormal flexibility analysis required?\n 	Stress intensification factors and
  flexibility factors\n 	Allowable thermal stress range and piping codes\n 
 	Displacement stress range and piping codes\n 	Sustained stress limits and
  piping codes\n 	Occasional stress limits and piping codes\n\nPIPING SUPPO
 RTS AND RESTRAINTS\n\n 	Supports classifications\n 	Selection of pipe supp
 ort locations\n 	MSS pipe hangers and supports standards\n\n&nbsp\;
ATTACH;FMTTYPE=image/jpeg:https://x8ti.com/wp-content/uploads/2025/03/Pipi
 ng-Engineering-and-Pipe-Stress-Analysis-Training-Course.jpg
CATEGORIES:Mechanical Engineering
LOCATION:Cairo Training Courses\, Kempinski Nile Hotel Garden City Cairo\, 
 Cairo\, Egypt\, Egypt
X-APPLE-STRUCTURED-LOCATION;VALUE=URI;X-ADDRESS=Kempinski Nile Hotel Garden
  City Cairo\, Cairo\, Egypt\, Egypt;X-APPLE-RADIUS=100;X-TITLE=Cairo Train
 ing Courses:geo:0,0
END:VEVENT
BEGIN:VTIMEZONE
TZID:Africa/Cairo
X-LIC-LOCATION:Africa/Cairo
BEGIN:STANDARD
DTSTART:20251116T090000
TZOFFSETFROM:+0200
TZOFFSETTO:+0200
TZNAME:EET
END:STANDARD
END:VTIMEZONE
END:VCALENDAR