BEGIN:VCALENDAR
VERSION:2.0
PRODID:-//wp-events-plugin.com//7.2.3.1//EN
BEGIN:VEVENT
UID:543@x8ti.com
DTSTART;TZID=Asia/Riyadh:20261214T090000
DTEND;TZID=Asia/Riyadh:20261218T130000
DTSTAMP:20260202T161930Z
URL:https://x8ti.com/event/mission-critical-push-to-talk-mcptt/
SUMMARY:Mission-Critical Push-to-Talk (MCPTT)
DESCRIPTION:Introdction\nThis course by Xcelerate Training Institute focuse
 s on the integration of mission-critical push-to-talk (MCPTT) capabilities
  into LTE networks to enhance public safety communications. It explores th
 e challenges faced by traditional public safety networks in meeting the de
 mands of modern communication services\, such as high-speed data transfer 
 and multimedia. The course highlights the benefits of MCPTT in providing r
 eliable\, secure\, and efficient voice and data services for public safety
  personnel.\nLearning Objectives\nUpon completion\, participants will gain
  a comprehensive understanding of MCPTT technology\, its integration with 
 LTE networks\, and its application in public safety. They will be able to 
 evaluate the feasibility of implementing MCPTT solutions and develop strat
 egies for network modernization.\nTraining Methodology\nThe course combine
 s theoretical knowledge with practical examples to provide a comprehensive
  learning experience. Participants will engage in interactive discussions\
 , case studies\, and hands-on activities to apply their knowledge.\nBenefi
 ts for Your Organization\nOrganizations investing in this course can expec
 t improved network performance\, enhanced public safety capabilities\, and
  cost savings through optimized network infrastructure.\nBenefits for You\
 nIndividuals will develop expertise in MCPTT technology\, expanding their 
 career opportunities in the public safety and telecommunications industry.
 \nTarget Audience\nThis course is designed for professionals working in pu
 blic safety organizations\, network operators\, and system integrators inv
 olved in the planning and deployment of MCPTT and LTE networks.\nCourse Ou
 tline\nIntroduction to MCPTT\n\n 	Overview of MCPTT\n 	Importance of MCPTT
  in public safety\n 	Key features and benefits of MCPTT\n\n&nbsp\;\nMCPTT 
 Technology and Standards\n\n 	Understanding MCPTT technology\n 	3GPP stand
 ards for MCPTT\n 	Evolution from LMR to MCPTT\n\n&nbsp\;\nMCPTT Architectu
 re and Components\n\n 	MCPTT network architecture\n 	Core components and t
 heir functions\n 	Integration with existing communication systems\n\n&nbsp
 \;\nMCPTT Devices and Equipment\n\n 	Types of MCPTT devices\n 	Features an
 d specifications of MCPTT devices\n 	Hands-on training with MCPTT devices9
 \n\n&nbsp\;\nMCPTT Operation and Usage\n\n 	Basic operation of MCPTT devic
 es\n 	Making and receiving calls\n 	Group and broadcast calling\n 	Emergen
 cy alerts and notifications\n\n&nbsp\;\nSecurity and Reliability in MCPTT\
 n\n 	Ensuring secure communication\n 	Encryption and authentication method
 s\n 	Reliability and redundancy in MCPTT networks\n\n&nbsp\;\nAdvanced MCP
 TT Features\n\n 	Location tracking and sharing\n 	Real-time video communic
 ation\n 	Integration with other public safety tools (e.g.\, CAD\, situatio
 nal awareness apps)\n\n&nbsp\;\nPractical Exercises and Scenarios\n\n 	Sim
 ulated emergency scenarios\n 	Hands-on practice with MCPTT devices\n 	Team
 -based exercises and drills\n\n&nbsp\;\nMaintenance and Troubleshooting\n\
 n 	Routine maintenance of MCPTT devices\n 	Troubleshooting common issues\n
  	Best practices for device care and longevity\n\n&nbsp\;\nCourse Review a
 nd Assessment\n\n 	Recap of key concepts\n 	Final assessment and feedback\
 n 	Certification and next steps\n
ATTACH;FMTTYPE=image/jpeg:https://x8ti.com/wp-content/uploads/2024/11/IMG-
 20241019-WA0134.jpg
CATEGORIES:Telecommunication
LOCATION:http://online
END:VEVENT
BEGIN:VTIMEZONE
TZID:Asia/Riyadh
X-LIC-LOCATION:Asia/Riyadh
BEGIN:STANDARD
DTSTART:20251214T090000
TZOFFSETFROM:+0300
TZOFFSETTO:+0300
TZNAME:+03
END:STANDARD
END:VTIMEZONE
END:VCALENDAR